BEGIN:VCALENDAR
VERSION:2.0
METHOD:PUBLISH
PRODID:-//hacksw/handcal//NONSGML v1.0//EN
BEGIN:VEVENT
DTSTAMP:20260419T165616Z
DTSTART:20140518T073000Z
DTEND:20140518T101500Z
UID:20140518T073000Z-20140518T101500Z-297@www.runningsocks.de
SUMMARY:11. Burgbernheimer Berglauf
DESCRIPTION:Burgbernheimer Berglauf mit Crosslauf sowie Nordic Walking
 \nEine weitere\, sportliche Herausforderung im schönen Frankenland ! D
 ie anspruchsvolle Strecken verläuft zwischen Streuobstbäumen und im he
 rrlichen Mischwald über den Kappellenberg. Der Frigglessteig mit seine
 r 23 prozentigen Steigung fordert jeden Läufer und spätestens beim Ans
 tieg am Eisernen Kreuz geht es wirklich ans Eingemachte. Aber irgendwo
  müssen die 450HM auf 13\,6Km Streckenlänge ja herkommen :-)\nZeiten:\
 n\n\n\n\nStart\nDistanz (Km)\nWettbewerb\n\n\n09:30\n5\,7\nHobby Bergl
 auf + Nordic Walking\n\n\n09:45\n13\,6\nCrosslauf mit ca. 450HM\n\n\n1
 1:30\n1\,7\nSchülerlauf\, U10 - U12\n\n\n11:50\n1\,7\nSchülerlauf\, U1
 4 - U16\n\n\n12:15\n0\,6\nBambini\, U8\n\n\n\nStartgeld: folgt sobald 
 verfügbar\n\n\n\n\nWettbewerb\nStartgeld EUR\n\n\nHobby Berglauf + Nor
 dic Walking\nxx\n\n\nCrosslauf mit ca. 450HM\nxx\n\n\nSchülerlauf\, U1
 0 - U12\nxx\n\n\nSchülerlauf\, U14 - U16\nxx\n\n\nBambini\, U8\nxx\n\n
 \n\nAnmeldung:\nfolgt sobald verfügbar\nAusschreibung:\nfolgt sobald v
 erfügbar\nWeitere Infos und Online Anmeldung direkt beim Veranstalter:
  TSV 1877 Burgbernheim
X-ALT-DESC;FMTTYPE=text/html:<p style=text-align: center\;><strong>Bur
 gbernheimer Berglauf mit Crosslauf sowie Nordic Walking</strong></p>\n
 <p style=text-align: center\;>Eine weitere\, sportliche Herausforderun
 g im schönen Frankenland ! Die anspruchsvolle Strecken verläuft zwisch
 en Streuobstbäumen und im herrlichen Mischwald über den Kappellenberg.
  Der Frigglessteig mit seiner 23 prozentigen Steigung fordert jeden Lä
 ufer und spätestens beim Anstieg am Eisernen Kreuz geht es wirklich an
 s Eingemachte. Aber irgendwo müssen die 450HM auf 13\,6Km Streckenläng
 e ja herkommen :-)</p>\n<p style=text-align: left\;>Zeiten:</p>\n<tabl
 e border=0>\n<tbody>\n<tr><td style=text-align: center\;><strong>Start
 </strong></td>\n<td style=text-align: center\;><strong>Distanz (Km)</s
 trong></td>\n<td style=text-align: center\;><strong>Wettbewerb</strong
 ></td></tr>\n<tr><td style=text-align: center\;>09:30</td>\n<td style=
 text-align: center\;>5\,7</td>\n<td style=text-align: center\;>Hobby B
 erglauf + Nordic Walking</td></tr>\n<tr><td style=text-align: center\;
 >09:45</td>\n<td style=text-align: center\;>13\,6</td>\n<td style=text
 -align: center\;>Crosslauf mit ca. 450HM</td></tr>\n<tr><td style=text
 -align: center\;>11:30</td>\n<td style=text-align: center\;>1\,7</td>\
 n<td style=text-align: center\;>Schülerlauf\, U10 &#8211\; U12</td></t
 r>\n<tr><td style=text-align: center\;>11:50</td>\n<td style=text-alig
 n: center\;>1\,7</td>\n<td style=text-align: center\;>Schülerlauf\, U1
 4 &#8211\; U16</td></tr>\n<tr><td style=text-align: center\;>12:15</td
 >\n<td style=text-align: center\;>0\,6</td>\n<td style=text-align: cen
 ter\;>Bambini\, U8</td></tr>\n</tbody>\n</table>\n<p style=text-align:
  left\;>Startgeld: <span style=color: #ff0000\;>folgt sobald verfügbar
 </span></p>\n<table border=0>\n<tbody>\n<tr><td style=text-align: cent
 er\;><strong>Wettbewerb</strong></td>\n<td style=text-align: center\;>
 <strong>Startgeld EUR</strong></td></tr>\n<tr><td style=text-align: ce
 nter\;>Hobby Berglauf + Nordic Walking</td>\n<td style=text-align: cen
 ter\;>xx</td></tr>\n<tr><td style=text-align: center\;>Crosslauf mit c
 a. 450HM</td>\n<td style=text-align: center\;>xx</td></tr>\n<tr><td st
 yle=text-align: center\;>Schülerlauf\, U10 &#8211\; U12</td>\n<td styl
 e=text-align: center\;>xx</td></tr>\n<tr><td style=text-align: center\
 ;>Schülerlauf\, U14 &#8211\; U16</td>\n<td style=text-align: center\;>
 xx</td></tr>\n<tr><td style=text-align: center\;>Bambini\, U8</td>\n<t
 d style=text-align: center\;>xx</td></tr>\n</tbody>\n</table>\n<p styl
 e=text-align: left\;>Anmeldung:</p>\n<p style=text-align: left\;><span
  style=color: #ff0000\;>folgt sobald verfügbar</span></p>\n<p style=te
 xt-align: left\;>Ausschreibung:</p>\n<p style=text-align: left\;><span
  style=color: #ff0000\;>folgt sobald verfügbar</span></p>\n<p style=te
 xt-align: left\;>Weitere Infos und Online Anmeldung direkt beim Verans
 talter: <a href=http://www.tsvburgbernheim.de/leicht_dream/pages/bergl
 auf_start.html target=_blank>TSV 1877 Burgbernheim</a></p>\n
URL:https://www.runningsocks.de/wordpress/terminkalender/eventsinglepa
 ge/?event_id=297&lang=de
ATTACH:https://www.runningsocks.de/wordpress/terminkalender/eventsingl
 epage/?event_id=297&lang=de
LOCATION:TSV Burgbernheim\, Kapellenberg\, Burgbernheim
END:VEVENT
END:VCALENDAR
