BEGIN:VCALENDAR
VERSION:2.0
METHOD:PUBLISH
PRODID:-//hacksw/handcal//NONSGML v1.0//EN
BEGIN:VEVENT
DTSTAMP:20260419T165411Z
DTSTART:20140315T123000Z
DTEND:20140315T140000Z
UID:20140315T123000Z-20140315T140000Z-298@www.runningsocks.de
SUMMARY:5. Post-SV-Frühjahrslauf
DESCRIPTION:Strecken:\n\n\n	Kinderlauf 1\,1 km\n	Schülerlauf 2\,1 km\n
 	Nordic Walking 5 Km\n	5- und 10-km-Lauf\n\nAusschreibung: Post SV Fru
 ehjahrslauf\nWeitere Info's und Online Anmeldung beim Veranstalter: Po
 st SV Triathlon
X-ALT-DESC;FMTTYPE=text/html:<p style=text-align: justify\;>Strecken:<
 /p>\n<ul>\n<li style=text-align: justify\;>Kinderlauf 1\,1 km</li>\n<l
 i style=text-align: justify\;>Schülerlauf 2\,1 km</li>\n<li style=text
 -align: justify\;>Nordic Walking 5 Km</li>\n<li style=text-align: just
 ify\;>5- und 10-km-Lauf</li>\n</ul>\n<p style=text-align: justify\;>Au
 sschreibung: <a href=http://www.fruehjahrslauf.com/ target=_blank>Post
  SV Fruehjahrslauf</a></p>\n<p style=text-align: justify\;>Weitere Inf
 o&#8217\;s und Online Anmeldung beim Veranstalter: <a href=http://www.
 fruehjahrslauf.com/ target=_blank>Post SV Triathlon</a></p>\n
URL:https://www.runningsocks.de/wordpress/terminkalender/eventsinglepa
 ge/?event_id=298&lang=de
ATTACH:https://www.runningsocks.de/wordpress/terminkalender/eventsingl
 epage/?event_id=298&lang=de
LOCATION:Volkspark Marienberg\, Volkspark Marienberg\, Nürnberg
END:VEVENT
END:VCALENDAR
