BEGIN:VCALENDAR
VERSION:2.0
METHOD:PUBLISH
PRODID:-//hacksw/handcal//NONSGML v1.0//EN
BEGIN:VEVENT
DTSTAMP:20260419T165733Z
DTSTART:20140322T090000Z
DTEND:20140322T160000Z
UID:20140322T090000Z-20140322T160000Z-299@www.runningsocks.de
SUMMARY:14. Erlanger Winterwaldlauf
DESCRIPTION:Strecke:\n\nEbene Rundkurse durch Waldgebiet Brucker Lache
  auf gut belaufbaren Waldwegen mit km-Schildern\; Start und Ziel am Pf
 arrzentrum St. Marien\n\nIn Kürze:\n\n\n\nLauf\nStreckenlänge\nStartze
 it\nGebühr €\n\n\n(Nordic) Walking\n5 oder 10 km\n10:00\n4\,00\n\n\nKi
 nderläufe um Johnny-Pokal\n1\,0 km\n11:45\n-\n\n\nKinderläufe um Johnn
 y-Pokal\n1\,7 km\n12:00\n-\n\n\nJugendlauf der Allianz\n5 km\n12:15\n-
 \n\n\nSparkassenlauf\n15 km\n13:00\n12\,00*\n\n\nSiemenslauf\n10 Km\n1
 5:45\n10\,00*\n\n\nEisertstaffel\n2 x 5Km\n15:45\n14\,00*\n\n\n* 2\,00
  Euro Bonus auf Anmeldungen bis 02. März 2014 für 15 km\, 10 km (Einze
 l\, Staffel)\n\n\n\n \n\nAktuelle Info's sowie Online Anmeldung auf de
 r Seite des Veranstalters: SGS Leichtathletik\n\nTeilnehmerlimit: 1200
 \nMeldeschluß für Onlineanmeldung: 16.03.2014
X-ALT-DESC;FMTTYPE=text/html:<p><span style=text-decoration: underline
 \;><strong>Strecke</strong></span><span style=font-size: small\;><span
  style=font-family: Arial\;>:</span></span><br>\n<br>\nEbene Rundkurse
  durch Waldgebiet &#8222\;Brucker Lache&#8220\; auf gut belaufbaren Wa
 ldwegen mit km-Schildern\; Start und Ziel am Pfarrzentrum St. Marien</
 p>\n<p><span style=text-decoration: underline\;><strong>In Kürze:</str
 ong></span></p>\n<table border=0 align=center>\n<tbody>\n<tr><td><stro
 ng>Lauf</strong></td>\n<td style=text-align: center\;><strong>Strecken
 länge</strong></td>\n<td style=text-align: center\;><strong>Startzeit<
 /strong></td>\n<td style=text-align: center\;><strong>Gebühr €</strong
 ></td></tr>\n<tr><td><strong>(Nordic) Walking</strong></td>\n<td style
 =text-align: center\;>5 oder 10 km</td>\n<td style=text-align: center\
 ;>10:00</td>\n<td style=text-align: center\;>4\,00</td></tr>\n<tr><td>
 <strong>Kinderläufe um Johnny-Pokal</strong></td>\n<td style=text-alig
 n: center\;>1\,0 km</td>\n<td style=text-align: center\;>11:45</td>\n<
 td style=text-align: center\;>&#8211\;</td></tr>\n<tr><td><strong><str
 ong>Kinderläufe um Johnny-Pokal</strong></strong></td>\n<td style=text
 -align: center\;>1\,7 km</td>\n<td style=text-align: center\;>12:00</t
 d>\n<td style=text-align: center\;>&#8211\;</td></tr>\n<tr><td><strong
 ><strong>Jugendlauf der Allianz</strong></strong></td>\n<td style=text
 -align: center\;>5 km</td>\n<td style=text-align: center\;>12:15</td>\
 n<td style=text-align: center\;>&#8211\;</td></tr>\n<tr><td><strong>Sp
 arkassenlauf</strong></td>\n<td style=text-align: center\;>15 km</td>\
 n<td style=text-align: center\;>13:00</td>\n<td style=text-align: cent
 er\;>12\,00*</td></tr>\n<tr><td><strong></strong><strong>Siemenslauf</
 strong></td>\n<td style=text-align: center\;>10 Km</td>\n<td style=tex
 t-align: center\;>15:45</td>\n<td style=text-align: center\;>10\,00*</
 td></tr>\n<tr><td><strong>Eisertstaffel</strong></td>\n<td style=text-
 align: center\;>2 x 5Km</td>\n<td style=text-align: center\;>15:45</td
 >\n<td style=text-align: center\;>14\,00*</td></tr>\n<tr><td colspan=4
 >* 2\,00 Euro Bonus auf Anmeldungen bis 02. März 2014 für 15 km\, 10 k
 m (Einzel\, Staffel)</td></tr>\n</tbody>\n</table>\n<p>&nbsp\;</p>\n<p
 ><span style=font-size: small\;>Aktuelle Info&#8217\;s sowie <a href=h
 ttps://www.wkm-iad.de/wwl14_onlineanmeldung_d.php target=_blank>Online
  Anmeldung</a> auf der Seite des Veranstalters: <a href=http://www.win
 terwaldlauf.de/ target=_blank>SGS Leichtathletik</a></span></p>\n<p><s
 pan style=font-size: small\;>Teilnehmerlimit: 1200<br>\nMeldeschluß fü
 r Onlineanmeldung: 16.03.2014</span></p>\n
URL:https://www.runningsocks.de/wordpress/terminkalender/eventsinglepa
 ge/?event_id=299&lang=de
ATTACH:https://www.runningsocks.de/wordpress/terminkalender/eventsingl
 epage/?event_id=299&lang=de
LOCATION:Grundschule an der Brucker Lache\, Zeißstraße 51\, Erlangen
END:VEVENT
END:VCALENDAR
