BEGIN:VCALENDAR
VERSION:2.0
METHOD:PUBLISH
PRODID:-//hacksw/handcal//NONSGML v1.0//EN
BEGIN:VEVENT
DTSTAMP:20260419T165717Z
DTSTART:20140705T070000Z
DTEND:20140705T190000Z
UID:20140705T070000Z-20140705T190000Z-300@www.runningsocks.de
SUMMARY:6. 12h MTB Rennen - Schnaittach
DESCRIPTION:12 Stunden auf dem Mountainbike!\nAnmeldung geschlossen\, 
 Teilnehmerlimit erreicht !!\nAls Einzelfahrer oder im Team! Egal ob Pr
 ofi oder ambitionierte Breitensportler - Der Spaßfaktor steht im Vorde
 rgrund. Auf einem abgesteckten Rundkurs fahren die Mountainbikerinnen 
 und Mountainbiker innerhalb von 12 Stunden möglichst viele Runden. Wer
  am meisten Runden schafft ist Sieger.\n\nDie jährlich steigenden Teil
 nehmerzahlen beweisen es - diese Art von Mountainbike Rennen wird imme
 r beliebter. Daher wurde auch die Idee geboren\, ein eigenes 12h Renne
 n zu veranstalten. Inzwsichen geht das 12h Rennen in die x. Auflage.\n
 \nDer RC Schnaittach lädt daher alle Hobby- und Profibiker\, sowie all
 e Sportbegeisterte zu diesem Event ein.\nKurzinfo:\nTeams:\n\n	Einzels
 tarter (Damen\, Herren)\nEinzelstarter (Seniorinnen\, Senioren\nZweier
 -Team (Damen\, Herren\, Mixed)\nVierer–Team (Damen\, Herren\, Mixed)Es
  werden maximal 100 Teams zugelassen!\n\nStrecke:\n\nAusschließlich Wi
 ese\, Wald- und Schotterwege. Rundkurs mit ca. 7 km Länge und ca. 100 
 HM. Streckenlänge und Runden können vom Veranstalter geändert werden.\
 n\nStartgeld:\n\n	Einzelstarter           40\,00 € * / 50\,00 €\n	2er-
 Mannschaft      80\,00 € * / 100\,00 €\n	4er-Mannschaft     160\,00 € 
 * /200\,00 €\n\n* bei Anmeldung bis zum 31.05.2014. Das Startgeld bein
 haltet die Verpflegung der Teilnehmer während des Rennens.\n\nWeitere 
 Infos und Online Anmeldung beim Veranstalter: Radclub Schnaittachtal e
 .V.
X-ALT-DESC;FMTTYPE=text/html:<h3 style=text-align: center\;><span styl
 e=text-decoration: underline\;>12 Stunden auf dem Mountainbike!</span>
 </h3>\n<p style=text-align: center\;><span style=text-decoration: unde
 rline\;><span style=color: #ff0000\;><strong>Anmeldung geschlossen\, T
 eilnehmerlimit erreicht !!</strong></span></span></p>\n<p>Als Einzelfa
 hrer oder im Team! Egal ob &#8222\;Profi&#8220\; oder ambitionierte Br
 eitensportler &#8211\; Der Spaßfaktor steht im Vordergrund. Auf einem 
 abgesteckten Rundkurs fahren die Mountainbikerinnen und Mountainbiker 
 innerhalb von 12 Stunden möglichst viele Runden. Wer am meisten Runden
  schafft ist Sieger.</p>\n<p>Die jährlich steigenden Teilnehmerzahlen 
 beweisen es &#8211\; diese Art von Mountainbike Rennen wird immer beli
 ebter. Daher wurde auch die Idee geboren\, ein eigenes 12h Rennen zu v
 eranstalten. Inzwsichen geht das 12h Rennen in die x. Auflage.</p>\n<p
 >Der RC Schnaittach lädt daher alle Hobby- und Profibiker\, sowie alle
  Sportbegeisterte zu diesem Event ein.</p>\n<p style=text-align: justi
 fy\;><span style=text-decoration: underline\;>Kurzinfo:</span></p>\n<p
 ><strong>Teams:</strong></p>\n<ul>\n<li>Einzelstarter (Damen\, Herren)
 <br>\nEinzelstarter (Seniorinnen\, Senioren<br>\nZweier-Team (Damen\, 
 Herren\, Mixed)<br>\nVierer–Team (Damen\, Herren\, Mixed)Es werden <sp
 an style=text-decoration: underline\; color: #ff0000\;>maximal 100 Tea
 ms </span>zugelassen!</li>\n</ul>\n<p><strong>Strecke:</strong><br>\n<
 br>\nAusschließlich Wiese\, Wald- und Schotterwege. Rundkurs mit ca. 7
  km Länge und ca. 100 HM. Streckenlänge und Runden können vom Veransta
 lter geändert werden.</p>\n<p><strong>Startgeld:</strong></p>\n<ul>\n<
 li>Einzelstarter           40\,00 € * / 50\,00 €</li>\n<li>2er-Mannsch
 aft      80\,00 € * / 100\,00 €</li>\n<li>4er-Mannschaft     160\,00 €
  * /200\,00 €</li>\n</ul>\n<p>* bei Anmeldung bis zum 31.05.2014. Das 
 Startgeld beinhaltet die Verpflegung der Teilnehmer während des Rennen
 s.</p>\n<p>Weitere Infos und Online Anmeldung beim Veranstalter: <a hr
 ef=http://www.12h-rc-schnaittachtal.de/cms/website.php target=_blank>R
 adclub Schnaittachtal e.V.</a></p>\n
URL:https://www.runningsocks.de/wordpress/terminkalender/eventsinglepa
 ge/?event_id=300&lang=de
ATTACH:https://www.runningsocks.de/wordpress/terminkalender/eventsingl
 epage/?event_id=300&lang=de
LOCATION:An der Alle / Badstraße\, Badstraße 4\, Schnaittach
END:VEVENT
END:VCALENDAR
