BEGIN:VCALENDAR
VERSION:2.0
METHOD:PUBLISH
PRODID:-//hacksw/handcal//NONSGML v1.0//EN
BEGIN:VEVENT
DTSTAMP:20260419T165503Z
DTSTART:20140718T060000Z
DTEND:20140720T170000Z
UID:20140718T060000Z-20140720T170000Z-301@www.runningsocks.de
SUMMARY:2. Running SUN MTB Wochenende
DESCRIPTION:Das diesjährige MTB Wochenende führt uns in den Chiemgau. 
 Dort werden wir die Berge und Wege rund um den Hochgern\, Hochfellen\,
  Hochplatte unsicher machen.
X-ALT-DESC;FMTTYPE=text/html:<p>Das diesjährige MTB Wochenende führt u
 ns in den Chiemgau. Dort werden wir die Berge und Wege rund um den Hoc
 hgern\, Hochfellen\, Hochplatte unsicher machen.</p>\n
URL:https://www.runningsocks.de/wordpress/terminkalender/eventsinglepa
 ge/?event_id=301&lang=de
ATTACH:https://www.runningsocks.de/wordpress/terminkalender/eventsingl
 epage/?event_id=301&lang=de
LOCATION:Gästehaus Alpin\, Bahnhofstraße 24\, Bergen
END:VEVENT
END:VCALENDAR
