BEGIN:VCALENDAR
VERSION:2.0
METHOD:PUBLISH
PRODID:-//hacksw/handcal//NONSGML v1.0//EN
BEGIN:VEVENT
DTSTAMP:20260419T165211Z
DTSTART:20140601T104500Z
DTEND:20140601T120000Z
UID:20140601T104500Z-20140601T120000Z-302@www.runningsocks.de
SUMMARY:5. Run & Bike im Rahmen der Bayern Rundfahrt\, Finale in Nürnb
 erg
DESCRIPTION:Zum fünften Mal findet nun auf Grund des großen Erfolges a
 us den Vorjahren der Run and Bike in der Nürnberger Altstadt statt. Di
 e Veranstaltung findet auch dieses Jahr wieder im Rahmen des Finales d
 er Bayern Rundfahrt statt. Die Strecke entspricht der aus dem Vorjahr 
 und führt um den kompletten Altstadtring. Die Länge beträgt zwischen 1
 0Km (2 Runden) und 15Km (3 Runden) lang. Start und Ziel ist am Opernha
 us.\n\nWas ist ein Run & Bike?\n\nLäufer und Radfahrer teilen sich ein
  Fahrrad\, wobei der Abstand zwischen dem Läufer und dem Radfahrer nie
  mehr als 10 Meter betragen darf. Sie wechseln sich beliebig oft ab un
 d legen dabei gemeinsam die Strecke zurück.\n\nWann?\n\n	Startberechti
 gung: Mitmachen kann jeder ab 10 Jahren\n	Start: 12:45 Uhr\, Opernhaus
 \n	Ziel: Opernhaus (Zielschluß: 13:55 für beide Strecken !!)\n\nStreck
 en:\n\n	Strecke 1: 2 Altstadtrunden\, Länge 10 km\n	Strecke 2: 3 Altst
 adtrunden\, Länge 15\n\nStartgeld:\n\n	bis 20.03. : 20\,00 € pro Team\
 n	ab 21.03. bis 24.05. : 24\,00 € pro Team\n	Nachmeldung nur am 01.06.
  : 34\,00 € pro Team\n\nAnmeldungen und weitere Info's:\n\n	Anmeldunge
 n: hier geht's lang\n	Radrennen um die Nürnberger Altstadt: diesen Lin
 k anklicken \n\nAusschreibung:\n\n[wpfilebase tag=file path='fun/run-u
 nd-bike/20140601/20140601_ausschreibung_run_and_bike(2).pdf' /]
X-ALT-DESC;FMTTYPE=text/html:<p>Zum fünften Mal findet nun auf Grund d
 es großen Erfolges aus den Vorjahren der Run and Bike in der Nürnberge
 r Altstadt statt. Die Veranstaltung findet auch dieses Jahr wieder im 
 Rahmen des Finales der Bayern Rundfahrt statt. Die Strecke entspricht 
 der aus dem Vorjahr und führt um den kompletten Altstadtring. Die Läng
 e beträgt zwischen 10Km (2 Runden) und 15Km (3 Runden) lang. Start und
  Ziel ist am Opernhaus.</p>\n<p><strong>Was ist ein Run &amp\; Bike?</
 strong><br>\n<br>\nLäufer und Radfahrer teilen sich ein Fahrrad\, wobe
 i der Abstand zwischen dem Läufer und dem Radfahrer nie mehr als 10 Me
 ter betragen darf. Sie wechseln sich beliebig oft ab und legen dabei g
 emeinsam die Strecke zurück.</p>\n<p><span style=text-decoration: unde
 rline\;><strong>Wann?</strong></span></p>\n<ul>\n<li>Startberechtigung
 : Mitmachen kann jeder ab 10 Jahren</li>\n<li>Start: 12:45 Uhr\, Opern
 haus</li>\n<li>Ziel: Opernhaus (Zielschluß: 13:55 für beide Strecken !
 !)</li>\n</ul>\n<p><span style=text-decoration: underline\;><strong>St
 recken:</strong></span></p>\n<ul>\n<li>Strecke 1: 2 Altstadtrunden\, L
 änge 10 km</li>\n<li>Strecke 2: 3 Altstadtrunden\, Länge 15</li>\n</ul
 >\n<p><span style=text-decoration: underline\;><strong>Startgeld:</str
 ong></span></p>\n<ul>\n<li>bis 20.03. : 20\,00 € pro Team</li>\n<li>ab
  21.03. bis 24.05. : 24\,00 € pro Team</li>\n<li>Nachmeldung <strong>n
 ur am 01.06.</strong> : 34\,00 € pro Team</li>\n</ul>\n<p><span style=
 text-decoration: underline\;><strong>Anmeldungen und weitere Info&#821
 7\;s:</strong></span></p>\n<ul>\n<li>Anmeldungen: <a href=https://www.
 star-timing.de/index.php/events2014/run-and-bike-altstadt-2014 target=
 _blank>hier geht&#8217\;s lang</a></li>\n<li>Radrennen um die Nürnberg
 er Altstadt: <a href=http://www.nuernberg.de/internet/radrennen/ targe
 t=_blank>diesen Link anklicken </a></li>\n</ul>\n<p><strong>Ausschreib
 ung:</strong><br>\n<br>\n[wpfilebase tag=file path=&#8217\;fun/run-und
 -bike/20140601/20140601_ausschreibung_run_and_bike(2).pdf&#8216\; /]</
 p>\n
URL:https://www.runningsocks.de/wordpress/terminkalender/eventsinglepa
 ge/?event_id=302&lang=de
ATTACH:https://www.runningsocks.de/wordpress/terminkalender/eventsingl
 epage/?event_id=302&lang=de
LOCATION:Opernhaus Nürnberg\, Frauentorgraben\, Nürnberg
END:VEVENT
END:VCALENDAR
