BEGIN:VCALENDAR
VERSION:2.0
METHOD:PUBLISH
PRODID:-//hacksw/handcal//NONSGML v1.0//EN
BEGIN:VEVENT
DTSTAMP:20260419T165736Z
DTSTART;VALUE=DATE:20140615
DTEND;VALUE=DATE:20140616
UID:20140614T220000Z-20140615T215959Z-303@www.runningsocks.de
SUMMARY:16. Jura Radmarathon\, Lupburg
DESCRIPTION:Jura-Radmarathon - Die etwas andere Veranstaltung in famil
 iärer Atmosphäre\nAktueller Flyer und Streckenpläne zum 16. Jura Radma
 rathon rund um Lupburg:\n\n[wpfilebase tag=list id=213 pagenav=1 /]\nW
 eitere Info's und Onlineanmeldung beim Veranstalter: Sportverein 1959 
 Lupburg e.V
X-ALT-DESC;FMTTYPE=text/html:<p style=text-align: center\;><span style
 =font-size: 18px\;><em>&#8222\;Jura-Radmarathon &#8211\; Die etwas and
 ere Veranstaltung in familiärer Atmosphäre&#8220\;</em></span></p>\n<p
 >Aktueller Flyer und Streckenpläne zum 16. Jura Radmarathon rund um Lu
 pburg:</p>\n<p>[wpfilebase tag=list id=213 pagenav=1 /]</p>\n<p style=
 text-align: justify\;>Weitere Info&#8217\;s und Onlineanmeldung beim V
 eranstalter: <a href=http://www.jura-radmarathon.de target=_blank>Spor
 tverein 1959 Lupburg e.V</a></p>\n
URL:https://www.runningsocks.de/wordpress/terminkalender/eventsinglepa
 ge/?event_id=303&lang=de
ATTACH:https://www.runningsocks.de/wordpress/terminkalender/eventsingl
 epage/?event_id=303&lang=de
LOCATION:Schul- und Sportgelände\, Reiselbergweg 3\, Lupburg
END:VEVENT
END:VCALENDAR
