BEGIN:VCALENDAR
VERSION:2.0
METHOD:PUBLISH
PRODID:-//hacksw/handcal//NONSGML v1.0//EN
BEGIN:VEVENT
DTSTAMP:20260419T165515Z
DTSTART:20140501T080000Z
DTEND:20140501T110000Z
UID:20140501T080000Z-20140501T110000Z-304@www.runningsocks.de
SUMMARY:17. Moritzberglauf
DESCRIPTION:Der Moritzberglauf ist die Herausforderung für Läufer( inn
 en) der 10-km-Distanz und findet traditionell am 1. Mai statt. Zwische
  Start und Ziel sind 363 Höhenmeter zu überwinden. Details sh. Ausschr
 eibung.\n\nAusschreibung:\n\n[wpfilebase tag=file path='lauf/moritzber
 lauf/20140501/20140501_Moritzberglauf_Ausschreibung.pdf' /]\n\nStart: 
 \n\nLauf\, Industriestraße 32\, Soccerhalle Lauf\n\nZiel:\n\nMoritzber
 g\n\nDistanz:\n\n10Km\, Berglauf\, 363HM\n\nWeitere Info's beim Verans
 talter: Skiclub Lauf\n\nHistorie:\n\nZur Geschichte des Moritzberglauf
 es. Entstehung des Moritzberglaufes (Quelle: www.skiclub-lauf.de)\nDer
  Moritzberg bei Wikipedia. Der Berggasthof auf dem Moritzberg.
X-ALT-DESC;FMTTYPE=text/html:<p>Der Moritzberglauf ist die Herausforde
 rung für Läufer( innen) der 10-km-Distanz und findet traditionell am 1
 . Mai statt. Zwische Start und Ziel sind 363 Höhenmeter zu überwinden.
  Details sh. Ausschreibung.</p>\n<p><strong>Ausschreibung:</strong><br
 >\n<br>\n[wpfilebase tag=file path=&#8217\;lauf/moritzberlauf/20140501
 /20140501_Moritzberglauf_Ausschreibung.pdf&#8216\; /]</p>\n<p><strong>
 Start: </strong><br>\n<br>\nLauf\, Industriestraße 32\, Soccerhalle La
 uf</p>\n<p><strong>Ziel:</strong><br>\n<br>\nMoritzberg</p>\n<p><stron
 g>Distanz:</strong><br>\n<br>\n10Km\, Berglauf\, 363HM</p>\n<p>Weitere
  Info&#8217\;s beim Veranstalter: <a href=http://www.skiclub-lauf.de/i
 ndex.php?id=364 target=_blank>Skiclub Lauf</a></p>\n<p><strong>Histori
 e:</strong><br>\n<br>\nZur Geschichte des Moritzberglaufes. <a href=ht
 tps://www.runningsocks.de/wordpress/wp-content/uploads/2010/04/Geschic
 hte_Moritzberglauf.pdf>Entstehung des Moritzberglaufes</a> (Quelle: ww
 w.skiclub-lauf.de)</p>\n<p style=text-align: justify\;>Der Moritzberg 
 bei <a href=http://de.wikipedia.org/wiki/Moritzberg_(Frankenalb) targe
 t=_blank>Wikipedia</a>. Der <a href=http://www.berggasthof-moritzberg.
 de/ target=_blank>Berggasthof</a> auf dem Moritzberg.</p>\n
URL:https://www.runningsocks.de/wordpress/terminkalender/eventsinglepa
 ge/?event_id=304&lang=de
ATTACH:https://www.runningsocks.de/wordpress/terminkalender/eventsingl
 epage/?event_id=304&lang=de
LOCATION:Soccerhalle Lauf\, Industriestraße 32\, Lauf
END:VEVENT
END:VCALENDAR
