BEGIN:VCALENDAR
VERSION:2.0
METHOD:PUBLISH
PRODID:-//hacksw/handcal//NONSGML v1.0//EN
BEGIN:VEVENT
DTSTAMP:20260419T165717Z
DTSTART:20130501T080000Z
DTEND:20130501T110000Z
UID:20130501T080000Z-20130501T110000Z-305@www.runningsocks.de
SUMMARY:7. Moritzberglauf
DESCRIPTION:Der Moritzberglauf ist die Herausforderung für Läufer( inn
 en) der 10-km-Distanz und findet traditionell am 1. Mai statt. Zwische
 n Start und Ziel sind ca. 370 Höhenmeter zu überwinden. Details sh. Au
 sschreibung.\n\nAusschreibung:\n\n[wpfilebase tag=file path='lauf/mori
 tzberlauf/20140501/20140501_Moritzberglauf_Ausschreibung.pdf' /]\n\nSt
 art: \n\nAn der Soccerhalle Lauf\, Industriestraße 32\, 10:00\n\nZiel:
 \n\nMoritzberg\n\nDistanz:\n\n10Km\, Berglauf\, 363HM\n\nStartgeld:\n\
 n15 EUR inkl. Funktions - Shirt.\n\nMeldeschluß 27.04. Nachmeldungen a
 m Wettkampftag bis 09:00\, 3 EUR Nachmeldegebühr\n\nWeiteres:\n\nWeite
 re Info's beim Veranstalter: Skiclub Lauf\n\nOnline Anmeldung: Skiclub
  Lauf\n\nHistorie:\n\nZur Geschichte des Moritzberglaufes. Entstehung 
 des Moritzberglaufes (Quelle: www.skiclub-lauf.de)\nDer Moritzberg bei
  Wikipedia. Der Berggasthof auf dem Moritzberg (Homepage ist seit gera
 umer Zeit Offline)
X-ALT-DESC;FMTTYPE=text/html:<p>Der Moritzberglauf ist die Herausforde
 rung für Läufer( innen) der 10-km-Distanz und findet traditionell am 1
 . Mai statt. Zwischen Start und Ziel sind ca. 370 Höhenmeter zu überwi
 nden. Details sh. Ausschreibung.</p>\n<p><strong>Ausschreibung:</stron
 g><br>\n<br>\n[wpfilebase tag=file path=&#8217\;lauf/moritzberlauf/201
 40501/20140501_Moritzberglauf_Ausschreibung.pdf&#8216\; /]</p>\n<p><st
 rong>Start: </strong><br>\n<br>\nAn der &#8222\;Soccerhalle Lauf&#8220
 \;\, Industriestraße 32\, 10:00</p>\n<p><strong>Ziel:</strong><br>\n<b
 r>\nMoritzberg</p>\n<p><strong>Distanz:</strong><br>\n<br>\n10Km\, Ber
 glauf\, 363HM</p>\n<p><strong>Startgeld:</strong><br>\n<br>\n15 EUR in
 kl. Funktions &#8211\; Shirt.</p>\n<p>Meldeschluß 27.04. Nachmeldungen
  am Wettkampftag bis 09:00\, 3 EUR Nachmeldegebühr</p>\n<p><strong>Wei
 teres:</strong><br>\n<br>\nWeitere Info&#8217\;s beim Veranstalter: <a
  href=http://www.skiclub-lauf.de/derham.html target=_blank>Skiclub Lau
 f</a></p>\n<p>Online Anmeldung: <a href=http://www.skiclub-lauf.de/anm
 eldung.html target=_blank>Skiclub Lauf</a></p>\n<p><strong>Historie:</
 strong><br>\n<br>\nZur Geschichte des Moritzberglaufes. <a href=https:
 //www.runningsocks.de/wordpress/wp-content/uploads/2010/04/Geschichte_
 Moritzberglauf.pdf>Entstehung des Moritzberglaufes</a> (Quelle: <a hre
 f=http://www.skiclub-lauf.de/ueber-uns.html target=_blank>www.skiclub-
 lauf.de)</a></p>\n<p style=text-align: justify\;>Der Moritzberg bei <a
  href=http://de.wikipedia.org/wiki/Moritzberg_(Frankenalb) target=_bla
 nk>Wikipedia</a>. Der <a href=http://www.berggasthof-moritzberg.de/ ta
 rget=_blank>Berggasthof</a> auf dem Moritzberg (Homepage ist seit gera
 umer Zeit Offline)</p>\n
URL:https://www.runningsocks.de/wordpress/terminkalender/eventsinglepa
 ge/?event_id=305&lang=de
ATTACH:https://www.runningsocks.de/wordpress/terminkalender/eventsingl
 epage/?event_id=305&lang=de
LOCATION:Moritzberg\, Moritzberg\, Lauf
END:VEVENT
END:VCALENDAR
