BEGIN:VCALENDAR
VERSION:2.0
METHOD:PUBLISH
PRODID:-//hacksw/handcal//NONSGML v1.0//EN
BEGIN:VEVENT
DTSTAMP:20260419T165633Z
DTSTART:20140831T080000Z
DTEND:20140831T130000Z
UID:20140831T080000Z-20140831T130000Z-309@www.runningsocks.de
SUMMARY:28. Neustädter Volkstriathlon
DESCRIPTION:Anmeldung zum Triathlon ab 04.06.2014 geöffnet !!\nZeitpla
 n Samstag:\n14:30 - 16:00: Startnummernausgabe für alle aus der nähere
 n Umgebung\nZeitplan Sonntag:\n\n\n\n\n\n\n08:00 - 09:00\nStartnummern
 ausgabe\n\n\n\n\n09:15\nWettkampfbesprechung (Teilnahmepflicht)\n\n\n\
 n\n10:00\n1. Start zu Gruppen von 40 Teilnehmern | 8 Starter pro Bahn 
 | 5 Bahnen. Weitere Starts im Abstand von je 15 Minuten\n\n\n\n\nca. 1
 4:30\n\nSiegerehrung (Terrasse am Schwimmerbecken)\n\n\n\nDistanzen:\n
 Schwimmen\n400 m (8 Bahnen)\n\n\n\n\nRadfahren\n20 000 m (NEA-Neuschau
 erberg–NEA)\n\n\n\n\nLaufen\n5 000 m (Stadtpark\, südlich Freibad)\n\n
 \n\nTeilnahme:\nStartberechtigt sind Personen ab 16 Jahre\n\n\n\n\nSta
 rtgeld:\n25\,00 € über Lastschrifteinzug bei online-Anmeldung sonst si
 ehe Bankverbindung\n\n\nAnmeldung:\nhier geht's zum Meldeformular\n\n\
 nMeldeschluss:\n26. August - 23:55\n\n\nNachmeldungen:\n30\,00 € bei N
 achmeldung bzw. Zahlung nach Meldeschluss\n\n\nQuelle:\nAllen Infos vo
 n: http://www.dlrg-nea.de\n\n\n\n \n\n \n\n \n\n \n\n \n\n \n\n \n\n \
 n\n \n\n \n\n \n\n \n\n \n\nWeitere Info's und Onlineanmeldung beim Ve
 ranstalter: DLRG OV Neustadt a.d. Aisch
X-ALT-DESC;FMTTYPE=text/html:<p style=text-align: left\;>Anmeldung zum
  Triathlon ab 04.06.2014 geöffnet !!</p>\n<p style=text-align: left\;>
 <span style=color: #000000\;><span style=text-decoration: underline\;>
 <span style=font-size: small\;>Zeitplan Samstag:</span></span></span><
 /p>\n<p style=text-align: left\;>14:30 &#8211\; 16:00: Startnummernaus
 gabe für alle aus der näheren Umgebung</p>\n<p style=text-align: left\
 ;><span style=color: #000000\;><span style=text-decoration: underline\
 ;><span style=font-size: small\;>Zeitplan Sonntag:</span></span><stron
 g><span style=text-decoration: underline\;><br>\n</span></strong></spa
 n></p>\n<table style=width: 700px\; border=0 cellspacing=5 cellpadding
 =5 align=left>\n<tbody>\n<tr><td valign=top></td>\n<td><span style=fon
 t-size: small\;>08:00 &#8211\; 09:00</span></td>\n<td colspan=2 valign
 =top><span style=font-size: small\;>Startnummernausgabe</span></td>\n<
 td></td></tr>\n<tr><td valign=top></td>\n<td><span style=font-size: sm
 all\;>09:15</span></td>\n<td colspan=2><span style=font-size: small\;>
 Wettkampfbesprechung (Teilnahmepflicht)</span></td>\n<td></td></tr>\n<
 tr><td valign=top></td>\n<td valign=top><span style=font-size: small\;
 >10:00</span></td>\n<td colspan=2><span style=font-size: small\;>1. St
 art zu Gruppen von 40 Teilnehmern | 8 Starter pro Bahn | 5 Bahnen. Wei
 tere Starts im Abstand von je 15 Minuten</span></td>\n<td></td></tr>\n
 <tr><td valign=top></td>\n<td><span style=font-size: small\;>ca. 14:30
 <br>\n</span></td>\n<td colspan=2><span style=font-size: small\;>Siege
 rehrung (Terrasse am Schwimmerbecken)</span></td>\n<td></td></tr>\n<tr
 ><td valign=top><span style=font-size: small\;>Distanzen:</span></td>\
 n<td><span style=font-size: small\;>Schwimmen</span></td>\n<td colspan
 =2><span style=font-size: small\;>400 m (8 Bahnen)</span></td>\n<td></
 td></tr>\n<tr><td valign=top></td>\n<td><span style=font-size: small\;
 >Radfahren</span></td>\n<td colspan=2><span style=font-size: small\;>2
 0 000 m (NEA-Neuschauerberg–NEA)</span></td>\n<td></td></tr>\n<tr><td 
 valign=top></td>\n<td><span style=font-size: small\;>Laufen</span></td
 >\n<td colspan=2><span style=font-size: small\;>5 000 m (Stadtpark\, s
 üdlich Freibad)</span></td>\n<td></td></tr>\n<tr><td valign=top><span 
 style=font-size: small\;>Teilnahme:</span></td>\n<td colspan=3><span s
 tyle=font-size: small\;>Startberechtigt sind Personen ab 16 Jahre<br>\
 n</span></td>\n<td></td></tr>\n<tr><td valign=top><span style=font-siz
 e: small\;>Startgeld:</span></td>\n<td colspan=4><span style=font-size
 : small\;>25\,00 € über Lastschrifteinzug bei online-Anmeldung sonst s
 iehe Bankverbindung</span></td></tr>\n<tr><td valign=top><span style=f
 ont-size: small\;>Anmeldung:</span></td>\n<td colspan=4><span style=fo
 nt-size: small\;>hier geht&#8217\;s zum <a href=http://www.dlrg-nea.de
 /neustaedter-volkstriathlon target=_blank>Meldeformular</a></span></td
 ></tr>\n<tr><td valign=top><span style=font-size: small\;>Meldeschluss
 :</span></td>\n<td colspan=4><span style=font-size: small\;>26. August
  &#8211\; 23:55</span></td></tr>\n<tr><td valign=top><span style=font-
 size: small\;>Nachmeldungen:</span></td>\n<td colspan=4><span style=fo
 nt-size: small\;>30\,00 € bei Nachmeldung bzw. Zahlung nach Meldeschlu
 ss</span></td></tr>\n<tr><td valign=top><span style=font-size: small\;
 >Quelle:</span></td>\n<td colspan=4><span style=font-size: small\;>All
 en Infos von: <a href=http://www.dlrg-nea.de/ target=_blank>http://www
 .dlrg-nea.de</a></span></td></tr>\n</tbody>\n</table>\n<p>&nbsp\;</p>\
 n<p>&nbsp\;</p>\n<p>&nbsp\;</p>\n<p>&nbsp\;</p>\n<p>&nbsp\;</p>\n<p>&n
 bsp\;</p>\n<p>&nbsp\;</p>\n<p>&nbsp\;</p>\n<p>&nbsp\;</p>\n<p>&nbsp\;<
 /p>\n<p>&nbsp\;</p>\n<p>&nbsp\;</p>\n<p>&nbsp\;</p>\n<p>Weitere Info&#
 8217\;s und Onlineanmeldung beim Veranstalter: <a href=http://www.dlrg
 -nea.de/ausschreibung-2013 target=_blank>DLRG OV Neustadt a.d. Aisch</
 a></p>\n
URL:https://www.runningsocks.de/wordpress/terminkalender/eventsinglepa
 ge/?event_id=309&lang=de
ATTACH:https://www.runningsocks.de/wordpress/terminkalender/eventsingl
 epage/?event_id=309&lang=de
LOCATION:Neustädter Waldbad\, Eilersweg 5\, Neustadt a. d. Aisch
END:VEVENT
END:VCALENDAR
