BEGIN:VCALENDAR
VERSION:2.0
METHOD:PUBLISH
PRODID:-//hacksw/handcal//NONSGML v1.0//EN
BEGIN:VEVENT
DTSTAMP:20260419T165314Z
DTSTART:20100704T080000Z
DTEND:20100704T110000Z
UID:20100704T080000Z-20100704T110000Z-31@www.runningsocks.de
SUMMARY:23. Hersbrucker Volkstriathlon
DESCRIPTION:23. Hersbrucker Volkstriathlon\n300 m - 20 km - 5 km\n\n\n
 	Schwimmen: Hersbrucker Badesee\n	Rad: Hersbrucker Badesee über Föhren
 bach\, Alfeld nach Waller\n	Laufen: Waller - Gravenbuch - Waller\n\nab
  TM/TW 15 für Jedermann\, auch Vereinslose\, Hobby- und Freizeitsportl
 er\, Einzel- und Staffelmeldungen möglich\n\nLiebe Sportsfreunde\,\n\n
 der DAV Hersbruck würde sich sehr freuen\, wenn Ihr wieder so zahlreic
 h wie die Jahre zuvor teilnehmt. Der Staffelwettbewerb war sehr belieb
 t und wird heuer  wieder durchgeführt.\n\nHeuer ist wieder die Onlinea
 nmeldung möglich.\n\nBitte nutzt diese Möglichkeit. Die Ausschreibung 
 ist hier\, als auch auf der Seite des Veranstalters  hinterlegt. Melde
 t ein Verein eine Gruppe könnte Ihr das wie bisher per Mail an Herrn S
 tocker direkt machen.\nOrganisation:  Heiner Stocker 09151/814680  ode
 r 0151-58964477\nWeitere Info's und Anmeldung beim Veranstalter: DAV H
 ersbruck oder über das Meldeblatt
X-ALT-DESC;FMTTYPE=text/html:<p style=text-align: justify\;>23. Hersbr
 ucker Volkstriathlon</p>\n<p style=text-align: justify\;>300 m &#8211\
 ; 20 km &#8211\; 5 km</p>\n<ul>\n<li style=text-align: justify\;>Schwi
 mmen: Hersbrucker Badesee</li>\n<li style=text-align: justify\;>Rad: H
 ersbrucker Badesee über Föhrenbach\, Alfeld nach Waller</li>\n<li styl
 e=text-align: justify\;>Laufen: Waller &#8211\; Gravenbuch &#8211\; Wa
 ller</li>\n</ul>\n<p>ab TM/TW 15 für Jedermann\, auch Vereinslose\, Ho
 bby- und Freizeitsportler\, Einzel- und Staffelmeldungen möglich</p>\n
 <p>Liebe Sportsfreunde\,</p>\n<p>der DAV Hersbruck würde sich sehr fre
 uen\, wenn Ihr wieder so zahlreich wie die Jahre zuvor teilnehmt. Der 
 Staffelwettbewerb war sehr beliebt und wird heuer  wieder durchgeführt
 .</p>\n<p>Heuer ist wieder die Onlineanmeldung möglich.</p>\n<p>Bitte 
 nutzt diese Möglichkeit. Die <a title=Ausschreibung href=https://www.r
 unningsocks.de/wordpress/wp-content/uploads/2010/03/a_tri_23.pdf>Aussc
 hreibung</a> ist hier\, als auch auf der Seite des Veranstalters  hint
 erlegt. Meldet ein Verein eine Gruppe könnte Ihr das wie bisher per Ma
 il an Herrn Stocker direkt machen.</p>\n<p style=text-align: justify\;
 ><span style=font-family: Verdana\,Arial\,Helvetica\,sans-serif\;>Orga
 nisation:  <a title=Email an Heiner Stocker href=mailto:heiner@stocker
 online.de>Heiner Stocker</a> 09151/814680  oder 0151-58964477</span></
 p>\n<p style=text-align: justify\;>Weitere Info&#8217\;s und Anmeldung
  beim Veranstalter: <a href=http://www.dav-hersbruck.de/sites/triathlo
 n/m_volkstriathlon.HTM target=_blank>DAV Hersbruck</a> oder über das <
 a href=https://www.runningsocks.de/wordpress/wp-content/uploads/2010/0
 3/Meldeblatt.pdf>Meldeblatt</a></p>\n
URL:https://www.runningsocks.de/wordpress/terminkalender/eventsinglepa
 ge/?event_id=31&lang=de
ATTACH:https://www.runningsocks.de/wordpress/terminkalender/eventsingl
 epage/?event_id=31&lang=de
LOCATION:Happurger Baggersee\, Bagger See\, Happurg
END:VEVENT
END:VCALENDAR
