BEGIN:VCALENDAR
VERSION:2.0
METHOD:PUBLISH
PRODID:-//hacksw/handcal//NONSGML v1.0//EN
BEGIN:VEVENT
DTSTAMP:20260419T165411Z
DTSTART;VALUE=DATE:20140618
DTEND;VALUE=DATE:20140623
UID:20140617T220000Z-20140622T215959Z-310@www.runningsocks.de
SUMMARY:17. Fränkisches Bierfest Nürnberg
DESCRIPTION:In drei Wochen ist es wieder soweit. Das 16. Fränkische Bi
 erfest Nürnberg schlägt seine Zelte / Schirme im Burggraben zwischen T
 iergärtner Tor und Maxtor auf. Etwa 40 Brauereien bieten über 100 vers
 chiedene Biersorten an - somit sollte für jedne GEschmack etwas dabei 
 sein.\n\nDie Öffnungszeiten lassen jedem Zeit für einen Besuch:\n\n\n\
 n18.06.\nMittwoch\nab 17:00\n\n\n19.06.\nDonnerstag\nab 11:00\n\n\n20.
 06.\nFreitag\nab 14:30\n\n\n21.06.\nSaamstag\nab 12:00\n\n\n22.06.\nSo
 nntag\nab 11:00\n\n\n\n\nAb 23:00 ist dann aber leider Feierabend :-(\
 n\nAlle aktuellen Infos\, Veranstaltungsprogramm sowie teilnehmende Br
 auereien siehe hier: Fränkisches Bierfest Nürnberg
X-ALT-DESC;FMTTYPE=text/html:<p>In drei Wochen ist es wieder soweit. D
 as 16. Fränkische Bierfest Nürnberg schlägt seine Zelte / Schirme im B
 urggraben zwischen Tiergärtner Tor und Maxtor auf. Etwa 40 Brauereien 
 bieten über 100 verschiedene Biersorten an &#8211\; somit sollte für j
 edne GEschmack etwas dabei sein.</p>\n<p>Die Öffnungszeiten lassen jed
 em Zeit für einen Besuch:</p>\n<table style=height: 221px>\n<tbody>\n<
 tr><td style=text-align: left>18.06.</td>\n<td style=text-align: left>
 Mittwoch</td>\n<td style=text-align: left>ab 17:00</td></tr>\n<tr><td>
 19.06.</td>\n<td>Donnerstag</td>\n<td>ab 11:00</td></tr>\n<tr><td>20.0
 6.</td>\n<td>Freitag</td>\n<td>ab 14:30</td></tr>\n<tr><td style=text-
 align: left>21.06.</td>\n<td style=text-align: left>Saamstag</td>\n<td
  style=text-align: left>ab 12:00</td></tr>\n<tr><td>22.06.</td>\n<td>S
 onntag</td>\n<td>ab 11:00<strong><span style=color: #da1e00><br>\n</sp
 an></strong></td></tr>\n</tbody>\n</table>\n<p>Ab 23:00 ist dann aber 
 leider Feierabend :-(</p>\n<p>Alle aktuellen Infos\, Veranstaltungspro
 gramm sowie teilnehmende Brauereien siehe hier: <a href=http://www.bie
 rfest-nuernberg.de/ target=_blank rel=noopener>Fränkisches Bierfest Nü
 rnberg</a></p>\n
URL:https://www.runningsocks.de/wordpress/terminkalender/eventsinglepa
 ge/?event_id=310&lang=de
ATTACH:https://www.runningsocks.de/wordpress/terminkalender/eventsingl
 epage/?event_id=310&lang=de
LOCATION:Burggraben unterhalb der Kaiserburg\, Auf der Burg 13\, Nürnb
 erg
END:VEVENT
END:VCALENDAR
