BEGIN:VCALENDAR
VERSION:2.0
METHOD:PUBLISH
PRODID:-//hacksw/handcal//NONSGML v1.0//EN
BEGIN:VEVENT
DTSTAMP:20260419T165630Z
DTSTART:20150509T050000Z
DTEND:20150509T150000Z
UID:20150509T050000Z-20150509T150000Z-311@www.runningsocks.de
SUMMARY:16. Landkreislauf Nürnberger Land
DESCRIPTION:Am 09. Mai findet der heuer der 16. Landkreislauf Nürnberg
 er Land statt. Start der ersten Etappe ist dieses Jahr am Sportplatz i
 n Kirchensittenbach\, das Ziel befindet sich in Offenhausen\, wo die ö
 rtliche Freiwillige Feuerwehr ihr 125-jähriges Gründungsfest feiert.\n
 \nDie Streckenabschnitte:\n         \n\n\nNr\nvon\nnach\nkm\nUhrzeit\n
 Strecken\nHM bergauf\nHM bergab\n\n\n1\n Kirchensittenbach\nUnterkrumb
 ach\n3\,7\n07:00\n[wpfilebase tag=file path='lauf/landkreislauf-nuernb
 erger-land/20150509/E1_Kirchensittenbach-Unterkrumbach.pdf' tpl=thumbn
 ail /]\n 25\n 57\n\n\n2\nUnterkrumbach\nAlfalter\n 7\,3\n 07:40\n [wpf
 ilebase tag=file path='lauf/landkreislauf-nuernberger-land/20150509/E2
 _Unterkrumbach-Alfalter.pdf' tpl=thumbnail /]\n190\n174\n\n\n3\n Alfal
 ter\nVorra\n 5\,3\n08:50\n  [wpfilebase tag=file path='lauf/landkreisl
 auf-nuernberger-land/20150509/E3_Alfalter-Vorra.pdf' tpl=thumbnail /]\
 n 14\n26\n\n\n4\n Vorra\nEschenbach\n 6\,4\n 09:45\n  [wpfilebase tag=
 file path='lauf/landkreislauf-nuernberger-land/20150509/E4_Vorra-Esche
 nbach.pdf' tpl=thumbnail /]\n 25\n37\n\n\n5\n Eschenbach\nPommelsbrunn
 \n 3\,2\n 11:00\n [wpfilebase tag=file path='lauf/landkreislauf-nuernb
 erger-land/20150509/E5_Eschenbach-Pommelsbrunn.pdf' tpl=thumbnail /]\n
  6\n6\n\n\n6\n Pommelsbrunn\n Happurg\n 4\,2\n 11:40\n  [wpfilebase ta
 g=file path='lauf/landkreislauf-nuernberger-land/20150509/E6_Pommelsbr
 unn-Happurg.pdf' tpl=thumbnail /]\n16\n18\n\n\n7\n Happurg\n Hersbruck
 -Weiher\n 6\,7\n 12:30\n [wpfilebase tag=file path='lauf/landkreislauf
 -nuernberger-land/20150509/E7_Happurg-Weiher.pdf' tpl=thumbnail /]\n 1
 08\n104\n\n\n8\n Hersbruck-Weiher\nHenfenfeld\n 4\,6\n 13:45\n [wpfile
 base tag=file path='lauf/landkreislauf-nuernberger-land/20150509/E8_We
 iher-Henfenfeld.pdf' tpl=thumbnail /]\n139\n109\n\n\n9\n Henfenfeld\nE
 ngelthal\n 5\,6\n14:45\n [wpfilebase tag=file path='lauf/landkreislauf
 -nuernberger-land/20150509/E9_Henfenfeld-Engelthal.pdf' tpl=thumbnail 
 /]\n 99\n70\n\n\n10\n Engelthal\nOffenhausen\n 4\,7\n 15:45\n [wpfileb
 ase tag=file path='lauf/landkreislauf-nuernberger-land/20150509/E10_En
 gelthal-Offenhausen.pdf' tpl=thumbnail /]\n102\n113\n\n\n\n\n\n\n\n\n\
 n\n\n\n\n\nGesamt:\n51\,7\n \n\n\n\n\n\n\nAchtung: Änderungen sind jed
 erzeit möglich. Aktuelle Informationen nur auf der Seite des Veranstal
 ters: Landkreislauf Nürnberger Land\n\nDie Strecken:\n\n[wpfilebase ta
 g=list id=228 tpl=data-table pagenav=1 sort='
X-ALT-DESC;FMTTYPE=text/html:<p>Am 09. Mai findet der heuer der 16. La
 ndkreislauf Nürnberger Land statt. Start der ersten Etappe ist dieses 
 Jahr am Sportplatz in Kirchensittenbach\, das Ziel befindet sich in Of
 fenhausen\, wo die örtliche Freiwillige Feuerwehr ihr 125-jähriges Grü
 ndungsfest feiert.</p>\n<p>Die Streckenabschnitte:</p>\n<table style=w
 idth: 689px\; height: 341px\; border=0 cellspacing=0 cellpadding=0>\n<
 colgroup>\n<col width=29 />\n<col width=184 />\n<col width=166 />\n<co
 l width=41 />\n<col width=56 />\n<col width=140 />\n<col width=81 />\n
 <col width=96 /> </colgroup>\n<tbody>\n<tr><td style=text-align: cente
 r\; width=29 height=20><strong>Nr</strong></td>\n<td style=text-align:
  center\; width=184><strong>von</strong></td>\n<td style=text-align: c
 enter\; width=166><strong>nach</strong></td>\n<td style=text-align: ce
 nter\; width=41><strong>km</strong></td>\n<td style=text-align: center
 \; width=56><strong>Uhrzeit</strong></td>\n<td style=text-align: cente
 r\; width=140><strong>Strecken</strong></td>\n<td style=text-align: ce
 nter\; width=81><strong>HM </strong><strong>bergauf</strong></td>\n<td
  style=text-align: center\; width=96><strong>HM </strong><strong>berga
 b</strong></td></tr>\n<tr><td style=text-align: center\; width=29 heig
 ht=38>1</td>\n<td style=text-align: center\; width=184> Kirchensittenb
 ach</td>\n<td style=text-align: center\; width=166>Unterkrumbach</td>\
 n<td style=text-align: center\; width=41>3\,7</td>\n<td style=text-ali
 gn: center\; width=56>07:00</td>\n<td style=text-align: center\; width
 =140>[wpfilebase tag=file path=&#8217\;lauf/landkreislauf-nuernberger-
 land/20150509/E1_Kirchensittenbach-Unterkrumbach.pdf&#8216\; tpl=thumb
 nail /]</td>\n<td style=text-align: center\; width=81> 25</td>\n<td st
 yle=text-align: center\; width=96> 57</td></tr>\n<tr><td style=text-al
 ign: center\; width=29 height=23>2</td>\n<td style=text-align: center\
 ; width=184>Unterkrumbach</td>\n<td style=text-align: center\; width=1
 66>Alfalter</td>\n<td style=text-align: center\; width=41> 7\,3</td>\n
 <td style=text-align: center\; width=56> 07:40</td>\n<td style=text-al
 ign: center\; width=140> [wpfilebase tag=file path=&#8217\;lauf/landkr
 eislauf-nuernberger-land/20150509/E2_Unterkrumbach-Alfalter.pdf&#8216\
 ; tpl=thumbnail /]</td>\n<td style=text-align: center\; width=81>190</
 td>\n<td style=text-align: center\; width=96>174</td></tr>\n<tr><td st
 yle=text-align: center\; width=29 height=22>3</td>\n<td style=text-ali
 gn: center\; width=184> Alfalter</td>\n<td style=text-align: center\; 
 width=166>Vorra</td>\n<td style=text-align: center\; width=41> 5\,3</t
 d>\n<td style=text-align: center\; width=56>08:50</td>\n<td style=text
 -align: center\; width=140>  [wpfilebase tag=file path=&#8217\;lauf/la
 ndkreislauf-nuernberger-land/20150509/E3_Alfalter-Vorra.pdf&#8216\; tp
 l=thumbnail /]</td>\n<td style=text-align: center\;> 14</td>\n<td styl
 e=text-align: center\;>26</td></tr>\n<tr><td style=text-align: center\
 ; width=29 height=23>4</td>\n<td style=text-align: center\; width=184>
  Vorra</td>\n<td style=text-align: center\; width=166>Eschenbach</td>\
 n<td style=text-align: center\; width=41> 6\,4</td>\n<td style=text-al
 ign: center\; width=56> 09:45</td>\n<td style=text-align: center\; wid
 th=140>  [wpfilebase tag=file path=&#8217\;lauf/landkreislauf-nuernber
 ger-land/20150509/E4_Vorra-Eschenbach.pdf&#8216\; tpl=thumbnail /]</td
 >\n<td style=text-align: center\; width=81> 25</td>\n<td style=text-al
 ign: center\; width=96>37</td></tr>\n<tr><td style=text-align: center\
 ; width=29 height=22>5</td>\n<td style=text-align: center\; width=184>
  Eschenbach</td>\n<td style=text-align: center\; width=166>Pommelsbrun
 n</td>\n<td style=text-align: center\; width=41> 3\,2</td>\n<td style=
 text-align: center\; width=56> 11:00</td>\n<td style=text-align: cente
 r\; width=140> [wpfilebase tag=file path=&#8217\;lauf/landkreislauf-nu
 ernberger-land/20150509/E5_Eschenbach-Pommelsbrunn.pdf&#8216\; tpl=thu
 mbnail /]</td>\n<td style=text-align: center\; width=81> 6</td>\n<td s
 tyle=text-align: center\; width=96>6</td></tr>\n<tr><td style=text-ali
 gn: center\; width=29 height=23>6</td>\n<td style=text-align: center\;
  width=184> Pommelsbrunn</td>\n<td style=text-align: center\; width=16
 6> Happurg</td>\n<td style=text-align: center\; width=41> 4\,2</td>\n<
 td style=text-align: center\; width=56> 11:40</td>\n<td style=text-ali
 gn: center\; width=140>  [wpfilebase tag=file path=&#8217\;lauf/landkr
 eislauf-nuernberger-land/20150509/E6_Pommelsbrunn-Happurg.pdf&#8216\; 
 tpl=thumbnail /]</td>\n<td style=text-align: center\; width=81>16</td>
 \n<td style=text-align: center\; width=96>18</td></tr>\n<tr><td style=
 text-align: center\; width=29 height=23>7</td>\n<td style=text-align: 
 center\; width=184> Happurg</td>\n<td style=text-align: center\; width
 =166> Hersbruck-Weiher</td>\n<td style=text-align: center\; width=41> 
 6\,7</td>\n<td style=text-align: center\; width=56> 12:30</td>\n<td st
 yle=text-align: center\; width=140> [wpfilebase tag=file path=&#8217\;
 lauf/landkreislauf-nuernberger-land/20150509/E7_Happurg-Weiher.pdf&#82
 16\; tpl=thumbnail /]</td>\n<td style=text-align: center\; width=81> 1
 08</td>\n<td style=text-align: center\; width=96>104</td></tr>\n<tr><t
 d style=text-align: center\; width=29 height=23>8</td>\n<td style=text
 -align: center\; width=184> Hersbruck-Weiher</td>\n<td style=text-alig
 n: center\; width=166>Henfenfeld</td>\n<td style=text-align: center\; 
 width=41> 4\,6</td>\n<td style=text-align: center\; width=56> 13:45</t
 d>\n<td style=text-align: center\; width=140> [wpfilebase tag=file pat
 h=&#8217\;lauf/landkreislauf-nuernberger-land/20150509/E8_Weiher-Henfe
 nfeld.pdf&#8216\; tpl=thumbnail /]</td>\n<td style=text-align: center\
 ; width=81>139</td>\n<td style=text-align: center\; width=96>109</td><
 /tr>\n<tr><td style=text-align: center\; width=29 height=23>9</td>\n<t
 d style=text-align: center\; width=184> Henfenfeld</td>\n<td style=tex
 t-align: center\; width=166>Engelthal</td>\n<td style=text-align: cent
 er\; width=41> 5\,6</td>\n<td style=text-align: center\; width=56>14:4
 5</td>\n<td style=text-align: center\; width=140> [wpfilebase tag=file
  path=&#8217\;lauf/landkreislauf-nuernberger-land/20150509/E9_Henfenfe
 ld-Engelthal.pdf&#8216\; tpl=thumbnail /]</td>\n<td style=text-align: 
 center\; width=81> 99</td>\n<td style=text-align: center\; width=96>70
 </td></tr>\n<tr><td style=text-align: center\; width=29 height=23>10</
 td>\n<td style=text-align: center\; width=184> Engelthal</td>\n<td sty
 le=text-align: center\; width=166>Offenhausen</td>\n<td style=text-ali
 gn: center\; width=41> 4\,7</td>\n<td style=text-align: center\; width
 =56> 15:45</td>\n<td style=text-align: center\; width=140> [wpfilebase
  tag=file path=&#8217\;lauf/landkreislauf-nuernberger-land/20150509/E1
 0_Engelthal-Offenhausen.pdf&#8216\; tpl=thumbnail /]</td>\n<td style=t
 ext-align: center\; width=81>102</td>\n<td style=text-align: center\; 
 width=96>113</td></tr>\n<tr><td style=text-align: center\; height=20><
 /td>\n<td style=text-align: center\;></td>\n<td style=text-align: cent
 er\;></td>\n<td style=text-align: center\;></td>\n<td style=text-align
 : center\;></td>\n<td style=text-align: center\;></td>\n<td style=text
 -align: center\;></td>\n<td style=text-align: center\;></td></tr>\n<tr
 ><td style=text-align: center\; height=20></td>\n<td style=text-align:
  center\; width=184></td>\n<td style=text-align: center\; width=166><s
 trong>Gesamt:</strong></td>\n<td style=text-align: center\;><strong>51
 \,7</strong></td>\n<td style=text-align: center\;><strong> </strong></
 td>\n<td style=text-align: center\;></td>\n<td style=text-align: cente
 r\;></td>\n<td style=text-align: center\;></td></tr>\n</tbody>\n</tabl
 e>\n<p>Achtung: Änderungen sind jederzeit möglich. Aktuelle Informatio
 nen nur auf der Seite des Veranstalters: <a href=http://www.landkreisl
 auf.de/index.php target=_blank>Landkreislauf Nürnberger Land</a></p>\n
 <p>Die Strecken:</p>\n<p>[wpfilebase tag=list id=228 tpl=data-table pa
 genav=1 sort='&lt\;file_name&#8216\; /]</p>\n
URL:https://www.runningsocks.de/wordpress/terminkalender/eventsinglepa
 ge/?event_id=311&lang=de
ATTACH:https://www.runningsocks.de/wordpress/terminkalender/eventsingl
 epage/?event_id=311&lang=de
LOCATION:Sportgelände Kirchensittenbach\, Mühlwiese\, Kirchensittenbac
 h
END:VEVENT
END:VCALENDAR
