BEGIN:VCALENDAR
VERSION:2.0
METHOD:PUBLISH
PRODID:-//hacksw/handcal//NONSGML v1.0//EN
BEGIN:VEVENT
DTSTAMP:20260419T165505Z
DTSTART;VALUE=DATE:20150614
DTEND;VALUE=DATE:20150615
UID:20150613T220000Z-20150614T215959Z-313@www.runningsocks.de
SUMMARY:17. Jura Radmarathon\, Lupburg
DESCRIPTION:Jura-Radmarathon - Die etwas andere Veranstaltung in famil
 iärer Atmosphäre\nAktueller Flyer und Streckenpläne zum 17. Jura Radma
 rathon rund um Lupburg:\n\nOnline\, soabld verfügbar .....\nWeitere In
 fo's und Onlineanmeldung beim Veranstalter: Sportverein 1959 Lupburg e
 .V
X-ALT-DESC;FMTTYPE=text/html:<p style=text-align: center\;><span style
 =font-size: 18px\;><em>&#8222\;Jura-Radmarathon &#8211\; Die etwas and
 ere Veranstaltung in familiärer Atmosphäre&#8220\;</em></span></p>\n<p
 >Aktueller Flyer und Streckenpläne zum 17. Jura Radmarathon rund um Lu
 pburg:</p>\n<p>Online\, soabld verfügbar &#8230\;..</p>\n<p style=text
 -align: justify\;>Weitere Info&#8217\;s und Onlineanmeldung beim Veran
 stalter: <a href=http://www.jura-radmarathon.de target=_blank>Sportver
 ein 1959 Lupburg e.V</a></p>\n
URL:https://www.runningsocks.de/wordpress/terminkalender/eventsinglepa
 ge/?event_id=313&lang=de
ATTACH:https://www.runningsocks.de/wordpress/terminkalender/eventsingl
 epage/?event_id=313&lang=de
LOCATION:Schul- und Sportgelände\, Reiselbergweg 3\, Lupburg
END:VEVENT
END:VCALENDAR
