BEGIN:VCALENDAR
VERSION:2.0
METHOD:PUBLISH
PRODID:-//hacksw/handcal//NONSGML v1.0//EN
BEGIN:VEVENT
DTSTAMP:20260419T165113Z
DTSTART:20140706T080000Z
DTEND:20140706T110000Z
UID:20140706T080000Z-20140706T110000Z-314@www.runningsocks.de
SUMMARY:27. Hersbrucker Volkstriathlon
DESCRIPTION:27. Hersbrucker Volkstriathlon\nVolks\,- Sprintdistanz übe
 r: 300 m - 20 km - 5 km\n\n\n	Schwimmen: Hersbrucker Badesee\n	Rad: He
 rsbrucker Badesee über Föhrenbach\, Alfeld nach Waller\n	Laufen: Walle
 r - Gravenbuch - Waller\n\nWer darf mitmachen?\n\nab Jugend A (16/17) 
 für Jedermann\, auch Vereinslose\, Hobby- und Freizeitsportler. Einzel
 - und Staffelmeldungen sind möglich.\n\nAnmeldung:\n\nPer E-mail unter
  Angabe von Name\, Vorname\, Adresse\, Geschlecht\, Geburtsjahr\, ggfl
 s. Verein an volkstriathlon@dav-hersbruck.de.\n\nInformationen:\n\nWei
 tere Informationen sh. Ausschreibung bzw. Internetseite des Veranstalt
 ers DAV Hersbruck\n\nOrganisation: Heiner Stocker 09151/814680 oder 01
 51-58964477\n\nAusschreibung:\n\n[wpfilebase tag=file path='triathlon/
 hersbruck/20140706/20140706_TriathlonHersbruck_Ausschreibung_27.pdf' /
 ]
X-ALT-DESC;FMTTYPE=text/html:<p style=text-align: center\;><span style
 =font-size: 14pt\;>27. Hersbrucker Volkstriathlon</span></p>\n<p style
 =text-align: justify\;>Volks\,- Sprintdistanz über: 300 m &#8211\; 20 
 km &#8211\; 5 km</p>\n<ul>\n<li style=text-align: justify\;>Schwimmen:
  Hersbrucker Badesee</li>\n<li style=text-align: justify\;>Rad: Hersbr
 ucker Badesee über Föhrenbach\, Alfeld nach Waller</li>\n<li style=tex
 t-align: justify\;>Laufen: Waller &#8211\; Gravenbuch &#8211\; Waller<
 /li>\n</ul>\n<p><strong><span style=text-decoration: underline\;>Wer d
 arf mitmachen?</span></strong><br>\n<br>\nab Jugend A (16/17) für Jede
 rmann\, auch Vereinslose\, Hobby- und Freizeitsportler. Einzel- und St
 affelmeldungen sind möglich.</p>\n<p><strong><span style=text-decorati
 on: underline\;>Anmeldung:</span></strong><br>\n<br>\nPer E-mail unter
  Angabe von Name\, Vorname\, Adresse\, Geschlecht\, Geburtsjahr\, ggfl
 s. Verein an <a title=27. Hersbrucker Volkstriathlon am 06.07.2014 hre
 f=mailto:volkstriathlon@dav-hersbruck.de?Subject=Anmeldung zum 27. Her
 sbrucker Triathlon>volkstriathlon@dav-hersbruck.de</a>.</p>\n<p><span 
 style=text-decoration: underline\;><strong>Informationen:</strong></sp
 an><br>\n<br>\nWeitere Informationen sh. Ausschreibung bzw. Internetse
 ite des Veranstalters <a href=http://www.dav-hersbruck.de/ target=_bla
 nk>DAV Hersbruck</a></p>\n<p><span style=font-family: Verdana\,Arial\,
 Helvetica\,sans-serif\;>Organisation: <a title=Email an Heiner Stocker
  href=mailto:heiner@stockeronline.de>Heiner Stocker</a> 09151/814680 o
 der 0151-58964477</span></p>\n<p><span style=text-decoration: underlin
 e\;><strong>Ausschreibung:</strong></span><br>\n<br>\n[wpfilebase tag=
 file path=&#8217\;triathlon/hersbruck/20140706/20140706_TriathlonHersb
 ruck_Ausschreibung_27.pdf&#8216\; /]</p>\n
URL:https://www.runningsocks.de/wordpress/terminkalender/eventsinglepa
 ge/?event_id=314&lang=de
ATTACH:https://www.runningsocks.de/wordpress/terminkalender/eventsingl
 epage/?event_id=314&lang=de
LOCATION:Happurger Baggersee\, Bagger See\, Happurg
END:VEVENT
END:VCALENDAR
