BEGIN:VCALENDAR
VERSION:2.0
METHOD:PUBLISH
PRODID:-//hacksw/handcal//NONSGML v1.0//EN
BEGIN:VEVENT
DTSTAMP:20260419T165733Z
DTSTART:20140722T173000Z
DTEND:20140722T193000Z
UID:20140722T173000Z-20140722T193000Z-315@www.runningsocks.de
SUMMARY:4. B2RUN Nürnberg
DESCRIPTION:Deutschlands schönster Firmenlauf\, der B2RUN\, macht am 2
 2. Juli wieder in Nürnberg Halt. Die 6\,2 km lange Strecke führt um de
 n Dutzenteich - belohnt werden die Läufer mit dem einzigartigen Zielei
 nlauf in das easyCredit-Stadion. Dabei sein kann jeder\, von der ICH-A
 G bis zum DAX-Konzern\, vom Vorstand bis zum Azubi. Auch 2014 geht wie
 der ein Teil der Startgebühren an ein regionales Charity-Projekt.\n\nÜ
 bersicht zur Preisgestaltung:\n   \n\n\nArtikel\nnetto\nbrutto\n\n\nB2
 RUN Einsteigercoach\n7\,90 €\n9\,40 €\n\n\nDurchstarter\n25\,90 €\n30\
 ,82 €\n\n\nFunstarter (bis 31.12.2012)\n17\,90 €\n21\,30 €\n\n\nFunsta
 rter (bis 31.03.2013)\n20\,90 €\n24\,87 €\n\n\nFunstarter (ab 01.04.20
 13)\n23\,90 €\n28\,44 €\n\n\nFantickets\n4\,20 €\n5\,00 €\n\n\nMeeting
  Point\n250\,00 €\n297\,50 €\n\n\nPremiumteam Paket-Gold\n1990\,00 €\n
 2368\,10 €\n\n\nPremiumteam Paket-Silber\n995\,00 €\n1184\,05 €\n\n\nS
 peisenjetons\n3\,40 €\n4\,05 €\n\n\nGetränkejetons\n3\,40 €\n4\,05 €\n
 \n\n\nWeitere Info und Online Anmeldung auf der Seite des Veranstalter
 s: B2RUN\n\nDownloads:\n\n[wpfilebase tag=list id=221 tpl=data-table p
 agenav=1 num=20 /]
X-ALT-DESC;FMTTYPE=text/html:<p>Deutschlands schönster Firmenlauf\, de
 r B2RUN\, macht am 22. Juli wieder in Nürnberg Halt. Die 6\,2 km lange
  Strecke führt um den Dutzenteich &#8211\; belohnt werden die Läufer m
 it dem einzigartigen Zieleinlauf in das easyCredit-Stadion. Dabei sein
  kann jeder\, von der ICH-AG bis zum DAX-Konzern\, vom Vorstand bis zu
 m Azubi. Auch 2014 geht wieder ein Teil der Startgebühren an ein regio
 nales Charity-Projekt.</p>\n<p>Übersicht zur Preisgestaltung:</p>\n<ta
 ble style=width: 309px\; border=0 cellspacing=0 cellpadding=0 align=ce
 nter>\n<colgroup>\n<col width=175 />\n<col span=2 width=67 /> </colgro
 up>\n<tbody>\n<tr><td width=175 height=20><strong>Artikel</strong></td
 >\n<td width=67><strong>netto</strong></td>\n<td width=67><strong>brut
 to</strong></td></tr>\n<tr><td height=20>B2RUN Einsteigercoach</td>\n<
 td align=right>7\,90 €</td>\n<td align=right>9\,40 €</td></tr>\n<tr><t
 d height=20>Durchstarter</td>\n<td align=right>25\,90 €</td>\n<td alig
 n=right>30\,82 €</td></tr>\n<tr><td height=20>Funstarter (bis 31.12.20
 12)</td>\n<td align=right>17\,90 €</td>\n<td align=right>21\,30 €</td>
 </tr>\n<tr><td height=20>Funstarter (bis 31.03.2013)</td>\n<td align=r
 ight>20\,90 €</td>\n<td align=right>24\,87 €</td></tr>\n<tr><td height
 =20>Funstarter (ab 01.04.2013)</td>\n<td align=right>23\,90 €</td>\n<t
 d align=right>28\,44 €</td></tr>\n<tr><td height=20>Fantickets</td>\n<
 td align=right>4\,20 €</td>\n<td align=right>5\,00 €</td></tr>\n<tr><t
 d height=20>Meeting Point</td>\n<td align=right>250\,00 €</td>\n<td al
 ign=right>297\,50 €</td></tr>\n<tr><td height=20>Premiumteam Paket-Gol
 d</td>\n<td align=right>1990\,00 €</td>\n<td align=right>2368\,10 €</t
 d></tr>\n<tr><td height=20>Premiumteam Paket-Silber</td>\n<td align=ri
 ght>995\,00 €</td>\n<td align=right>1184\,05 €</td></tr>\n<tr><td heig
 ht=20>Speisenjetons</td>\n<td align=right>3\,40 €</td>\n<td align=righ
 t>4\,05 €</td></tr>\n<tr><td height=20>Getränkejetons</td>\n<td align=
 right>3\,40 €</td>\n<td align=right>4\,05 €</td></tr>\n</tbody>\n</tab
 le>\n<p>Weitere Info und Online Anmeldung auf der Seite des Veranstalt
 ers: <a href=http://www.b2run.de/index.php?id=422&amp\;no_cache=1 targ
 et=_blank>B2RUN</a></p>\n<p>Downloads:</p>\n<p>[wpfilebase tag=list id
 =221 tpl=data-table pagenav=1 num=20 /]</p>\n
URL:https://www.runningsocks.de/wordpress/terminkalender/eventsinglepa
 ge/?event_id=315&lang=de
ATTACH:https://www.runningsocks.de/wordpress/terminkalender/eventsingl
 epage/?event_id=315&lang=de
LOCATION:Dutzendteich\, Zeppelinstraße\, Nürnberg
END:VEVENT
END:VCALENDAR
