BEGIN:VCALENDAR
VERSION:2.0
METHOD:PUBLISH
PRODID:-//hacksw/handcal//NONSGML v1.0//EN
BEGIN:VEVENT
DTSTAMP:20260419T165905Z
DTSTART:20150719T091000Z
DTEND:20150719T150000Z
UID:20150719T091000Z-20150719T150000Z-316@www.runningsocks.de
SUMMARY:33. GEALAN Triathlon Hof
DESCRIPTION:Termin steht fest\, alle weiteren Daten sind noch unbestät
 igt !!\nKurzinfo:\n\nStreckenlängen:\n\n	1\,5Km / 40Km / 10Km (Olymisc
 he Distanz\, Einzel und Staffel)\n	0\,75Km / 20Km / 5Km (Jedermann/Spr
 int\, Einzel und Stafffel)\n\nStartzeiten:\n\n	Olymische Distanz\, Ein
 zel und Staffel: 11:00\n	Jedermann/Sprint\, Einzel und Stafffel: 10:00
 \n\nAusgabe Startunterlagen:\n\n	Olymische Distanz\, Einzel und Staffe
 l: 08:00 - 09:30\n	Jedermann/Sprint\, Einzel und Stafffel: 08:00 - 09:
 00\n\nStartgelder:\n\n	Siehe Ausschreibung ...\n\nWeitere Details bitt
 e der Ausschreibung entnehmen.  Alle weiteren\, aktuellen Infos und On
 line Anmeldung direkt beim Veranstalter: Gealan Triathlon Hof\n\nAussc
 hreibung:\n\nfolgt\, sobald verfügbar
X-ALT-DESC;FMTTYPE=text/html:<p style=text-align: center\;><strong><sp
 an style=color: #ff0000\;>Termin steht fest\, alle weiteren Daten sind
  noch unbestätigt !!</span></strong></p>\n<p>Kurzinfo:</p>\n<p><span s
 tyle=text-decoration: underline\;><strong>Streckenlängen:</strong></sp
 an></p>\n<ul>\n<li>1\,5Km / 40Km / 10Km (Olymische Distanz\, Einzel un
 d Staffel)</li>\n<li>0\,75Km / 20Km / 5Km (Jedermann/Sprint\, Einzel u
 nd Stafffel)</li>\n</ul>\n<p><span style=text-decoration: underline\;>
 <strong>Startzeiten:</strong></span></p>\n<ul>\n<li>Olymische Distanz\
 , Einzel und Staffel: 11:00</li>\n<li>Jedermann/Sprint\, Einzel und St
 afffel: 10:00</li>\n</ul>\n<p><span style=text-decoration: underline\;
 ><strong>Ausgabe Startunterlagen:</strong></span></p>\n<ul>\n<li>Olymi
 sche Distanz\, Einzel und Staffel: 08:00 &#8211\; 09:30</li>\n<li>Jede
 rmann/Sprint\, Einzel und Stafffel: 08:00 &#8211\; 09:00</li>\n</ul>\n
 <p><span style=text-decoration: underline\;><strong>Startgelder:</stro
 ng></span></p>\n<ul>\n<li>Siehe Ausschreibung &#8230\;</li>\n</ul>\n<p
 >Weitere Details bitte der Ausschreibung entnehmen.  Alle weiteren\, a
 ktuellen Infos und Online Anmeldung direkt beim Veranstalter: <a href=
 http://www.triathlon-hof.com target=_blank>Gealan Triathlon Hof</a></p
 >\n<p><span style=text-decoration: underline\;><strong>Ausschreibung:<
 /strong></span><br>\n<br>\nfolgt\, sobald verfügbar</p>\n
URL:https://www.runningsocks.de/wordpress/terminkalender/eventsinglepa
 ge/?event_id=316&lang=de
ATTACH:https://www.runningsocks.de/wordpress/terminkalender/eventsingl
 epage/?event_id=316&lang=de
LOCATION:Untreusee\, Untreusee\, Hof
END:VEVENT
END:VCALENDAR
