BEGIN:VCALENDAR
VERSION:2.0
METHOD:PUBLISH
PRODID:-//hacksw/handcal//NONSGML v1.0//EN
BEGIN:VEVENT
DTSTAMP:20260419T165632Z
DTSTART:20141130T130000Z
DTEND:20141130T160000Z
UID:20141130T130000Z-20141130T160000Z-317@www.runningsocks.de
SUMMARY:12. Run & Bike Ungerthal
DESCRIPTION:Inzwischen zum 12. male wird der Run & Bike im schönen Ung
 erthal\, nahe Schwabach\, durchgeführt. Eine kleine Gruppe eingefleisc
 hter und verrückter Sportler wird sich bei jeder Witterung den Anforde
 rungen der welligen Strecke stellen\, in der Hoffung\, noch einige Kuc
 henstücke und Glühwein nach dem Zieleinlauf zu ergattern :-)\n\nEin Ru
 n & Bike ist ein besonderer Lauf\, der wie folgt durchgeführt wird:\n\
 nZwei Läufer teilen sich ein Fahrrad. Dabei darf der Abstand zwischen 
 dem Läufer und dem Radfahrer niemals mehr als 10 Meter betragen. Das “
 Paar” kann sich beliebig jederzeit abwechseln.\n\n\n\nStart:\n14.00 Uh
 r\, Waldparkplatz im Ungerthal\n\n\nStrecke:\nWellige\, vom öffentlich
 en Verkehr\ngeschlossene Waldwege\, ca. 17 km\n\n\nKlasseneinteilung:\
 nMänner\, Frauen und gemischte Paare\n\n\nOrganisationsbeitrag:\n15\,0
 0€ pro Paar\n\n\nAnmeldung:\nHier klicken\n\n\nNachmeldung:\nVor Ort\,
  ab 09:00 Uhr\, 20\,00€ pro Paar\n\n\nSonstiges:\nKuchenbuffet\, Geträ
 nke im\nZielraum\, sowie ein Lagerfeuer.\n(keine Duschmöglichkeiten)\n
 \n\nSiegerehrung:\nCa. 1/2 Std. nach dem letzten\nZieleinlauf\n\n\nOrg
 anisation\, Ausschreibung:\nHier klicken\n\n\n\nQuelle: www.fun-race.o
 rg
X-ALT-DESC;FMTTYPE=text/html:<p>Inzwischen zum 12. male wird der Run &
 amp\; Bike im schönen Ungerthal\, nahe Schwabach\, durchgeführt. Eine 
 kleine Gruppe eingefleischter und verrückter Sportler wird sich bei je
 der Witterung den Anforderungen der welligen Strecke stellen\, in der 
 Hoffung\, noch einige Kuchenstücke und Glühwein nach dem Zieleinlauf z
 u ergattern :-)</p>\n<p>Ein Run &amp\; Bike ist ein besonderer Lauf\, 
 der wie folgt durchgeführt wird:</p>\n<p>Zwei Läufer teilen sich ein F
 ahrrad. Dabei darf der Abstand zwischen dem Läufer und dem Radfahrer n
 iemals mehr als 10 Meter betragen. Das “Paar” kann sich beliebig jeder
 zeit abwechseln.</p>\n<table style=border: 1px solid #b0c4de\; width: 
 384px\; height: 236px\; border=1 frame=void rules=all align=center>\n<
 tbody>\n<tr><td><span style=font-size: small\;>Start:</span></td>\n<td
 ><span style=font-size: small\;>14.00 Uhr\, Waldparkplatz im Ungerthal
 </span></td></tr>\n<tr><td><span style=font-size: small\;>Strecke:</sp
 an></td>\n<td><span style=font-size: small\;>Wellige\, vom öffentliche
 n Verkehr<br>\ngeschlossene Waldwege\, ca. 17 km</span></td></tr>\n<tr
 ><td><span style=font-size: small\;>Klasseneinteilung:</span></td>\n<t
 d><span style=font-size: small\;>Männer\, Frauen und gemischte Paare</
 span></td></tr>\n<tr><td><span style=font-size: small\;>Organisationsb
 eitrag:</span></td>\n<td><span style=font-size: small\;>15\,00€ pro Pa
 ar</span></td></tr>\n<tr><td><span style=font-size: small\;>Anmeldung:
 </span></td>\n<td><span style=font-size: small\;><a href=http://www.fu
 n-race.org/termine-ausschreibungen/run-bike-2014/online-anmeldung/>Hie
 r klicken</a></span></td></tr>\n<tr><td><span style=font-size: small\;
 >Nachmeldung:</span></td>\n<td><span style=font-size: small\;>Vor Ort\
 , ab 09:00 Uhr\, 20\,00€ pro Paar</span></td></tr>\n<tr><td><span styl
 e=font-size: small\;>Sonstiges:</span></td>\n<td><span style=font-size
 : small\;>Kuchenbuffet\, Getränke im<br>\nZielraum\, sowie ein Lagerfe
 uer.<br>\n(keine Duschmöglichkeiten)</span></td></tr>\n<tr><td><span s
 tyle=font-size: small\;>Siegerehrung:</span></td>\n<td><span style=fon
 t-size: small\;>Ca. 1/2 Std. nach dem letzten<br>\nZieleinlauf</span><
 /td></tr>\n<tr><td><span style=font-size: small\;>Organisation\, Aussc
 hreibung:</span></td>\n<td><a href=http://www.fun-race.org/termine-aus
 schreibungen/run-bike-2014/><span style=font-size: small\;>Hier klicke
 n</span></a></td></tr>\n</tbody>\n</table>\n<p>Quelle: <a href=http://
 www.fun-race.org/ target=_blank>www.fun-race.org</a></p>\n
URL:https://www.runningsocks.de/wordpress/terminkalender/eventsinglepa
 ge/?event_id=317&lang=de
ATTACH:https://www.runningsocks.de/wordpress/terminkalender/eventsingl
 epage/?event_id=317&lang=de
LOCATION:Waldparkplatz im Ungerthal\, Ungerthaler Straße\, Büchenbach
END:VEVENT
END:VCALENDAR
