BEGIN:VCALENDAR
VERSION:2.0
METHOD:PUBLISH
PRODID:-//hacksw/handcal//NONSGML v1.0//EN
BEGIN:VEVENT
DTSTAMP:20260419T165734Z
DTSTART:20150125T090000Z
DTEND:20150125T120000Z
UID:20150125T090000Z-20150125T120000Z-318@www.runningsocks.de
SUMMARY:55. Prellsteinrennen
DESCRIPTION:Ein wahrlich harter Crosslauf über Felder Wiesen\, Wege un
 d Steige zwischen Heuchling und Hirschbachtal. Gestartet wird bei jede
 r Witterung\; je nach Schneelage sind auch Langlaufski die bessere Wah
 l (und vor allem erlaubt). Die Herausforderung im Januar !!\n[wpfileba
 se tag=file path='20150116_Das-Prellsteinrennen-lebt.pdf' /]\n\nDas Re
 nnen:\nDas Prellsteinrennen ist ein Mannschaftslauf. Eine Mannschaft b
 esteht aus 3 Läufern. Die zwei besten Zeiten werden gewertet\, aber al
 le drei Läufer müssen das Ziel erreichen und die Kontrollstellen passi
 eren.\n\nDas Prellsteinrennen wird als Crosslauf ausgetragen. Bei gute
 r Schneelage kann auch mit Langlaufski gelaufen werden. Es können Mann
 schaften mit Cross- und Skiläufern gebildet werden. Weiter können Dame
 n und Herren eine Mannschaft bilden. Die Läufer mit Skiern starten mit
  einer Zeitvorgabe vor den Crossläufern.\n\nDer Start der Mannschaften
  erfolgt mit einem Zeitabstand von einer Minute.\nWertungen:\n\n\n\n	M
 annschaftswertung Männer- bzw. gemischte Mannschaften\n	Mannschaftswer
 tung reine Frauenmannschaften\n	Einzelwertung nach Altersklassen M/W f
 ür alle Finisher\n\n\n\nWeitere Info:\nAchtung: Start und Ziel sind nu
 n in Neutras\, beim Gasthof zum Neutrasfelsen\n\nAusschreibung: www.pr
 ellsteinrennen.de\n\nAb 2015 wird die Ausrichtung des Prellsteinrennen
 s vom MTP Hersbruck durchgeführt. Info und Anmeldung unter: www.prells
 teinrennen.de
X-ALT-DESC;FMTTYPE=text/html:<p style=text-align: center\;>Ein wahrlic
 h harter Crosslauf über Felder Wiesen\, Wege und Steige zwischen Heuch
 ling und Hirschbachtal. Gestartet wird bei jeder Witterung\; je nach S
 chneelage sind auch Langlaufski die bessere Wahl (und vor allem erlaub
 t). Die Herausforderung im Januar !!</p>\n<p style=text-align: center\
 ;>[wpfilebase tag=file path=&#8217\;20150116_Das-Prellsteinrennen-lebt
 .pdf&#8216\; /]</p>\n<h3>Das Rennen:</h3>\n<p>Das Prellsteinrennen ist
  ein Mannschaftslauf. Eine Mannschaft besteht aus 3 Läufern. Die zwei 
 besten Zeiten werden gewertet\, aber alle drei Läufer müssen das Ziel 
 erreichen und die Kontrollstellen passieren.</p>\n<p>Das Prellsteinren
 nen wird als Crosslauf ausgetragen. Bei guter Schneelage kann auch mit
  Langlaufski gelaufen werden. Es können Mannschaften mit Cross- und Sk
 iläufern gebildet werden. Weiter können Damen und Herren eine Mannscha
 ft bilden. Die Läufer mit Skiern starten mit einer Zeitvorgabe vor den
  Crossläufern.</p>\n<p>Der Start der Mannschaften erfolgt mit einem Ze
 itabstand von einer Minute.</p>\n<h3>Wertungen:</h3>\n<section class=a
 v_textblock_section>\n<div class=avia_textblock >\n<ul>\n<li>Mannschaf
 tswertung Männer- bzw. gemischte Mannschaften</li>\n<li>Mannschaftswer
 tung reine Frauenmannschaften</li>\n<li>Einzelwertung nach Altersklass
 en M/W für alle Finisher</li>\n</ul>\n</div>\n</section>\n<h3>Weitere 
 Info:</h3>\n<p>Achtung: Start und Ziel sind nun in Neutras\, beim &#82
 22\;Gasthof zum Neutrasfelsen&#8220\;</p>\n<p>Ausschreibung: <a href=h
 ttp://prellsteinrennen.de/ target=_blank>www.prellsteinrennen.de</a></
 p>\n<p>Ab 2015 wird die Ausrichtung des Prellsteinrennens vom MTP Hers
 bruck durchgeführt. Info und <a href=http://prellsteinrennen.de/anmeld
 ung/ target=_blank>Anmeldung</a> unter: <a href=http://prellsteinrenne
 n.de/ target=_blank>www.prellsteinrennen.de</a></p>\n
URL:https://www.runningsocks.de/wordpress/terminkalender/eventsinglepa
 ge/?event_id=318&lang=de
ATTACH:https://www.runningsocks.de/wordpress/terminkalender/eventsingl
 epage/?event_id=318&lang=de
LOCATION:Gasthof zum Neutrasfelsen\, Neutras 5\, Etzelwang
END:VEVENT
END:VCALENDAR
