BEGIN:VCALENDAR
VERSION:2.0
METHOD:PUBLISH
PRODID:-//hacksw/handcal//NONSGML v1.0//EN
BEGIN:VEVENT
DTSTAMP:20260419T165114Z
DTSTART:20150308T093000Z
DTEND:20150308T113000Z
UID:20150308T093000Z-20150308T113000Z-319@www.runningsocks.de
SUMMARY:22. Finish Line Rothseelauf
DESCRIPTION:Die erste Probe im Frühjahr und seit Jahren ein Klassiker 
 !\nStrecken:\n\n\n	5\,2 Km\, Hobbylauf\, 1 Runde um den kleinen Rothse
 e\n	10\,4Km\, Hauptlauf\, 2 Runden um den kleinen Rothsee\n\n(beide St
 recken sind flach ohne nennenswerte Steigungen)\nStartgeld:\n\n\n	Hobb
 ylauf: 7\,00 EUR\n	Hauptlauf: 9\,00 EUR\n	Nachmeldungen\, ab 07.03.  b
 zw. am Starttag bis 1 Stunde vor dem jeweiligen Lauf: 3\,00 EUR\n\nAnm
 eldungen:\n\nBis zum 06.03. online möglich. Nachmeldungen gelten ab 07
 .03. und sind nur noch bei Finish-Line Nürnberg oder bis 1Std. vor dem
  Start vor Ort möglich.\n\nZeiten:\n\n	Abholung Unterlagen: ab 08:00 -
  8:30 (Hobbylauf) bzw. 9:30 (Hauptlauf)\n	Start Hobbylauf: 09:30\n	Sta
 rt Hauptlauf: 10:30\n\nWeitere Info's wie immer direkt beim Veranstalt
 er: runningConcepts\nAusschreibung:\n[wpfilebase tag=file path='lauf/r
 othseelauf/20150308/20150308_Rothseelauf_Ausschreibung.pdf' /]
X-ALT-DESC;FMTTYPE=text/html:<p style=text-align: center\;><strong>Die
  erste Probe im Frühjahr und seit Jahren ein Klassiker !</strong></p>\
 n<p style=text-align: justify\;><strong><span style=text-decoration: u
 nderline\;>Strecken:</span></strong></p>\n<ul>\n<li>5\,2 Km\, Hobbylau
 f\, 1 Runde um den kleinen Rothsee</li>\n<li>10\,4Km\, Hauptlauf\, 2 R
 unden um den kleinen Rothsee</li>\n</ul>\n<p style=text-align: justify
 \;>(beide Strecken sind flach ohne nennenswerte Steigungen)</p>\n<p st
 yle=text-align: justify\;><span style=text-decoration: underline\;><st
 rong>Startgeld:</strong></span></p>\n<ul>\n<li>Hobbylauf: 7\,00 EUR</l
 i>\n<li>Hauptlauf: 9\,00 EUR</li>\n<li>Nachmeldungen\, ab 07.03.  bzw.
  am Starttag bis 1 Stunde vor dem jeweiligen Lauf: 3\,00 EUR</li>\n</u
 l>\n<p><span style=text-decoration: underline\;><strong>Anmeldungen:</
 strong></span><br>\n<br>\nBis zum 06.03. online möglich. Nachmeldungen
  gelten ab 07.03. und sind nur noch bei Finish-Line Nürnberg oder bis 
 1Std. vor dem Start vor Ort möglich.</p>\n<p><span style=text-decorati
 on: underline\;><strong>Zeiten:</strong></span></p>\n<ul>\n<li>Abholun
 g Unterlagen: ab 08:00 &#8211\; 8:30 (Hobbylauf) bzw. 9:30 (Hauptlauf)
 </li>\n<li>Start Hobbylauf: 09:30</li>\n<li>Start Hauptlauf: 10:30</li
 >\n</ul>\n<p style=text-align: justify\;>Weitere Info&#8217\;s wie imm
 er direkt beim Veranstalter: <a href=http://www.runningconcepts.de/rot
 hseelauf.html target=_blank>runningConcepts</a></p>\n<p style=text-ali
 gn: justify\;><span style=text-decoration: underline\;><strong>Ausschr
 eibung:</strong></span></p>\n<p style=text-align: justify\;>[wpfilebas
 e tag=file path=&#8217\;lauf/rothseelauf/20150308/20150308_Rothseelauf
 _Ausschreibung.pdf&#8216\; /]</p>\n
URL:https://www.runningsocks.de/wordpress/terminkalender/eventsinglepa
 ge/?event_id=319&lang=de
ATTACH:https://www.runningsocks.de/wordpress/terminkalender/eventsingl
 epage/?event_id=319&lang=de
LOCATION:Strandhaus Birkach\, Birkacher Uferweg 2\, Roth
END:VEVENT
END:VCALENDAR
