BEGIN:VCALENDAR
VERSION:2.0
METHOD:PUBLISH
PRODID:-//hacksw/handcal//NONSGML v1.0//EN
BEGIN:VEVENT
DTSTAMP:20260419T165213Z
DTSTART:20150719T080000Z
DTEND:20150719T110000Z
UID:20150719T080000Z-20150719T110000Z-320@www.runningsocks.de
SUMMARY:27. Bauzi's Birkensee Triathlon
DESCRIPTION:Und weiter geht es in alter Tradition: der Bauzi kommt wie
 der in die Spur und findet nun wieder regelmäßig statt.\n400 m - 20 km
  - 5 km\n\n\n	Schwimmen: Birkensee\n	Rad: 1x rund um den Moritzberg (s
 h. Ausschreibung)\n	Laufen: Pendelstrecke\, Birkensee - Richtung Fuchs
 mühle und zurück\n\nACHTUNG: Alle weiteren Angaben sind noch unbestäti
 gt\n\nStartgebühr: 35 €\n\nNachmeldegebühr: 5€\n\nTeilnehmerlimit: 300
 \n\nOnline Anmeldeschluß: 13.07.\n\nNachmeldungen: 14.07. - 19.07.\, N
 achmeldegebühr: 5\,00 EUR\nAusschreibung:\n[wpfilebase tag=file path='
 triathlon/bauzis-birkensee/20130721/Birkensee2013_V5.pdf' /]\nWeitere 
 Info's und Anmeldung beim Veranstalter: runningConcepts
X-ALT-DESC;FMTTYPE=text/html:<p style=text-align: center\;>Und weiter 
 geht es in alter Tradition: der Bauzi kommt wieder in die Spur und fin
 det nun wieder regelmäßig statt.</p>\n<p style=text-align: justify\;>4
 00 m &#8211\; 20 km &#8211\; 5 km</p>\n<ul>\n<li style=text-align: jus
 tify\;>Schwimmen: Birkensee</li>\n<li style=text-align: justify\;>Rad:
  1x rund um den Moritzberg (sh. Ausschreibung)</li>\n<li style=text-al
 ign: justify\;>Laufen: Pendelstrecke\, Birkensee &#8211\; Richtung Fuc
 hsmühle und zurück</li>\n</ul>\n<p style=text-align: center\;><span st
 yle=text-decoration: underline\; color: #ff0000\;><strong>ACHTUNG: All
 e weiteren Angaben sind noch unbestätigt<br>\n</strong></span></p>\n<p
 >Startgebühr: 35 €</p>\n<p>Nachmeldegebühr: 5€</p>\n<p>Teilnehmerlimit
 : 300</p>\n<p>Online Anmeldeschluß: 13.07.</p>\n<p>Nachmeldungen: 14.0
 7. &#8211\; 19.07.\, Nachmeldegebühr: 5\,00 EUR</p>\n<p style=text-ali
 gn: justify\;>Ausschreibung:</p>\n<p style=text-align: justify\;>[wpfi
 lebase tag=file path=&#8217\;triathlon/bauzis-birkensee/20130721/Birke
 nsee2013_V5.pdf&#8216\; /]</p>\n<p style=text-align: justify\;>Weitere
  Info&#8217\;s und Anmeldung beim Veranstalter: <a href=http://www.run
 ningconcepts.de/birkenseetriathlon.html target=_blank>runningConcepts<
 /a></p>\n
URL:https://www.runningsocks.de/wordpress/terminkalender/eventsinglepa
 ge/?event_id=320&lang=de
ATTACH:https://www.runningsocks.de/wordpress/terminkalender/eventsingl
 epage/?event_id=320&lang=de
LOCATION:Birkensee - Röthenbach\, Birkensee\, Röthenbach
END:VEVENT
END:VCALENDAR
