BEGIN:VCALENDAR
VERSION:2.0
METHOD:PUBLISH
PRODID:-//hacksw/handcal//NONSGML v1.0//EN
BEGIN:VEVENT
DTSTAMP:20260419T165632Z
DTSTART:20150823T070000Z
DTEND:20150823T110000Z
UID:20150823T070000Z-20150823T110000Z-321@www.runningsocks.de
SUMMARY:2. Nürnberger Halbmarathon
DESCRIPTION:Der Finish Line Herbstlauf heißt jetzt Nürnberger Halbmara
 thon\nACHTUNG: Alle weiteren Angaben sind noch unbestätigt\nStrecken:\
 n\n10Km\, 21\,1Km\n\nStartgebühr:\n\n	10Km - 15 Euro\n	21\,1Km - 20 Eu
 ro\n	Nachmeldung\, ab 12.08.: 3 Euro\n\nAnmeldungen:\n\nbis 11.08. - O
 nline\n\n12.08. - 17.08. persönlich oder telefonisch bei Finish Line\,
  Wilhelm-Spaeth-Str. 15\, 90461 Nürnberg\n\nWeitere Infos siehe Flyer 
 sowie Homepage des Veranstalters  Finish-Line oder runningConcepts \n\
 nAusschreibung:\n\nfolgt ....
X-ALT-DESC;FMTTYPE=text/html:<p style=text-align: center\;>Der Finish 
 Line Herbstlauf heißt jetzt Nürnberger Halbmarathon</p>\n<p style=text
 -align: center\;><span style=text-decoration: underline\;><span style=
 color: #ff0000\;><strong>ACHTUNG: Alle weiteren Angaben sind noch unbe
 stätigt</strong></span></span></p>\n<p><strong>Strecken:</strong><br>\
 n<br>\n10Km\, 21\,1Km</p>\n<p><strong>Startgebühr:</strong></p>\n<ul>\
 n<li>10Km &#8211\; 15 Euro</li>\n<li>21\,1Km &#8211\; 20 Euro</li>\n<l
 i>Nachmeldung\, ab 12.08.: 3 Euro</li>\n</ul>\n<p><strong>Anmeldungen:
 </strong><br>\n<br>\nbis 11.08. &#8211\; Online</p>\n<p>12.08. &#8211\
 ; 17.08. persönlich oder telefonisch bei Finish Line\, Wilhelm-Spaeth-
 Str. 15\, 90461 Nürnberg</p>\n<p>Weitere Infos siehe Flyer sowie Homep
 age des Veranstalters  <a href=http://www.finish-line.de/wettkaempfe-a
 usschreibungen.htm target=_blank>Finish-Line</a> oder <a href=http://w
 ww.runningconcepts.de/ target=_blank>runningConcepts </a></p>\n<p>Auss
 chreibung:</p>\n<p>folgt &#8230\;.</p>\n
URL:https://www.runningsocks.de/wordpress/terminkalender/eventsinglepa
 ge/?event_id=321&lang=de
ATTACH:https://www.runningsocks.de/wordpress/terminkalender/eventsingl
 epage/?event_id=321&lang=de
LOCATION:Waldweg gegenüber Club Bad\, Valznerweiher Straße 200\, Nürnb
 erg
END:VEVENT
END:VCALENDAR
