BEGIN:VCALENDAR
VERSION:2.0
METHOD:PUBLISH
PRODID:-//hacksw/handcal//NONSGML v1.0//EN
BEGIN:VEVENT
DTSTAMP:20260419T165630Z
DTSTART:20141231T120000Z
DTEND:20141231T140000Z
UID:20141231T120000Z-20141231T140000Z-322@www.runningsocks.de
SUMMARY:12. Nürnberger Silvesterlauf
DESCRIPTION:Liebe Läuferinnen und Läufer des letztjährigen Silvesterla
 ufs\, es ist wieder soweit. Seit 1. Oktober hat die Online-Anmeldung z
 um 12. Nürnberger Silvesterlauf geöffnet.\nBis 24.11.2013 gibt es Früh
 bucher Rabatte\, also schnell zuschlagen und nicht vergessen.  Erfahru
 ngsgemäß ist der Lauf schon vor Ende der Anmeldefrist ausgebucht. Dies
 es Jahr stehen 1213 Startplätze zur Verfügung.\n\nStart und Ziel:\n\nB
 eim Café Seehaus („Wastl“) auf dem Johann-Soergel-Weg direkt vor dem n
 euen Steg am Wöhrder See\n\nAnmelde\,- Startgebühren:\n\nFrühbucherrab
 att bis 24.11.\n10 km Hauptlauf: 12€\n5 km Hobbylauf: 9 €\nBambini und
  Schülerlauf: 4 €\n\nNormalpreis ab 25.11.\n10 km Hauptlauf: 16 €\n5 k
 m Hobbylauf: 11 €\nBambini und Schülerlauf: 4 €\n\nNachmeldungen ab 20
 .12.\n(sofern noch Plätze vorhanden)\n10 km Hauptlauf: 21 €\n5 km Hobb
 ylauf: 13 €\nBambini und Schülerlauf: 4 €\n\nEin Funktionsshirt kann f
 ür 13 EUR zusätzlich bei der Anmeldung bestellt werden (solange Vorrat
  reicht)\n\nGutmann Team Cup:\n\nAuch dieses Jahr gibt es wieder den G
 utmann Team Cup.  Beim 10-km-Hauptlauf werden alle Teams gewertet\, di
 e mit gleichem Vereins- oder Gruppennamen (bitte bei der Online-Anmeld
 ung unbedingt auf gleiche Bezeichnung achten!) eingetragen sind. Gewer
 tet werden alle Teams mit den Zeiten der fünf bestplatzierten Finisher
 . Die Wertung erfolgt immer als Mixed-Wertung\, d.h. es erfolgt keine 
 getrennte Frauen- und Männerwertung.\n\nAusschreibung\, Veranstalter\,
  Anmeldung:\n\nAusschreibung: direkt beim Veranstalter oder hier:\n\n[
 wpfilebase tag=file path='lauf/silvesterlauf-nuernberg/20141231/201412
 31_SilvesterlaufNuernberg_Ausschreibung.pdf' /]\n\nOnline Anmeldung: d
 irekt beim Veranstalter\n\nWeitere\, aktuelle Info's und Anmeldung bei
 m Veranstalter:\n\nTeam Klinikum Nürnberg e. V.
X-ALT-DESC;FMTTYPE=text/html:<p style=text-align: center\;>Liebe Läufe
 rinnen und Läufer des letztjährigen Silvesterlaufs\, es ist wieder sow
 eit. Seit 1. Oktober hat die Online-Anmeldung zum 12. Nürnberger Silve
 sterlauf geöffnet.</p>\n<p>Bis 24.11.2013 gibt es Frühbucher Rabatte\,
  also schnell zuschlagen und nicht vergessen.  Erfahrungsgemäß ist der
  Lauf schon vor Ende der Anmeldefrist ausgebucht. Dieses Jahr stehen 1
 213 Startplätze zur Verfügung.</p>\n<p><span style=text-decoration: un
 derline\;><strong>Start und Ziel:</strong></span><br>\n<br>\nBeim Café
  Seehaus („Wastl“) auf dem Johann-Soergel-Weg direkt vor dem neuen Ste
 g am Wöhrder See</p>\n<p><span style=text-decoration: underline\;><str
 ong>Anmelde\,- Startgebühren:</strong></span></p>\n<p><strong>Frühbuch
 errabatt bis 24.11.</strong><br>\n10 km Hauptlauf: 12€<br>\n5 km Hobby
 lauf: 9 €<br>\nBambini und Schülerlauf: 4 €</p>\n<p><strong>Normalprei
 s ab 25.11.<br>\n</strong>10 km Hauptlauf: 16 €<br>\n5 km Hobbylauf: 1
 1 €<br>\nBambini und Schülerlauf: 4 €</p>\n<p><strong>Nachmeldungen ab
  20.12.<br>\n(sofern noch Plätze vorhanden)<br>\n</strong>10 km Hauptl
 auf: 21 €<br>\n5 km Hobbylauf: 13 €<br>\nBambini und Schülerlauf: 4 €<
 /p>\n<p>Ein Funktionsshirt kann für 13 EUR zusätzlich bei der Anmeldun
 g bestellt werden (solange Vorrat reicht)</p>\n<p><span style=text-dec
 oration: underline\;><strong>Gutmann Team Cup:</strong></span><br>\n<b
 r>\nAuch dieses Jahr gibt es wieder den Gutmann Team Cup.  Beim 10-km-
 Hauptlauf werden alle Teams gewertet\, die mit gleichem Vereins- oder 
 Gruppennamen (bitte bei der Online-Anmeldung unbedingt auf gleiche Bez
 eichnung achten!) eingetragen sind. Gewertet werden alle Teams mit den
  Zeiten der fünf bestplatzierten Finisher. Die Wertung erfolgt immer a
 ls Mixed-Wertung\, d.h. es erfolgt keine getrennte Frauen- und Männerw
 ertung.</p>\n<p><strong><span style=text-decoration: underline\;>Aussc
 hreibung\, Veranstalter\, Anmeldung:</span></strong><br>\n<br>\nAussch
 reibung: <a href=http://www.silvesterlauf-nuernberg.de/ausschreibung.h
 tml target=_blank>direkt beim Veranstalter</a> oder hier:</p>\n<p>[wpf
 ilebase tag=file path=&#8217\;lauf/silvesterlauf-nuernberg/20141231/20
 141231_SilvesterlaufNuernberg_Ausschreibung.pdf&#8216\; /]</p>\n<p>Onl
 ine Anmeldung: <a href=https://www.silvesterlauf-nuernberg.de/anmeldun
 g.html target=_blank>direkt beim Veranstalter</a></p>\n<p>Weitere\, ak
 tuelle Info&#8217\;s und Anmeldung beim Veranstalter:</p>\n<p><a href=
 http://www.silvesterlauf-nuernberg.de/ target=_blank>Team Klinikum Nür
 nberg e. V.</a></p>\n
URL:https://www.runningsocks.de/wordpress/terminkalender/eventsinglepa
 ge/?event_id=322&lang=de
ATTACH:https://www.runningsocks.de/wordpress/terminkalender/eventsingl
 epage/?event_id=322&lang=de
LOCATION:Wöhrder Wiese\, Wöhrder Wiese\, Nürnberg
END:VEVENT
END:VCALENDAR
