BEGIN:VCALENDAR
VERSION:2.0
METHOD:PUBLISH
PRODID:-//hacksw/handcal//NONSGML v1.0//EN
BEGIN:VEVENT
DTSTAMP:20260419T165631Z
DTSTART:20150418T150000Z
DTEND:20150418T170000Z
UID:20150418T150000Z-20150418T170000Z-323@www.runningsocks.de
SUMMARY:5. IFB HiRo Run 21.1
DESCRIPTION:Schneller\, flacher Rundkurs um den Rothsee. Start und Zie
 l ist Hilpoltstein\nInfos :\n\n\n\nAusschreibung:\nIFB HiRo Run 21.1\n
 \n\nTermin:\nSamstag\, 12.04.2014\n\n\nVeranstalter:\nLa Carrera TriTe
 am Rothsee 09 e.V.\n\n\nStartzeit:\n17:00 Uhr\n\n\nZielschluss:\n20:00
  Uhr\n\n\nStart / Ziel:\nInnenstadt von Hilpoltstein - Marktstraße\n\n
 \nTeilnehmerlimit:\n600 Starter Hauptlauf\, 300 Starter Hobbylauf\n\n\
 nMeldeschluss:\nEntweder wenn das Teilnehmerlimit erreicht ist oder de
 r 05.04.\n\n\nMeldegebühr:\nbis 30.11.\n19 Euro (zuzügl. 2 € Chipmiete
 )\n\n\n\nvon 01.12. bis 31.01.2015\n22 Euro (zuzügl. 2 € Chipmiete)\n\
 n\n\nvon 01.02.2015 bis 05.04.2015\n25 Euro (zuzügl. 2 € Chipmiete)\n\
 n\n\nNachmeldungen\n30 Euro (zuzügl. 2 € Chipmiete) oder keine Nachmel
 dung möglich wenn Teilnehmerlimit erreicht\n\n\nFunktionsshirt\nJeder 
 Teilnehmer erhält für den Aufpreis von nur 5 Euro (Angabe bei Anmeldun
 g) beim Start ein HiRo Run Funktionsshirt. Bestellung eines Funktionss
 hirt bei einer Meldung bis zum 31.01. möglich\n\n\n\n\n\n\nZugläufer\n
 für 1:30h\, 1:45h\, 2:00h\, 2:15h Zielzeit\n\n\nZeitmessung\nErfolg üb
 er Chipmessung\n\n\nInternet mit Ausschreibung\, Meldung und Ergebniss
 en:\nhttp://www.hiro-run.de\n\n\n\n(Quelle: http://www.hiro-run.de/)\n
 \nAlle weiteren\, aktuellen Infos sowie Online Anmeldung auf der Seite
  des Veranstalters:  IFB HiRo Run 21.1
X-ALT-DESC;FMTTYPE=text/html:<p style=text-align: center\;>Schneller\,
  flacher Rundkurs um den Rothsee. Start und Ziel ist Hilpoltstein</p>\
 n<p><span style=text-decoration: underline\;><strong>Infos :</strong><
 /span></p>\n<table id=table4 style=width: 700px\; border=1>\n<tbody>\n
 <tr><td align=left valign=top width=150><strong>Ausschreibung:</strong
 ></td>\n<td colspan=2 align=left valign=top width=650><strong>IFB HiRo
  Run 21.1</strong></td></tr>\n<tr><td align=left valign=top width=150>
 <strong>Termin:</strong></td>\n<td colspan=2 align=left valign=top wid
 th=650><strong>Samstag\, 12.04.2014</strong></td></tr>\n<tr><td align=
 left valign=top width=150>Veranstalter:</td>\n<td colspan=2 align=left
  valign=top width=650><a href=http://www.lacarrera-triteam.de/ target=
 _blank>La Carrera TriTeam Rothsee 09 e.V.</a></td></tr>\n<tr><td align
 =left valign=top width=150>Startzeit:</td>\n<td colspan=2 align=left v
 align=top width=650>17:00 Uhr</td></tr>\n<tr><td align=left valign=top
  width=150>Zielschluss:</td>\n<td colspan=2 align=left valign=top widt
 h=650>20:00 Uhr</td></tr>\n<tr><td align=left valign=top width=150>Sta
 rt / Ziel:</td>\n<td colspan=2 align=left valign=top width=650>Innenst
 adt von Hilpoltstein &#8211\; Marktstraße</td></tr>\n<tr><td align=lef
 t valign=top width=150>Teilnehmerlimit:</td>\n<td colspan=2 align=left
  valign=top width=650>600 Starter Hauptlauf\, 300 Starter Hobbylauf</t
 d></tr>\n<tr><td align=left valign=top width=150>Meldeschluss:</td>\n<
 td colspan=2 align=left valign=top width=650>Entweder wenn das Teilneh
 merlimit erreicht ist oder der 05.04.</td></tr>\n<tr><td align=left va
 lign=top width=150>Meldegebühr:</td>\n<td align=left valign=top width=
 325>bis 30.11.</td>\n<td align=left valign=top width=325>19 Euro (zuzü
 gl. 2 € Chipmiete)</td></tr>\n<tr><td align=left valign=top width=150>
 </td>\n<td align=left valign=top width=325>von 01.12. bis 31.01.2015</
 td>\n<td align=left valign=top width=325>22 Euro (zuzügl. 2 € Chipmiet
 e)</td></tr>\n<tr><td align=left valign=top width=150></td>\n<td align
 =left valign=top width=325>von 01.02.2015 bis 05.04.2015</td>\n<td ali
 gn=left valign=top width=325>25 Euro (zuzügl. 2 € Chipmiete)</td></tr>
 \n<tr><td align=left valign=top width=150></td>\n<td align=left valign
 =top width=325>Nachmeldungen</td>\n<td align=left valign=top width=325
 >30 Euro (zuzügl. 2 € Chipmiete) oder keine Nachmeldung möglich wenn T
 eilnehmerlimit erreicht</td></tr>\n<tr><td align=left valign=top width
 =150>Funktionsshirt</td>\n<td colspan=2 align=left valign=top width=65
 0>Jeder Teilnehmer erhält für den Aufpreis von nur 5 Euro (Angabe bei 
 Anmeldung) beim Start ein <strong>HiRo Run Funktionsshirt.</strong> Be
 stellung eines Funktionsshirt bei einer Meldung bis zum 31.01. möglich
 </td></tr>\n<tr><td align=left valign=top width=150></td>\n<td colspan
 =2 align=left valign=top width=650></td></tr>\n<tr><td align=left vali
 gn=top width=150>Zugläufer</td>\n<td colspan=2 align=left valign=top w
 idth=650>für 1:30h\, 1:45h\, 2:00h\, 2:15h Zielzeit</td></tr>\n<tr><td
  align=left valign=top width=150>Zeitmessung</td>\n<td colspan=2 align
 =left valign=top width=650>Erfolg über Chipmessung</td></tr>\n<tr><td 
 align=left valign=top width=150>Internet mit Ausschreibung\, Meldung u
 nd Ergebnissen:</td>\n<td colspan=2 align=left valign=top width=650><a
  href=http://www.hiro-run.de/>http://www.hiro-run.de</a></td></tr>\n</
 tbody>\n</table>\n<p><strong>(Quelle: http://www.hiro-run.de/)</strong
 ></p>\n<p><strong>Alle weiteren\, aktuellen Infos sowie Online Anmeldu
 ng auf der Seite des Veranstalters:  <a href=http://www.hiro-run.de/>I
 FB HiRo Run 21.1</a></strong></p>\n
URL:https://www.runningsocks.de/wordpress/terminkalender/eventsinglepa
 ge/?event_id=323&lang=de
ATTACH:https://www.runningsocks.de/wordpress/terminkalender/eventsingl
 epage/?event_id=323&lang=de
LOCATION:Marktstrasse Hilpoltstein\, Marktstrasse 16\, Hilpoltstein
END:VEVENT
END:VCALENDAR
