BEGIN:VCALENDAR
VERSION:2.0
METHOD:PUBLISH
PRODID:-//hacksw/handcal//NONSGML v1.0//EN
BEGIN:VEVENT
DTSTAMP:20260419T165233Z
DTSTART:20150721T173000Z
DTEND:20150721T193000Z
UID:20150721T173000Z-20150721T193000Z-324@www.runningsocks.de
SUMMARY:5. B2RUN Nürnberg
DESCRIPTION:Deutschlands schönster Firmenlauf\, der B2RUN\, macht am 2
 1. Juli wieder in Nürnberg Halt. Die 6\,2 km lange Strecke führt um de
 n Dutzenteich - belohnt werden die Läufer mit dem einzigartigen Zielei
 nlauf in das easyCredit-Stadion. Dabei sein kann jeder\, von der ICH-A
 G bis zum DAX-Konzern\, vom Vorstand bis zum Azubi. Auch 2014 geht wie
 der ein Teil der Startgebühren an ein regionales Charity-Projekt.\n\nÜ
 bersicht zur Preisgestaltung:\n\n\n\nArtikel\nnetto\nbrutto\n\n\nB2RUN
  Einsteigercoach\n7\,90 €\n9\,40 €\n\n\nDurchstarter\n28\,90 €\n34\,39
  €\n\n\nFunstarter (bis 31.12.)\n20\,90 €\n24\,87 €\n\n\nFunstarter (b
 is 31.03.)\n23\,90 €\n28\,44 €\n\n\nFunstarter (ab 01.04.)\n26\,90 €\n
 32\,01 €\n\n\nFantickets\n4\,20 €\n5\,00 €\n\n\nMeeting Point\n350\,00
  €\n416\,50 €\n\n\nTeamstand\n750\,00 €\n892\,50 €\n\n\nPremiumteam Pa
 ket-Gold\n2.490\,00 €\n2.963\,10 €\n\n\nPremiumteam Paket-Silber\n1.39
 0\,00 €\n1.654\,10 €\n\n\nSpeisenjetons\n3\,40 €\n4\,05 €\n\n\nGetränk
 ejetons\n3\,40 €\n4\,05 €\n\n\n\n \n\nWeitere Info und Online Anmeldun
 g auf der Seite des Veranstalters: B2RUN\n\nDownloads:\n\n[wpfilebase 
 tag=list id=225 pagenav=1 /]
X-ALT-DESC;FMTTYPE=text/html:<p>Deutschlands schönster Firmenlauf\, de
 r B2RUN\, macht am 21. Juli wieder in Nürnberg Halt. Die 6\,2 km lange
  Strecke führt um den Dutzenteich &#8211\; belohnt werden die Läufer m
 it dem einzigartigen Zieleinlauf in das easyCredit-Stadion. Dabei sein
  kann jeder\, von der ICH-AG bis zum DAX-Konzern\, vom Vorstand bis zu
 m Azubi. Auch 2014 geht wieder ein Teil der Startgebühren an ein regio
 nales Charity-Projekt.</p>\n<p>Übersicht zur Preisgestaltung:</p>\n<ta
 ble style=width: 309px\;>\n<tbody>\n<tr><td width=150>Artikel</td>\n<t
 d width=96>netto</td>\n<td width=67>brutto</td></tr>\n<tr><td width=15
 0>B2RUN Einsteigercoach</td>\n<td width=96>7\,90 €</td>\n<td width=67>
 9\,40 €</td></tr>\n<tr><td width=150>Durchstarter</td>\n<td width=96>2
 8\,90 €</td>\n<td width=67>34\,39 €</td></tr>\n<tr><td width=150>Funst
 arter (bis 31.12.)</td>\n<td width=96>20\,90 €</td>\n<td width=67>24\,
 87 €</td></tr>\n<tr><td width=150>Funstarter (bis 31.03.)</td>\n<td wi
 dth=96>23\,90 €</td>\n<td width=67>28\,44 €</td></tr>\n<tr><td width=1
 50>Funstarter (ab 01.04.)</td>\n<td width=96>26\,90 €</td>\n<td width=
 67>32\,01 €</td></tr>\n<tr><td width=150>Fantickets</td>\n<td width=96
 >4\,20 €</td>\n<td width=67>5\,00 €</td></tr>\n<tr><td width=150>Meeti
 ng Point</td>\n<td width=96>350\,00 €</td>\n<td width=67>416\,50 €</td
 ></tr>\n<tr><td width=150>Teamstand</td>\n<td width=96>750\,00 €</td>\
 n<td width=67>892\,50 €</td></tr>\n<tr><td width=150>Premiumteam Paket
 -Gold</td>\n<td width=96>2.490\,00 €</td>\n<td width=67>2.963\,10 €</t
 d></tr>\n<tr><td width=150>Premiumteam Paket-Silber</td>\n<td width=96
 >1.390\,00 €</td>\n<td width=67>1.654\,10 €</td></tr>\n<tr><td width=1
 50>Speisenjetons</td>\n<td width=96>3\,40 €</td>\n<td width=67>4\,05 €
 </td></tr>\n<tr><td width=150>Getränkejetons</td>\n<td width=96>3\,40 
 €</td>\n<td style=text-align: center\; width=67>4\,05 €</td></tr>\n</t
 body>\n</table>\n<p>&nbsp\;</p>\n<p>Weitere Info und Online Anmeldung 
 auf der Seite des Veranstalters: <a href=http://www.b2run.de/nuernberg
 / target=_blank>B2RUN</a></p>\n<p>Downloads:</p>\n<p>[wpfilebase tag=l
 ist id=225 pagenav=1 /]</p>\n
URL:https://www.runningsocks.de/wordpress/terminkalender/eventsinglepa
 ge/?event_id=324&lang=de
ATTACH:https://www.runningsocks.de/wordpress/terminkalender/eventsingl
 epage/?event_id=324&lang=de
LOCATION:Dutzendteich\, Zeppelinstraße\, Nürnberg
END:VEVENT
END:VCALENDAR
