BEGIN:VCALENDAR
VERSION:2.0
METHOD:PUBLISH
PRODID:-//hacksw/handcal//NONSGML v1.0//EN
BEGIN:VEVENT
DTSTAMP:20260419T165720Z
DTSTART;VALUE=DATE:20150626
DTEND;VALUE=DATE:20150629
UID:20150625T220000Z-20150628T215959Z-327@www.runningsocks.de
SUMMARY:Running SUN MTB Wochenende 2015
DESCRIPTION:Wie in den letzten Jahren auch\, werden wir zusammen mit e
 inigen MTB Fahrern und Wanderern wieder zu einem MTB Wochenende im Som
 mer 2015 aufbrechen. Wegen der hervorragenden Landschaft\, der tollen 
 Unterkunft haben wir nochmals das Chiemgau und im speziellen das Dorf 
 Bergen\, unterhalb der Hochfelnn Talstation\,  ausgewählt.\n\nDie gena
 uen Details können dem folgenden Artikel entnommen werden.
X-ALT-DESC;FMTTYPE=text/html:<p>Wie in den letzten Jahren auch\, werde
 n wir zusammen mit einigen MTB Fahrern und Wanderern wieder zu einem M
 TB Wochenende im Sommer 2015 aufbrechen. Wegen der hervorragenden Land
 schaft\, der tollen Unterkunft haben wir nochmals das Chiemgau und im 
 speziellen das Dorf Bergen\, unterhalb der Hochfelnn Talstation\,  aus
 gewählt.</p>\n<p>Die genauen Details können dem <a title=Planung MTB W
 ochenende 2015 im Chiemgau href=https://www.runningsocks.de/wordpress/
 2014/09/17/planung-mtb-wochenende-2015-im-chiemgau/ target=_blank>folg
 enden Artikel</a> entnommen werden.</p>\n
URL:https://www.runningsocks.de/wordpress/terminkalender/eventsinglepa
 ge/?event_id=327&lang=de
ATTACH:https://www.runningsocks.de/wordpress/terminkalender/eventsingl
 epage/?event_id=327&lang=de
LOCATION:Bergen\, Chiemgau\, Bahnhofstraße 24\, Bergen
END:VEVENT
END:VCALENDAR
