BEGIN:VCALENDAR
VERSION:2.0
METHOD:PUBLISH
PRODID:-//hacksw/handcal//NONSGML v1.0//EN
BEGIN:VEVENT
DTSTAMP:20260419T165512Z
DTSTART:20150611T160000Z
DTEND:20150611T180000Z
UID:20150611T160000Z-20150611T180000Z-328@www.runningsocks.de
SUMMARY:12. FunRun Südwest
DESCRIPTION:Nicht zu lang und nicht zu kurz!\n9\,9 km Streckenlänge un
 d seit 2014: 5Km – für Wenigläufer eine gut schaffbare Herausforderung
 \, für Vielläufer ein willkommenes Training. Umso mehr bei dem reizvol
 len Streckenverlauf über Asphalt\, Schotter- und Feldwege.\nLos geht’s
  vom Südwestpark aus Richtung Gebersdorf. Im Wiesengrund führt die Str
 ecke immer der Rednitz entlang gen Fürth. Nach einer Kehrtwende heißt 
 es dann an den grünen Uferzonen neben dem Rhein-Main-Donau-Kanal: Ends
 purt zurück bis zum Südwestpark!\nFür ausreichend Verpflegungsposten e
 ntlang der Strecke ist selbstverständlich gesorgt.\nDie wichtigsten Fa
 kten:\n\n	Termin: 11. Juni\n	Start/Ziel: im Südwestpark\n	Strecke Läuf
 er/Nordic Walker:\n9\,9 km (über Gebersdorf die Rednitz entlang Richtu
 ng Fürth\, am Ufer des Main-Donau-Kanals zurück zum Südwestpark)\n	Str
 ecke Läufer:\n5\,0 km\, Begrenzung auf maximal 400 Läufer (südlich Ric
 htung Main-Donau- Kanal entlang – bis zu einer Wende nach ca. 2\,5 km)
 \n	Strecke Kinder (4 bis 6 Jahre):\neine Runde durch den Südwestpark\n
 	Strecke Schüler (7 bis 14 Jahre):\neine Runde durch den Südwestpark\n
 \nAlle Startzeiten:\n\n	ab 15:00 Uhr: Nachmeldung und Abholung der Sta
 rterunterlagen im Start-/Zielbereich\n\n\n	18.00 Uhr: Kinder\n	18:15 U
 hr: Schüler\n	18:30 Uhr: 9\,9 km Läufer\n	18:35 Uhr: 9\,9 km Walker\n	
 18:45 Uhr: 5 km Läufer\n\n\n	ca. 20:15 Uhr: Zieleinlauf\n	ca. 20:30 Uh
 r: Siegerehrung\n\nIn der Startgebühr inbegriffen:\n\n	hochwertiges Fu
 nktionsshirt (solange Vorrat reicht)\n	Transponder-Zeitmessung\n	Dusch
 - und Umkleidemöglichkeiten\n	Verpflegungsposten auf der Strecke\n	Urk
 unde (als Online-Ausdruck)\n	Parkplätze in den Parkhäusern\n\nAnmeldun
 gen und Startgebühren:\n\n\n\n\n\nFrühbucherpreis (bis 30.04.)\n\nNorm
 aler Preis\n\n\n\n\nEinzelläufer Erwachsen\n12 €\n14 €\n\n\nGruppe Erw
 achsen\n10 €\n12 €\n\n\nEinzelläufer/Gruppe Kind/Schüler\nkostenlos\n4
  €\n\n\n\n\n\nAnmeldung vor Ort\nam 11. Juni ab 15 Uhr\n\n\nONLINE-Anm
 eldeschluss\nist der 03. Juni\n\nWeitere Info's beim Veranstalter: SÜD
 -WEST-PARK Management GmbH sowie Online Anmeldungen\n\nAlle Info's ©Fu
 nRun Südwest\n\n\n\nInformation zur Anmeldung für alle SUN LäuferInnen
 :\nDie Gruppenanmeldung wird/kann wieder durch mich (Frank H.W. ) durc
 hgeführt. Wer sich für diesen Lauf interessiert und anmelden möchte bi
 tte folgendermaßen vorgehen:\n\nIn das Feld Name bitte Vorname und Nac
 hname eintragen.\n\nIn das Feld E-Mail die priv. oder geschäftl. Email
 adresse eingeben.\n\nIn das Feld Phone Number die priv. oder geschäftl
 . Telefonnummer eingeben.\n\nBei Seats immer nur 1 auswählen.\n\nIn da
 s Feld Comment die Daten für:\n\n	Geschlecht\,(M/W)\n	Jahrgang (19xx)\
 n	T-Shirt Größe (XXS - XL)\n\nin verständlicher Form eingeben.\n\nBevo
 r man den Button Teilnahmeanfrage absenden klickt\, den angezeigten Co
 de in das Feld eintragen.\n\nDas war's. Nach einigen Augenblicken tauc
 ht euer Name unter bisher gemeldet auf. Die weiteren Daten sind nur fü
 r mich sichtbar. Diese werde für die Gruppenanmeldung auf der Homepage
  des Veranstalters benötigt. Anmeldeschluß auf dieser Seite ist ebenfa
 lls der 03. Juni.
X-ALT-DESC;FMTTYPE=text/html:<h2>Nicht zu lang und nicht zu kurz!</h2>
 \n<p style=text-align: justify\;>9\,9 km Streckenlänge und seit 2014: 
 5Km – für Wenigläufer eine gut schaffbare Herausforderung\, für Viellä
 ufer ein willkommenes Training. Umso mehr bei dem reizvollen Streckenv
 erlauf über Asphalt\, Schotter- und Feldwege.<br>\nLos geht’s vom Südw
 estpark aus Richtung Gebersdorf. Im Wiesengrund führt die Strecke imme
 r der Rednitz entlang gen Fürth. Nach einer Kehrtwende heißt es dann a
 n den grünen Uferzonen neben dem Rhein-Main-Donau-Kanal: Endspurt zurü
 ck bis zum Südwestpark!</p>\n<p>Für ausreichend Verpflegungsposten ent
 lang der Strecke ist selbstverständlich gesorgt.</p>\n<h3><strong>Die 
 wichtigsten Fakten:</strong></h3>\n<ul>\n<li><strong>Termin:</strong> 
 11. Juni</li>\n<li><strong>Start/Ziel:</strong> im Südwestpark</li>\n<
 li><strong>Strecke Läufer/Nordic Walker:</strong><br>\n9\,9 km (über G
 ebersdorf die Rednitz entlang Richtung Fürth\, am Ufer des Main-Donau-
 Kanals zurück zum Südwestpark)</li>\n<li><b>Strecke Läufer</b>:<br>\n5
 \,0 km\, Begrenzung auf maximal 400 Läufer (südlich Richtung Main-Dona
 u- Kanal entlang – bis zu einer Wende nach ca. 2\,5 km)</li>\n<li><str
 ong>Strecke Kinder (4 bis 6 Jahre):</strong><br>\neine Runde durch den
  Südwestpark</li>\n<li><strong>Strecke Schüler (7 bis 14 Jahre):</stro
 ng><br>\neine Runde durch den Südwestpark</li>\n</ul>\n<h3>Alle Startz
 eiten:</h3>\n<ul>\n<li>ab 15:00 Uhr: Nachmeldung und Abholung der Star
 terunterlagen im Start-/Zielbereich</li>\n</ul>\n<ul>\n<li>18.00 Uhr: 
 Kinder</li>\n<li>18:15 Uhr: Schüler</li>\n<li>18:30 Uhr: 9\,9 km Läufe
 r</li>\n<li>18:35 Uhr: 9\,9 km Walker</li>\n<li>18:45 Uhr: 5 km Läufer
 </li>\n</ul>\n<ul>\n<li>ca. 20:15 Uhr: Zieleinlauf</li>\n<li>ca. 20:30
  Uhr: Siegerehrung</li>\n</ul>\n<h3 id=c47><strong>In der Startgebühr 
 inbegriffen:</strong></h3>\n<ul>\n<li>hochwertiges Funktionsshirt (sol
 ange Vorrat reicht)</li>\n<li>Transponder-Zeitmessung</li>\n<li>Dusch-
  und Umkleidemöglichkeiten</li>\n<li>Verpflegungsposten auf der Streck
 e</li>\n<li>Urkunde (als Online-Ausdruck)</li>\n<li>Parkplätze in den 
 Parkhäusern</li>\n</ul>\n<h3>Anmeldungen und Startgebühren:</h3>\n<tab
 le>\n<thead>\n<tr><th colspan=1 rowspan=1 scope=col></th>\n<th colspan
 =1 rowspan=1 scope=col><strong><br>\nFrühbucherpreis (bis 30.04.)</str
 ong></th>\n<th colspan=1 rowspan=1 scope=col><strong><br>\nNormaler Pr
 eis</strong></th></tr>\n</thead>\n<tbody>\n<tr><td><strong>Einzelläufe
 r Erwachsen</strong></td>\n<td>12 €</td>\n<td>14 €</td></tr>\n<tr><td>
 <strong>Gruppe Erwachsen</strong></td>\n<td>10 €</td>\n<td>12 €</td></
 tr>\n<tr><td><strong>Einzelläufer/Gruppe Kind/Schüler</strong></td>\n<
 td>kostenlos</td>\n<td>4 €</td></tr>\n</tbody>\n</table>\n<div id=c110
 >\n<p><strong>Anmeldung vor Ort</strong><br>\nam 11. Juni ab 15 Uhr</p
 >\n</div>\n<p><strong>ONLINE-Anmeldeschluss</strong><br>\nist der 03. 
 Juni</p>\n<p>Weitere Info&#8217\;s beim Veranstalter: <a href=http://w
 ww.funrunsuedwest.de/ target=_blank>SÜD-WEST-PARK Management GmbH</a> 
 sowie Online <a href=http://www.funrunsuedwest.de/anmeldung.html targe
 t=_blank>Anmeldungen</a></p>\n<p>Alle Info&#8217\;s <a href=http://www
 .funrunsuedwest.de/ target=_blank>©FunRun Südwest</a></p>\n<hr style=h
 eight: 1px\; width: 640px\; size=1 />\n<h3><span style=text-decoration
 : underline\;><strong>Information zur Anmeldung für alle SUN LäuferInn
 en:</strong></span></h3>\n<p>Die Gruppenanmeldung wird/kann wieder dur
 ch mich (Frank H.W. ) durchgeführt. Wer sich für diesen Lauf interessi
 ert und anmelden möchte bitte folgendermaßen vorgehen:</p>\n<p>In das 
 Feld <em>Name</em> bitte <strong>Vorname und Nachname</strong> eintrag
 en.</p>\n<p>In das Feld <em>E-Mail</em> die <span style=text-decoratio
 n: underline\;><strong>priv. oder geschäftl. Emailadresse</strong></sp
 an> eingeben.</p>\n<p>In das Feld <em>Phone Number</em> die <strong>pr
 iv. oder geschäftl. Telefonnummer</strong> eingeben<strong>.</strong><
 br>\n<br>\nBei <em>Seats </em>immer nur <strong>1</strong> auswählen<s
 trong>.</strong><br>\n<br>\nIn das Feld Comment die Daten für:</p>\n<u
 l>\n<li>Geschlecht\,(<strong>M/W</strong>)</li>\n<li>Jahrgang (<strong
 >19xx</strong>)</li>\n<li>T-Shirt Größe (<strong>XXS &#8211\; XL</stro
 ng>)</li>\n</ul>\n<p>in verständlicher Form eingeben.</p>\n<p>Bevor ma
 n den Button &#8222\;<strong>Teilnahmeanfrage absenden</strong>&#8220\
 ; klickt<strong>\, </strong>den angezeigten <strong>Code </strong>in d
 as Feld eintragen<strong>.</strong><br>\n<br>\nDas war&#8217\;s. Nach 
 einigen Augenblicken taucht euer Name unter &#8222\;<strong>bisher gem
 eldet</strong>&#8220\; auf. Die weiteren Daten sind nur für mich sicht
 bar. Diese werde für die Gruppenanmeldung auf der Homepage des Veranst
 alters benötigt. Anmeldeschluß auf dieser Seite ist ebenfalls der 03. 
 Juni.</p>\n
URL:https://www.runningsocks.de/wordpress/terminkalender/eventsinglepa
 ge/?event_id=328&lang=de
ATTACH:https://www.runningsocks.de/wordpress/terminkalender/eventsingl
 epage/?event_id=328&lang=de
LOCATION:Südwestpark\, Südwestpark 41\, Nürnberg
END:VEVENT
END:VCALENDAR
