BEGIN:VCALENDAR
VERSION:2.0
METHOD:PUBLISH
PRODID:-//hacksw/handcal//NONSGML v1.0//EN
BEGIN:VEVENT
DTSTAMP:20260419T165142Z
DTSTART:20100522T140000Z
DTEND:20100522T150000Z
UID:20100522T140000Z-20100522T150000Z-33@www.runningsocks.de
SUMMARY:Leinburger KIRWA Lauf
DESCRIPTION:Am Samstag\, den 22.  Mai 2010 ist es wieder so weit. Der 
 alljährliche Kirwalauf findet statt.\n\nAchtung: aktuelle Info's unter
  TV-Leinburg\n\nAusschreibung: Ausschreibung_Leinburger_Kirwalauf_2010
 0522\n\nStart & Ziel: Brauereihof Bub / Leinburg       \n Kinderlauf: 
 500 m \n Schülerlauf: 2 km       \n Kirwalauf: 5 km und 10 km       \n
  Nordic-Walking-Lauf: 5 km       \n Startzeit:\n 15:00 Uhr Kinderlauf\
 n 15:30 Uhr Schülerlauf\n 16:00 Uhr Kirwalauf 10 km\n 16:10 Uhr Kirwal
 auf 5 km\n 16:10 Uhr Nordic-Walking 5 km\n Klasseneinteilung:\n Kinder
 lauf = Mädchen/Jungen - Jahrgang 2001 und jünger\n Schülerlauf = Schül
 er - Jahrgang 2000 bis 1997\n Kirwalauf = Jugendliche ab Jahrgang 1996
 \, Damen & Herren\n Es erfolgt keine spezielle Klassenwertung!\n\nPrei
 se:\n Die 3 Schnellsten jedes Rennens (Kirwalauf)\, weiblich &  männli
 ch\, erhalten Sachpreise. Zudem erfolgt eine Sachpreisverlosung  unter
  allen Teilnehmern.\n\nStartgeld:\n Kinder-/Schülerlauf: 2\,00 EUR\n K
 irwalauf/Nordic-Walking: 5\,00 EUR\n\nStartnummernausgabe:\n 14:00 bis
  15:00 Uhr im Brauereihof\n Siegerehrung:\n ca. 18:00 Uhr im Brauereih
 of\n\nDuschmöglichkeit im Sportheim des TV Leinburg\n\nAnmeldung bis 2
 1. Mai 2010 (19:00 Uhr) bei:\n Franz Stieglbauer\n Bachgasse 7\, 91227
  Leinburg\n Telefon: 09120 / 68 29\n E-Mail: jugendbeauftragter.leinbu
 rg@gmx.de \n\nUnd was noch...?\n Sanitätsdienst: Bergwacht Lauf\n Star
 tnummern sind sichtbar auf der Brust zu tragen (sonst keine  Wertung).
  Überholen im markierten Zieleinlauf ist strengstens verboten  und wir
 d bei Nichtbeachtung mit Disqualifikation geahndet. \n Haftung:\n Der 
 Veranstalter übernimmt keine Haftung für Unfälle\,  Sachbeschädigungen
  oder sonstige Schäden aller Art. Auf die  Versicherungspflicht wird h
 ingewiesen!\n\nStreckenrekorde:\n 10 km\n Männer: Marco Benz (2009) - 
 34:20 min.\n Frauen: Marianne Odörfer (2009) - 42:14 min.\n\n5 km\n Mä
 nner: Florian Lang (2006) - 17:05 min.\n Frauen: Maria Riedl (2006) - 
 23:02 min.\n\nUnd danach noch ein Bierchen im Brauereihof
X-ALT-DESC;FMTTYPE=text/html:<h3>Am Samstag\, den 22.  Mai 2010 ist es
  wieder so weit. Der alljährliche Kirwalauf findet statt.</h3>\n<p>Ach
 tung: aktuelle Info&#8217\;s unter <a href=http://www.tvleinburg.de/sk
 iabteilung/ target=_blank>TV-Leinburg</a></p>\n<p>Ausschreibung: <a hr
 ef=https://www.runningsocks.de/wordpress/wp-content/uploads/2010/05/Le
 inburger_Kirwalauf_20100522.pdf>Ausschreibung_Leinburger_Kirwalauf_201
 00522</a></p>\n<p><strong>Start &amp\; Ziel:</strong> Brauereihof Bub 
 / Leinburg       <br>\n Kinderlauf: 500 m <br>\n Schülerlauf: 2 km    
    <br>\n Kirwalauf: 5 km und 10 km       <br>\n Nordic-Walking-Lauf: 
 5 km       <br>\n <strong>Startzeit:</strong><br>\n 15:00 Uhr Kinderla
 uf<br>\n 15:30 Uhr Schülerlauf<br>\n 16:00 Uhr Kirwalauf 10 km<br>\n 1
 6:10 Uhr Kirwalauf 5 km<br>\n 16:10 Uhr Nordic-Walking 5 km<br>\n <str
 ong>Klasseneinteilung:</strong><br>\n Kinderlauf = Mädchen/Jungen &#82
 11\; Jahrgang 2001 und jünger<br>\n Schülerlauf = Schüler &#8211\; Jah
 rgang 2000 bis 1997<br>\n Kirwalauf = Jugendliche ab Jahrgang 1996\, D
 amen &amp\; Herren<br>\n Es erfolgt keine spezielle Klassenwertung!</p
 >\n<p><strong>Preise:</strong><br>\n Die 3 Schnellsten jedes Rennens (
 Kirwalauf)\, weiblich &amp\;  männlich\, erhalten Sachpreise. Zudem er
 folgt eine Sachpreisverlosung  unter allen Teilnehmern.</p>\n<p><stron
 g>Startgeld:</strong><br>\n Kinder-/Schülerlauf: 2\,00 EUR<br>\n Kirwa
 lauf/Nordic-Walking: 5\,00 EUR</p>\n<p><strong>Startnummernausgabe:</s
 trong><br>\n 14:00 bis 15:00 Uhr im Brauereihof<br>\n Siegerehrung:<br
 >\n ca. 18:00 Uhr im Brauereihof</p>\n<p>Duschmöglichkeit im Sportheim
  des TV Leinburg</p>\n<p>Anmeldung bis 21. Mai 2010 (19:00 Uhr) bei:<b
 r>\n Franz Stieglbauer<br>\n Bachgasse 7\, 91227 Leinburg<br>\n Telefo
 n: 09120 / 68 29<br>\n <a href=mailto:jugendbeauftragter.leinburg@gmx.
 de>E-Mail: jugendbeauftragter.leinburg@gmx.de </a></p>\n<p>Und was noc
 h&#8230\;?<br>\n Sanitätsdienst: Bergwacht Lauf<br>\n Startnummern sin
 d sichtbar auf der Brust zu tragen (sonst keine  Wertung). Überholen i
 m markierten Zieleinlauf ist strengstens verboten  und wird bei Nichtb
 eachtung mit Disqualifikation geahndet. <br>\n Haftung:<br>\n Der Vera
 nstalter übernimmt keine Haftung für Unfälle\,  Sachbeschädigungen ode
 r sonstige Schäden aller Art. Auf die  Versicherungspflicht wird hinge
 wiesen!</p>\n<p><strong>Streckenrekorde:</strong><br>\n 10 km<br>\n Mä
 nner: Marco Benz (2009) &#8211\; 34:20 min.<br>\n Frauen: Marianne Odö
 rfer (2009) &#8211\; 42:14 min.</p>\n<p>5 km<br>\n Männer: Florian Lan
 g (2006) &#8211\; 17:05 min.<br>\n Frauen: Maria Riedl (2006) &#8211\;
  23:02 min.</p>\n<p>Und danach noch ein Bierchen im <a href=http://www
 .leinburger-bier.de/ target=_blank>Brauereihof</a></p>\n
URL:https://www.runningsocks.de/wordpress/terminkalender/eventsinglepa
 ge/?event_id=33&lang=de
ATTACH:https://www.runningsocks.de/wordpress/terminkalender/eventsingl
 epage/?event_id=33&lang=de
LOCATION:Brauereihof Bub\, Marktplatz 14\, Leinburg
END:VEVENT
END:VCALENDAR
