BEGIN:VCALENDAR
VERSION:2.0
METHOD:PUBLISH
PRODID:-//hacksw/handcal//NONSGML v1.0//EN
BEGIN:VEVENT
DTSTAMP:20260419T165316Z
DTSTART:20100410T120000Z
DTEND:20100410T140000Z
UID:20100410T120000Z-20100410T140000Z-34@www.runningsocks.de
SUMMARY:8. Nika Sport Lauf
DESCRIPTION:Für Kinder und Erwachsene\n\nStart Kinder/ Schüler:       
 ab 14.00h\nStart  Hauptlauf(10 km) :  15.00h\n\nMeldungen an Nika-Spor
 t tel.  0911/884055\nMeldeschluss am Dienstag\, 06.04.2010\n\nKontakt:
 \n Nika Sport GmbH\n\n\n\n\nTelefon: 0911 / 884055   							 								\
 nEmail\n\n\n\n\nWeiter Infos beim Veranstalter:  Nika Sport GmbH
X-ALT-DESC;FMTTYPE=text/html:<p>Für Kinder und Erwachsene</p>\n<p>Star
 t Kinder/ Schüler:       ab 14.00h<br>\nStart  Hauptlauf(10 km) :  15.
 00h</p>\n<p>Meldungen an Nika-Sport tel.  0911/884055<br>\nMeldeschlus
 s am Dienstag\, 06.04.2010</p>\n<p>Kontakt:<br>\n <strong>Nika Sport G
 mbH</strong></p>\n<table style=width: 100%\; border=0 cellspacing=0 ce
 llpadding=2>\n<tbody>\n<tr><td valign=top>Telefon: 0911 / 884055   			
 				 								<br>\n<a href=mailto:info@nikasport.de>Email</a></td></tr
 >\n</tbody>\n</table>\n<p>Weiter Infos beim Veranstalter:  <a href=htt
 p://www.nikasport.de/events.asp target=_blank>Nika Sport GmbH</a></p>\
 n
URL:https://www.runningsocks.de/wordpress/terminkalender/eventsinglepa
 ge/?event_id=34&lang=de
ATTACH:https://www.runningsocks.de/wordpress/terminkalender/eventsingl
 epage/?event_id=34&lang=de
LOCATION:Am Steinbrüchlein\, Am Steinbrüchlein\, Nürnberg\, Deutschlan
 d
END:VEVENT
END:VCALENDAR
