BEGIN:VCALENDAR
VERSION:2.0
METHOD:PUBLISH
PRODID:-//hacksw/handcal//NONSGML v1.0//EN
BEGIN:VEVENT
DTSTAMP:20260419T165231Z
DTSTART:20100801T073000Z
DTEND:20100801T090000Z
UID:20100801T073000Z-20100801T090000Z-35@www.runningsocks.de
SUMMARY:10. Hilpoltsteiner Burgfestlauf
DESCRIPTION:Läufe:\n\n9:00 Uhr Bambinilauf 600 m\n 9:10 Uhr Schülerlau
 f 1 1.200 m\n 9:30 Uhr Schülerlauf 2 / Hobbylauf 3.800 m\n 9:30 Uhr Ha
 uptlauf 7.600 m\n\nStart und Ziel:\n\nMarktstraße in Hilpoltstein\n\nS
 tartunterlagen:\n\nWerden in der Marktstr. 16 vor der Geschäftsstelle 
 des  Hilpoltsteiner   Kuriers ausgegeben.\n\nAusschreibung: 10. Hilpol
 tstein_Burgfestlauf_2010\n\nWeitere Infos und Anmeldung beim Veranstal
 ter: www.triathlon-hip.de
X-ALT-DESC;FMTTYPE=text/html:<p><strong>Läufe:</strong></p>\n<p>9:00 U
 hr Bambinilauf 600 m<br>\n 9:10 Uhr Schülerlauf 1 1.200 m<br>\n 9:30 U
 hr Schülerlauf 2 / Hobbylauf 3.800 m<br>\n 9:30 Uhr Hauptlauf 7.600 m<
 /p>\n<p><strong>Start und Ziel:</strong></p>\n<p>Marktstraße in Hilpol
 tstein</p>\n<p><strong>Startunterlagen:</strong></p>\n<p>Werden in der
  Marktstr. 16 vor der Geschäftsstelle des  Hilpoltsteiner   Kuriers au
 sgegeben.</p>\n<p>Ausschreibung: <a href=https://www.runningsocks.de/w
 ordpress/wp-content/uploads/2010/04/Hilpoltstein_Burgfestlauf_2010.pdf
 >10. Hilpoltstein_Burgfestlauf_2010</a></p>\n<p>Weitere Infos und Anme
 ldung beim Veranstalter:<a href=http://www.triathlon-hip.de/index.php?
 option=com_content&amp\;view=article&amp\;id=65&amp\;Itemid=141 target
 =_blank> www.triathlon-hip.de</a></p>\n
URL:https://www.runningsocks.de/wordpress/terminkalender/eventsinglepa
 ge/?event_id=35&lang=de
ATTACH:https://www.runningsocks.de/wordpress/terminkalender/eventsingl
 epage/?event_id=35&lang=de
LOCATION:Marktstrasse Hilpoltstein\, Marktstrasse 16\, Hilpoltstein
END:VEVENT
END:VCALENDAR
