BEGIN:VCALENDAR
VERSION:2.0
METHOD:PUBLISH
PRODID:-//hacksw/handcal//NONSGML v1.0//EN
BEGIN:VEVENT
DTSTAMP:20260419T165233Z
DTSTART:20150920T080000Z
DTEND:20150920T120000Z
UID:20150920T080000Z-20150920T120000Z-357@www.runningsocks.de
SUMMARY:16. Neumarkter Stadtlauf
DESCRIPTION:Termin ist unbestätigt !!\n\nDer Neumarkter Stadtlauf sche
 int gerettet! In den vergangenen Wochen hatte die Zukunft der populäre
 n Sportveranstaltung auf der Kippe gestanden\, weil einige langjährige
  Mitglieder des ehrenamtlichen Teams sich die zeitliche Belastung nich
 t mehr zumuten wollten. Inzwischen haben sich aber wohl doch noch Frei
 willige und Ehrenamtliche gefunden\, um dieses tolle Laufereignis in d
 er Oberpfalz auch weiterhin am Leben zu erhalten\n\n(Quelle: Neumarkte
 r Stadtlauf / Flyer 2014)\n\nEs ist schon Tradition: Immer eine Wochen
 ende nach dem die Ferien zu Ende sind startet der Neumarkter Stadtlauf
 .\n\nGelaufen wird nicht nur für die eigenen Gesundheit\, sondern auch
  für einen guten Zweck. Seit dem 1. Neumarkter Stadtlauf unterstützt d
 er Neumarkter Stadtlauf die DKMS. Seit dem Jahre 2000 wurden schon meh
 r als 180.000\,- € an Spendengeldern an die DKMS übergeben. Mit dieser
  Summe konnten weitere 2.200 potenzielle Spender in die Datei aufgenom
 men werden.\n\nWeitere Informationen findet ihr auch unter www.dkms.de
 .\nZudem unterstützt der Lauf  soziale Projekte in Stadt und Landkreis
  Neumarkt.\nDabei konnten zur oben genannten Spendensumme weitere 35.0
 00\,- € erlaufen werden.\n\nStart / Ziel:\n\n\n\n\n\nStartgebühren\n\n
 \n\nLauf\nDatum\nUhrzeit\nStart\nZielschluss\nbis 14.07.\n15.07. - 03.
 09\n04.09. - 14.09.\n\n\n5\,5km Schnupperlauf\n20.09.\n09:50\nRathaus\
 , Innenstadt\n12:00\n15\,50 EUR\n18\,50 EUR\n23\,50 EUR\n\n\n10\,50Km\
 n20.09.\n10:00\nRathaus\, Innenstadt\n12:00\n19\,50 EUR\n22\,50 EUR\n2
 7\,50 EUR\n\n\n21\,12Km Halbmarathon\n20.09.\n10:00\nRathaus\, Innenst
 adt\n14:00\n25\,50 EUR\n27\,50 EUR\n32\,50 EUR\n\n\n\nund weitere Läuf
 e für Schüler\, Kinder und Bambini. Details hierzu siehe Homepage des 
 Veranstalters.\n\nWeitere Läufe sh. Flyer oder Webseite des Veranstalt
 ers!\nLeistungen:\nWas man alles für sein Startgeld bekommt:\n\n	Funkt
 ions T-Shirt als Finishergeschenk\n	Finishermedaille\n	Startnummer mit
  persönlichen Vornamen\n	Informationszeitschrift mit allen Startern\n	
 Gutschein für die Kloß mit Soß Party am Samstag\n	Gutschein für einen 
 freien Eintritt im Freibad\n	Nettozeitmessung mittels Chips mit Einzel
 wertung\, Klassenwertung und Teamwertung\n	Abgesperrte Strecke mit gro
 ßen Kilometertafeln\n	Musik an vielen Stellen\n	Kostenlose Teilnahme a
 m Samstagprogramm mit Livemusik\n	Ärztliche Versorgung mit drei Notärz
 ten und vielen Sanitätern auf der Strecke und im Zielbereich\n	Verpfle
 gung auf der Strecke mit Wasser und ISO\n	\nVerpflegung im Zielbereich
  mit Wasser\, ISO\; Cola und Früchten\n	Dusch- und Massagemöglichkeit 
 nach dem Lauf\n	Rahmenprogramm für Groß und Klein\n	Urkunde\, Ergebnis
 heft im Internet zum runterladen\n	Und natürlich einen perfekt organis
 ierten Ablauf\n\nWertungen:\nEinzelwertung\, Stadtmeister/Stadtmeister
 in\, Mannschaftswertung (5 Läufer bilden eine Mannschaft\, bitte auf i
 dentische Mannschaftsnamen im Meldeformular achten).\n\nFlyer zum 15. 
 Neumarkter Stadtlauf:\n\nFlyer folgt sobald verfügbar !\n\nWeitere Inf
 o's und Onlineanmeldung beim Veranstalter: Stadtlauf Neumarkt e.V.
X-ALT-DESC;FMTTYPE=text/html:<p style=text-align: center\;><span style
 =text-decoration: underline\; color: #ff0000\;><strong>Termin ist unbe
 stätigt !!<br>\n</strong></span></p>\n<p>Der Neumarkter Stadtlauf sche
 int gerettet! In den vergangenen Wochen hatte die Zukunft der populäre
 n Sportveranstaltung auf der Kippe gestanden\, weil einige langjährige
  Mitglieder des ehrenamtlichen Teams sich die zeitliche Belastung nich
 t mehr zumuten wollten. Inzwischen haben sich aber wohl doch noch Frei
 willige und Ehrenamtliche gefunden\, um dieses tolle Laufereignis in d
 er Oberpfalz auch weiterhin am Leben zu erhalten</p>\n<p>(Quelle: <a h
 ref=http://stadtlauf-neumarkt.de target=_blank>Neumarkter Stadtlauf</a
 > / Flyer 2014)</p>\n<p>Es ist schon Tradition: Immer eine Wochenende 
 nach dem die Ferien zu Ende sind startet der Neumarkter Stadtlauf.</p>
 \n<p>Gelaufen wird nicht nur für die eigenen Gesundheit\, sondern auch
  für einen guten Zweck. Seit dem 1. Neumarkter Stadtlauf unterstützt d
 er Neumarkter Stadtlauf die DKMS. Seit dem Jahre 2000 wurden schon meh
 r als 180.000\,- € an Spendengeldern an die DKMS übergeben. Mit dieser
  Summe konnten weitere 2.200 potenzielle Spender in die Datei aufgenom
 men werden.</p>\n<p>Weitere Informationen findet ihr auch unter <a hre
 f=www.dkms.de target=_blank>www.dkms.de</a>.<br>\nZudem unterstützt de
 r Lauf  soziale Projekte in Stadt und Landkreis Neumarkt.<br>\nDabei k
 onnten zur oben genannten Spendensumme weitere 35.000\,- € erlaufen we
 rden.</p>\n<p><strong>Start / Ziel:</strong></p>\n<table>\n<tbody>\n<t
 r><td colspan=5></td>\n<td colspan=3><p style=text-align: center\;><st
 rong>Startgebühren</strong></p></td></tr>\n<tr><td style=text-align: c
 enter\;><strong>Lauf</strong></td>\n<td style=text-align: center\;><st
 rong>Datum</strong></td>\n<td style=text-align: center\;><strong>Uhrze
 it</strong></td>\n<td style=text-align: center\;><strong>Start</strong
 ></td>\n<td style=text-align: center\;><strong>Zielschluss</strong></t
 d>\n<td style=text-align: center\;><strong>bis 14.07.</strong></td>\n<
 td style=text-align: center\;><strong>15.07. &#8211\; 03.09</strong></
 td>\n<td style=text-align: center\;><strong>04.09. &#8211\; 14.09.</st
 rong></td></tr>\n<tr><td style=text-align: center\;>5\,5km Schnupperla
 uf</td>\n<td style=text-align: center\;>20.09.</td>\n<td style=text-al
 ign: center\;>09:50</td>\n<td style=text-align: center\;>Rathaus\, Inn
 enstadt</td>\n<td style=text-align: center\;>12:00</td>\n<td style=tex
 t-align: center\;>15\,50 EUR</td>\n<td style=text-align: center\;>18\,
 50 EUR</td>\n<td style=text-align: center\;>23\,50 EUR</td></tr>\n<tr>
 <td style=text-align: center\;>10\,50Km</td>\n<td style=text-align: ce
 nter\;>20.09.</td>\n<td style=text-align: center\;>10:00</td>\n<td sty
 le=text-align: center\;>Rathaus\, Innenstadt</td>\n<td style=text-alig
 n: center\;>12:00</td>\n<td style=text-align: center\;>19\,50 EUR</td>
 \n<td style=text-align: center\;>22\,50 EUR</td>\n<td style=text-align
 : center\;>27\,50 EUR</td></tr>\n<tr><td style=text-align: center\;>21
 \,12Km Halbmarathon</td>\n<td style=text-align: center\;>20.09.</td>\n
 <td style=text-align: center\;>10:00</td>\n<td style=text-align: cente
 r\;>Rathaus\, Innenstadt</td>\n<td style=text-align: center\;>14:00</t
 d>\n<td style=text-align: center\;>25\,50 EUR</td>\n<td style=text-ali
 gn: center\;>27\,50 EUR</td>\n<td style=text-align: center\;>32\,50 EU
 R</td></tr>\n</tbody>\n</table>\n<p>und weitere Läufe für Schüler\, Ki
 nder und Bambini. Details hierzu siehe Homepage des Veranstalters.</p>
 \n<p><strong>Weitere Läufe sh. Flyer oder Webseite des Veranstalters<s
 trong>!</strong></strong></p>\n<h3>Leistungen:</h3>\n<p>Was man alles 
 für sein Startgeld bekommt:</p>\n<ul>\n<li>Funktions T-Shirt als Finis
 hergeschenk</li>\n<li>Finishermedaille</li>\n<li>Startnummer mit persö
 nlichen Vornamen</li>\n<li>Informationszeitschrift mit allen Startern<
 /li>\n<li>Gutschein für die &#8222\;Kloß mit Soß Party&#8220\; am Sams
 tag</li>\n<li>Gutschein für einen freien Eintritt im Freibad</li>\n<li
 >Nettozeitmessung mittels Chips mit Einzelwertung\, Klassenwertung und
  Teamwertung</li>\n<li>Abgesperrte Strecke mit großen Kilometertafeln<
 /li>\n<li>Musik an vielen Stellen</li>\n<li>Kostenlose Teilnahme am Sa
 mstagprogramm mit Livemusik</li>\n<li>Ärztliche Versorgung mit drei No
 tärzten und vielen Sanitätern auf der Strecke und im Zielbereich</li>\
 n<li>Verpflegung auf der Strecke mit Wasser und ISO</li>\n<li>\n<div>V
 erpflegung im Zielbereich mit Wasser\, ISO\; Cola und Früchten</div>\n
 </li>\n<li>Dusch- und Massagemöglichkeit nach dem Lauf</li>\n<li>Rahme
 nprogramm für Groß und Klein</li>\n<li>Urkunde\, Ergebnisheft im Inter
 net zum runterladen</li>\n<li>Und natürlich einen perfekt organisierte
 n Ablauf</li>\n</ul>\n<h3><strong>Wertungen:</strong></h3>\n<p>Einzelw
 ertung\, Stadtmeister/Stadtmeisterin\, Mannschaftswertung (5 Läufer bi
 lden eine Mannschaft\, bitte auf identische Mannschaftsnamen im Meldef
 ormular achten).</p>\n<p>Flyer zum 15. Neumarkter Stadtlauf:</p>\n<p><
 strong><span style=color: #ff0000\;>Flyer folgt sobald verfügbar !</sp
 an></strong><br>\n<br>\nWeitere Info&#8217\;s und Onlineanmeldung beim
  Veranstalter: <a href=http://www.stadtlauf-neumarkt.de target=_blank>
 Stadtlauf Neumarkt e.V.</a></p>\n
URL:https://www.runningsocks.de/wordpress/terminkalender/eventsinglepa
 ge/?event_id=357&lang=de
ATTACH:https://www.runningsocks.de/wordpress/terminkalender/eventsingl
 epage/?event_id=357&lang=de
LOCATION:Rathaus Neumarkt\, Rathaus\, Neumarkt
END:VEVENT
END:VCALENDAR
