BEGIN:VCALENDAR
VERSION:2.0
METHOD:PUBLISH
PRODID:-//hacksw/handcal//NONSGML v1.0//EN
BEGIN:VEVENT
DTSTAMP:20260419T165514Z
DTSTART:20150830T080000Z
DTEND:20150830T130000Z
UID:20150830T080000Z-20150830T130000Z-358@www.runningsocks.de
SUMMARY:29. Neustädter Volkstriathlon
DESCRIPTION:ACHTUNG: Die Veranstaltung wurde abgesagt !!\nAuto Maier V
 olkstriathlon am 30.08.2015\nmuss leider abgesagt werden. Auf der Rads
 trecke\nwird ein Tunnel der DB erneuert was wir durch eine\nAlternativ
 strecke noch kompensieren könnten\,\ndie zweite Baustelle befindet sic
 h direkt am Ende\ndes Stadtparks am Weiher\, diese ist leider alternat
 iv\nnicht zu umfahren.\nWir bedauern diese Entscheidung sehr.\nEuer Or
 ga-Team\nZeitplan Samstag:\n14:30 - 16:00: Startnummernausgabe für all
 e aus der näheren Umgebung\nZeitplan Sonntag:\n\n\n\n\n\n\n08:00 - 09:
 00\nStartnummernausgabe\n\n\n\n\n09:15\nWettkampfbesprechung (Teilnahm
 epflicht)\n\n\n\n\n10:00\n1. Start zu Gruppen von 40 Teilnehmern | 8 S
 tarter pro Bahn | 5 Bahnen. Weitere Starts im Abstand von je 15 Minute
 n\n\n\n\n\nca. 14:30\n\nSiegerehrung (Terrasse am Schwimmerbecken)\n\n
 \n\nDistanzen:\nSchwimmen\n400 m (8 Bahnen)\n\n\n\n\nRadfahren\n20 000
  m (NEA-Neuschauerberg–NEA)\n\n\n\n\nLaufen\n5 000 m (Stadtpark\, südl
 ich Freibad)\n\n\n\nTeilnahme:\nStartberechtigt sind Personen ab 16 Ja
 hre\n\n\n\n\nStartgeld:\n25\,00 € über Lastschrifteinzug bei online-An
 meldung sonst siehe Bankverbindung\n\n\nAnmeldung:\nhier geht's zum Me
 ldeformular\n\n\nMeldeschluss:\nXX.08 - 23:55\n\n\nNachmeldungen:\n30\
 ,00 € bei Nachmeldung bzw. Zahlung nach Meldeschluss\n\n\nQuelle:\nAll
 en Infos von: http://www.dlrg-nea.de\n\n\n\n \n\n \n\n \n\n \n\n \n\n 
 \n\n \n\n \n\n \n\n \n\n \n\n \n\n \n\nWeitere Info's und Onlineanmeld
 ung beim Veranstalter: DLRG OV Neustadt a.d. Aisch
X-ALT-DESC;FMTTYPE=text/html:<p style=text-align: center\;><strong><sp
 an style=color: #ff0000\;>ACHTUNG: Die Veranstaltung wurde abgesagt !!
 </span></strong></p>\n<p style=text-align: center\;>Auto Maier Volkstr
 iathlon am 30.08.2015<br>\nmuss leider abgesagt werden. Auf der Radstr
 ecke<br>\nwird ein Tunnel der DB erneuert was wir durch eine<br>\nAlte
 rnativstrecke noch kompensieren könnten\,<br>\ndie zweite Baustelle be
 findet sich direkt am Ende<br>\ndes Stadtparks am Weiher\, diese ist l
 eider alternativ<br>\nnicht zu umfahren.<br>\nWir bedauern diese Entsc
 heidung sehr.<br>\nEuer Orga-Team</p>\n<p style=text-align: left\;><sp
 an style=color: #000000\;><span style=text-decoration: underline\;><sp
 an style=font-size: small\;>Zeitplan Samstag:</span></span></span></p>
 \n<p style=text-align: left\;>14:30 &#8211\; 16:00: Startnummernausgab
 e für alle aus der näheren Umgebung</p>\n<p style=text-align: left\;><
 span style=color: #000000\;><span style=text-decoration: underline\;><
 span style=font-size: small\;>Zeitplan Sonntag:</span></span><strong><
 span style=text-decoration: underline\;><br>\n</span></strong></span><
 /p>\n<table style=width: 700px\; border=0 cellspacing=5 cellpadding=5 
 align=left>\n<tbody>\n<tr><td valign=top></td>\n<td><span style=font-s
 ize: small\;>08:00 &#8211\; 09:00</span></td>\n<td colspan=2 valign=to
 p><span style=font-size: small\;>Startnummernausgabe</span></td>\n<td>
 </td></tr>\n<tr><td valign=top></td>\n<td><span style=font-size: small
 \;>09:15</span></td>\n<td colspan=2><span style=font-size: small\;>Wet
 tkampfbesprechung (Teilnahmepflicht)</span></td>\n<td></td></tr>\n<tr>
 <td valign=top></td>\n<td valign=top><span style=font-size: small\;>10
 :00</span></td>\n<td colspan=2><span style=font-size: small\;>1. Start
  zu Gruppen von 40 Teilnehmern | 8 Starter pro Bahn | 5 Bahnen. Weiter
 e Starts im Abstand von je 15 Minuten</span></td>\n<td></td></tr>\n<tr
 ><td valign=top></td>\n<td><span style=font-size: small\;>ca. 14:30<br
 >\n</span></td>\n<td colspan=2><span style=font-size: small\;>Siegereh
 rung (Terrasse am Schwimmerbecken)</span></td>\n<td></td></tr>\n<tr><t
 d valign=top><span style=font-size: small\;>Distanzen:</span></td>\n<t
 d><span style=font-size: small\;>Schwimmen</span></td>\n<td colspan=2>
 <span style=font-size: small\;>400 m (8 Bahnen)</span></td>\n<td></td>
 </tr>\n<tr><td valign=top></td>\n<td><span style=font-size: small\;>Ra
 dfahren</span></td>\n<td colspan=2><span style=font-size: small\;>20 0
 00 m (NEA-Neuschauerberg–NEA)</span></td>\n<td></td></tr>\n<tr><td val
 ign=top></td>\n<td><span style=font-size: small\;>Laufen</span></td>\n
 <td colspan=2><span style=font-size: small\;>5 000 m (Stadtpark\, südl
 ich Freibad)</span></td>\n<td></td></tr>\n<tr><td valign=top><span sty
 le=font-size: small\;>Teilnahme:</span></td>\n<td colspan=3><span styl
 e=font-size: small\;>Startberechtigt sind Personen ab 16 Jahre<br>\n</
 span></td>\n<td></td></tr>\n<tr><td valign=top><span style=font-size: 
 small\;>Startgeld:</span></td>\n<td colspan=4><span style=font-size: s
 mall\;>25\,00 € über Lastschrifteinzug bei online-Anmeldung sonst sieh
 e Bankverbindung</span></td></tr>\n<tr><td valign=top><span style=font
 -size: small\;>Anmeldung:</span></td>\n<td colspan=4><span style=font-
 size: small\;>hier geht&#8217\;s zum <a href=http://www.dlrg-nea.de/ne
 ustaedter-volkstriathlon target=_blank>Meldeformular</a></span></td></
 tr>\n<tr><td valign=top><span style=font-size: small\;>Meldeschluss:</
 span></td>\n<td colspan=4><span style=font-size: small\;>XX.08 &#8211\
 ; 23:55</span></td></tr>\n<tr><td valign=top><span style=font-size: sm
 all\;>Nachmeldungen:</span></td>\n<td colspan=4><span style=font-size:
  small\;>30\,00 € bei Nachmeldung bzw. Zahlung nach Meldeschluss</span
 ></td></tr>\n<tr><td valign=top><span style=font-size: small\;>Quelle:
 </span></td>\n<td colspan=4><span style=font-size: small\;>Allen Infos
  von: <a href=http://www.dlrg-nea.de/ target=_blank>http://www.dlrg-ne
 a.de</a></span></td></tr>\n</tbody>\n</table>\n<p>&nbsp\;</p>\n<p>&nbs
 p\;</p>\n<p>&nbsp\;</p>\n<p>&nbsp\;</p>\n<p>&nbsp\;</p>\n<p>&nbsp\;</p
 >\n<p>&nbsp\;</p>\n<p>&nbsp\;</p>\n<p>&nbsp\;</p>\n<p>&nbsp\;</p>\n<p>
 &nbsp\;</p>\n<p>&nbsp\;</p>\n<p>&nbsp\;</p>\n<p>Weitere Info&#8217\;s 
 und Onlineanmeldung beim Veranstalter: <a href=http://www.dlrg-nea.de/
 ausschreibung-2013 target=_blank>DLRG OV Neustadt a.d. Aisch</a></p>\n
URL:https://www.runningsocks.de/wordpress/terminkalender/eventsinglepa
 ge/?event_id=358&lang=de
ATTACH:https://www.runningsocks.de/wordpress/terminkalender/eventsingl
 epage/?event_id=358&lang=de
LOCATION:Neustädter Waldbad\, Eilersweg 5\, Neustadt a. d. Aisch
END:VEVENT
END:VCALENDAR
