BEGIN:VCALENDAR
VERSION:2.0
METHOD:PUBLISH
PRODID:-//hacksw/handcal//NONSGML v1.0//EN
BEGIN:VEVENT
DTSTAMP:20260419T165719Z
DTSTART:20150705T080000Z
DTEND:20150705T110000Z
UID:20150705T080000Z-20150705T110000Z-359@www.runningsocks.de
SUMMARY:28. Hersbrucker Volkstriathlon
DESCRIPTION:28. Hersbrucker Volkstriathlon\nVolks\,- Sprintdistanz übe
 r: 300 m - 20 km - 5 km\n\n\n	Schwimmen: Hersbrucker Badesee\n	Rad: He
 rsbrucker Badesee über Föhrenbach\, Alfeld nach Waller\n	Laufen: Walle
 r - Gravenbuch - Waller\n\nWer darf mitmachen?\nab Jugend A (16/17) fü
 r Jedermann\, auch Vereinslose\, Hobby- und Freizeitsportler. Einzel- 
 und Staffelmeldungen sind möglich.\nAnmeldung:\nAuf der Home des DAV H
 ersbruck unter folgendem Link: Zur Anmeldung\n\nMeldeschluss: 03.07.\n
 Startgebühren:\nEinzelstarter: 25\,00 EUR\n\nStaffel: 35:00 EUR\nInfor
 mationen:\nWeitere Informationen sh. Ausschreibung bzw. Internetseite 
 des Veranstalters DAV Hersbruck oder unter Trimag.de\nAusschreibung:\n
 folgt\, sobald verfügbar
X-ALT-DESC;FMTTYPE=text/html:<p style=text-align: center\;><span style
 =font-size: 14pt\;>28. Hersbrucker Volkstriathlon</span></p>\n<p style
 =text-align: justify\;>Volks\,- Sprintdistanz über: 300 m &#8211\; 20 
 km &#8211\; 5 km</p>\n<ul>\n<li style=text-align: justify\;>Schwimmen:
  Hersbrucker Badesee</li>\n<li style=text-align: justify\;>Rad: Hersbr
 ucker Badesee über Föhrenbach\, Alfeld nach Waller</li>\n<li style=tex
 t-align: justify\;>Laufen: Waller &#8211\; Gravenbuch &#8211\; Waller<
 /li>\n</ul>\n<h4>Wer darf mitmachen?</h4>\n<p>ab Jugend A (16/17) für 
 Jedermann\, auch Vereinslose\, Hobby- und Freizeitsportler. Einzel- un
 d Staffelmeldungen sind möglich.</p>\n<h4>Anmeldung:</h4>\n<p>Auf der 
 Home des DAV Hersbruck unter folgendem Link: <a href=http://www.dav-he
 rsbruck.de/index.php/abteilungen-gruppen/triathlon-duathlon/veranstalt
 ungen/eventlist/0/115/Triathlon/10>Zur Anmeldung</a></p>\n<p>Meldeschl
 uss: 03.07.</p>\n<h4>Startgebühren:</h4>\n<p>Einzelstarter: 25\,00 EUR
 </p>\n<p>Staffel: 35:00 EUR</p>\n<h4>Informationen:</h4>\n<p>Weitere I
 nformationen sh. Ausschreibung bzw. Internetseite des Veranstalters <a
  href=http://www.dav-hersbruck.de/ target=_blank>DAV Hersbruck</a> ode
 r unter <a href=http://tri-mag.de/termine/28-hersbrucker-volkstriathlo
 n>Trimag.de</a></p>\n<h4>Ausschreibung:</h4>\n<p><span style=color: #f
 f0000\;>folgt\, sobald verfügbar</span></p>\n
URL:https://www.runningsocks.de/wordpress/terminkalender/eventsinglepa
 ge/?event_id=359&lang=de
ATTACH:https://www.runningsocks.de/wordpress/terminkalender/eventsingl
 epage/?event_id=359&lang=de
LOCATION:Happurger Baggersee\, Bagger See\, Happurg
END:VEVENT
END:VCALENDAR
