BEGIN:VCALENDAR
VERSION:2.0
METHOD:PUBLISH
PRODID:-//hacksw/handcal//NONSGML v1.0//EN
BEGIN:VEVENT
DTSTAMP:20260419T165617Z
DTSTART:20160723T050000Z
DTEND:20160723T150000Z
UID:20160723T050000Z-20160723T150000Z-361@www.runningsocks.de
SUMMARY:17. Landkreislauf Nürnberger Land
DESCRIPTION:Am 23. Juli findet heuer der 17. Landkreislauf Nürnberger 
 Land statt. Start der ersten Etappe ist dieses Jahr noch unbekannt\, d
 as Ziel befindet sich in Feucht.\nAlle weitere Daten sind noch unbekan
 nt !!!!\nDie Streckenabschnitte:\n         \n\n\nNr\nvon\nnach\nkm\nUh
 rzeit\nStrecken\nHM bergauf\nHM bergab\n\n\n1\n Kirchensittenbach\nUnt
 erkrumbach\n3\,7\n07:00\n[wpfilebase tag=file path='lauf/landkreislauf
 -nuernberger-land/20150509/E1_Kirchensittenbach-Unterkrumbach.pdf' tpl
 =thumbnail /]\n 25\n 57\n\n\n2\nUnterkrumbach\nAlfalter\n 7\,3\n 07:40
 \n [wpfilebase tag=file path='lauf/landkreislauf-nuernberger-land/2015
 0509/E2_Unterkrumbach-Alfalter.pdf' tpl=thumbnail /]\n190\n174\n\n\n3\
 n Alfalter\nVorra\n 5\,3\n08:50\n  [wpfilebase tag=file path='lauf/lan
 dkreislauf-nuernberger-land/20150509/E3_Alfalter-Vorra.pdf' tpl=thumbn
 ail /]\n 14\n26\n\n\n4\n Vorra\nEschenbach\n 6\,4\n 09:45\n  [wpfileba
 se tag=file path='lauf/landkreislauf-nuernberger-land/20150509/E4_Vorr
 a-Eschenbach.pdf' tpl=thumbnail /]\n 25\n37\n\n\n5\n Eschenbach\nPomme
 lsbrunn\n 3\,2\n 11:00\n [wpfilebase tag=file path='lauf/landkreislauf
 -nuernberger-land/20150509/E5_Eschenbach-Pommelsbrunn.pdf' tpl=thumbna
 il /]\n 6\n6\n\n\n6\n Pommelsbrunn\n Happurg\n 4\,2\n 11:40\n  [wpfile
 base tag=file path='lauf/landkreislauf-nuernberger-land/20150509/E6_Po
 mmelsbrunn-Happurg.pdf' tpl=thumbnail /]\n16\n18\n\n\n7\n Happurg\n He
 rsbruck-Weiher\n 6\,7\n 12:30\n [wpfilebase tag=file path='lauf/landkr
 eislauf-nuernberger-land/20150509/E7_Happurg-Weiher.pdf' tpl=thumbnail
  /]\n 108\n104\n\n\n8\n Hersbruck-Weiher\nHenfenfeld\n 4\,6\n 13:45\n 
 [wpfilebase tag=file path='lauf/landkreislauf-nuernberger-land/2015050
 9/E8_Weiher-Henfenfeld.pdf' tpl=thumbnail /]\n139\n109\n\n\n9\n Henfen
 feld\nEngelthal\n 5\,6\n14:45\n [wpfilebase tag=file path='lauf/landkr
 eislauf-nuernberger-land/20150509/E9_Henfenfeld-Engelthal.pdf' tpl=thu
 mbnail /]\n 99\n70\n\n\n10\n Engelthal\nOffenhausen\n 4\,7\n 15:45\n [
 wpfilebase tag=file path='lauf/landkreislauf-nuernberger-land/20150509
 /E10_Engelthal-Offenhausen.pdf' tpl=thumbnail /]\n102\n113\n\n\n\n\n\n
 \n\n\n\n\n\n\n\n\nGesamt:\n51\,7\n \n\n\n\n\n\n\nAchtung: Änderungen s
 ind jederzeit möglich. Aktuelle Informationen nur auf der Seite des Ve
 ranstalters: Landkreislauf Nürnberger Land\n\nDie Strecken:\n\n[wpfile
 base tag=list id=228 tpl=data-table pagenav=1 sort='
X-ALT-DESC;FMTTYPE=text/html:<p>Am 23. Juli findet heuer der 17. Landk
 reislauf Nürnberger Land statt. Start der ersten Etappe ist dieses Jah
 r <span style=color: #ff0000\;>noch unbekannt</span>\, das Ziel befind
 et sich in Feucht.</p>\n<p style=text-align: center\;><strong><span st
 yle=color: #ff0000\;>Alle weitere Daten sind noch unbekannt !!!!</span
 ></strong></p>\n<p>Die Streckenabschnitte:</p>\n<table style=width: 68
 9px\; height: 341px\; border=0 cellspacing=0 cellpadding=0>\n<colgroup
 >\n<col width=29 />\n<col width=184 />\n<col width=166 />\n<col width=
 41 />\n<col width=56 />\n<col width=140 />\n<col width=81 />\n<col wid
 th=96 /> </colgroup>\n<tbody>\n<tr><td style=text-align: center\; widt
 h=29 height=20><strong>Nr</strong></td>\n<td style=text-align: center\
 ; width=184><strong>von</strong></td>\n<td style=text-align: center\; 
 width=166><strong>nach</strong></td>\n<td style=text-align: center\; w
 idth=41><strong>km</strong></td>\n<td style=text-align: center\; width
 =56><strong>Uhrzeit</strong></td>\n<td style=text-align: center\; widt
 h=140><strong>Strecken</strong></td>\n<td style=text-align: center\; w
 idth=81><strong>HM </strong><strong>bergauf</strong></td>\n<td style=t
 ext-align: center\; width=96><strong>HM </strong><strong>bergab</stron
 g></td></tr>\n<tr><td style=text-align: center\; width=29 height=38>1<
 /td>\n<td style=text-align: center\; width=184> Kirchensittenbach</td>
 \n<td style=text-align: center\; width=166>Unterkrumbach</td>\n<td sty
 le=text-align: center\; width=41>3\,7</td>\n<td style=text-align: cent
 er\; width=56>07:00</td>\n<td style=text-align: center\; width=140>[wp
 filebase tag=file path=&#8217\;lauf/landkreislauf-nuernberger-land/201
 50509/E1_Kirchensittenbach-Unterkrumbach.pdf&#8216\; tpl=thumbnail /]<
 /td>\n<td style=text-align: center\; width=81> 25</td>\n<td style=text
 -align: center\; width=96> 57</td></tr>\n<tr><td style=text-align: cen
 ter\; width=29 height=23>2</td>\n<td style=text-align: center\; width=
 184>Unterkrumbach</td>\n<td style=text-align: center\; width=166>Alfal
 ter</td>\n<td style=text-align: center\; width=41> 7\,3</td>\n<td styl
 e=text-align: center\; width=56> 07:40</td>\n<td style=text-align: cen
 ter\; width=140> [wpfilebase tag=file path=&#8217\;lauf/landkreislauf-
 nuernberger-land/20150509/E2_Unterkrumbach-Alfalter.pdf&#8216\; tpl=th
 umbnail /]</td>\n<td style=text-align: center\; width=81>190</td>\n<td
  style=text-align: center\; width=96>174</td></tr>\n<tr><td style=text
 -align: center\; width=29 height=22>3</td>\n<td style=text-align: cent
 er\; width=184> Alfalter</td>\n<td style=text-align: center\; width=16
 6>Vorra</td>\n<td style=text-align: center\; width=41> 5\,3</td>\n<td 
 style=text-align: center\; width=56>08:50</td>\n<td style=text-align: 
 center\; width=140>  [wpfilebase tag=file path=&#8217\;lauf/landkreisl
 auf-nuernberger-land/20150509/E3_Alfalter-Vorra.pdf&#8216\; tpl=thumbn
 ail /]</td>\n<td style=text-align: center\;> 14</td>\n<td style=text-a
 lign: center\;>26</td></tr>\n<tr><td style=text-align: center\; width=
 29 height=23>4</td>\n<td style=text-align: center\; width=184> Vorra</
 td>\n<td style=text-align: center\; width=166>Eschenbach</td>\n<td sty
 le=text-align: center\; width=41> 6\,4</td>\n<td style=text-align: cen
 ter\; width=56> 09:45</td>\n<td style=text-align: center\; width=140> 
  [wpfilebase tag=file path=&#8217\;lauf/landkreislauf-nuernberger-land
 /20150509/E4_Vorra-Eschenbach.pdf&#8216\; tpl=thumbnail /]</td>\n<td s
 tyle=text-align: center\; width=81> 25</td>\n<td style=text-align: cen
 ter\; width=96>37</td></tr>\n<tr><td style=text-align: center\; width=
 29 height=22>5</td>\n<td style=text-align: center\; width=184> Eschenb
 ach</td>\n<td style=text-align: center\; width=166>Pommelsbrunn</td>\n
 <td style=text-align: center\; width=41> 3\,2</td>\n<td style=text-ali
 gn: center\; width=56> 11:00</td>\n<td style=text-align: center\; widt
 h=140> [wpfilebase tag=file path=&#8217\;lauf/landkreislauf-nuernberge
 r-land/20150509/E5_Eschenbach-Pommelsbrunn.pdf&#8216\; tpl=thumbnail /
 ]</td>\n<td style=text-align: center\; width=81> 6</td>\n<td style=tex
 t-align: center\; width=96>6</td></tr>\n<tr><td style=text-align: cent
 er\; width=29 height=23>6</td>\n<td style=text-align: center\; width=1
 84> Pommelsbrunn</td>\n<td style=text-align: center\; width=166> Happu
 rg</td>\n<td style=text-align: center\; width=41> 4\,2</td>\n<td style
 =text-align: center\; width=56> 11:40</td>\n<td style=text-align: cent
 er\; width=140>  [wpfilebase tag=file path=&#8217\;lauf/landkreislauf-
 nuernberger-land/20150509/E6_Pommelsbrunn-Happurg.pdf&#8216\; tpl=thum
 bnail /]</td>\n<td style=text-align: center\; width=81>16</td>\n<td st
 yle=text-align: center\; width=96>18</td></tr>\n<tr><td style=text-ali
 gn: center\; width=29 height=23>7</td>\n<td style=text-align: center\;
  width=184> Happurg</td>\n<td style=text-align: center\; width=166> He
 rsbruck-Weiher</td>\n<td style=text-align: center\; width=41> 6\,7</td
 >\n<td style=text-align: center\; width=56> 12:30</td>\n<td style=text
 -align: center\; width=140> [wpfilebase tag=file path=&#8217\;lauf/lan
 dkreislauf-nuernberger-land/20150509/E7_Happurg-Weiher.pdf&#8216\; tpl
 =thumbnail /]</td>\n<td style=text-align: center\; width=81> 108</td>\
 n<td style=text-align: center\; width=96>104</td></tr>\n<tr><td style=
 text-align: center\; width=29 height=23>8</td>\n<td style=text-align: 
 center\; width=184> Hersbruck-Weiher</td>\n<td style=text-align: cente
 r\; width=166>Henfenfeld</td>\n<td style=text-align: center\; width=41
 > 4\,6</td>\n<td style=text-align: center\; width=56> 13:45</td>\n<td 
 style=text-align: center\; width=140> [wpfilebase tag=file path=&#8217
 \;lauf/landkreislauf-nuernberger-land/20150509/E8_Weiher-Henfenfeld.pd
 f&#8216\; tpl=thumbnail /]</td>\n<td style=text-align: center\; width=
 81>139</td>\n<td style=text-align: center\; width=96>109</td></tr>\n<t
 r><td style=text-align: center\; width=29 height=23>9</td>\n<td style=
 text-align: center\; width=184> Henfenfeld</td>\n<td style=text-align:
  center\; width=166>Engelthal</td>\n<td style=text-align: center\; wid
 th=41> 5\,6</td>\n<td style=text-align: center\; width=56>14:45</td>\n
 <td style=text-align: center\; width=140> [wpfilebase tag=file path=&#
 8217\;lauf/landkreislauf-nuernberger-land/20150509/E9_Henfenfeld-Engel
 thal.pdf&#8216\; tpl=thumbnail /]</td>\n<td style=text-align: center\;
  width=81> 99</td>\n<td style=text-align: center\; width=96>70</td></t
 r>\n<tr><td style=text-align: center\; width=29 height=23>10</td>\n<td
  style=text-align: center\; width=184> Engelthal</td>\n<td style=text-
 align: center\; width=166>Offenhausen</td>\n<td style=text-align: cent
 er\; width=41> 4\,7</td>\n<td style=text-align: center\; width=56> 15:
 45</td>\n<td style=text-align: center\; width=140> [wpfilebase tag=fil
 e path=&#8217\;lauf/landkreislauf-nuernberger-land/20150509/E10_Engelt
 hal-Offenhausen.pdf&#8216\; tpl=thumbnail /]</td>\n<td style=text-alig
 n: center\; width=81>102</td>\n<td style=text-align: center\; width=96
 >113</td></tr>\n<tr><td style=text-align: center\; height=20></td>\n<t
 d style=text-align: center\;></td>\n<td style=text-align: center\;></t
 d>\n<td style=text-align: center\;></td>\n<td style=text-align: center
 \;></td>\n<td style=text-align: center\;></td>\n<td style=text-align: 
 center\;></td>\n<td style=text-align: center\;></td></tr>\n<tr><td sty
 le=text-align: center\; height=20></td>\n<td style=text-align: center\
 ; width=184></td>\n<td style=text-align: center\; width=166><strong>Ge
 samt:</strong></td>\n<td style=text-align: center\;><strong>51\,7</str
 ong></td>\n<td style=text-align: center\;><strong> </strong></td>\n<td
  style=text-align: center\;></td>\n<td style=text-align: center\;></td
 >\n<td style=text-align: center\;></td></tr>\n</tbody>\n</table>\n<p>A
 chtung: Änderungen sind jederzeit möglich. Aktuelle Informationen nur 
 auf der Seite des Veranstalters: <a href=http://www.landkreislauf.de/i
 ndex.php target=_blank>Landkreislauf Nürnberger Land</a></p>\n<p>Die S
 trecken:</p>\n<p>[wpfilebase tag=list id=228 tpl=data-table pagenav=1 
 sort='&lt\;file_name&#8216\; /]</p>\n
URL:https://www.runningsocks.de/wordpress/terminkalender/eventsinglepa
 ge/?event_id=361&lang=de
ATTACH:https://www.runningsocks.de/wordpress/terminkalender/eventsingl
 epage/?event_id=361&lang=de
END:VEVENT
END:VCALENDAR
