BEGIN:VCALENDAR
VERSION:2.0
METHOD:PUBLISH
PRODID:-//hacksw/handcal//NONSGML v1.0//EN
BEGIN:VEVENT
DTSTAMP:20260419T165313Z
DTSTART:20151011T083000Z
DTEND:20151011T120000Z
UID:20151011T083000Z-20151011T120000Z-362@www.runningsocks.de
SUMMARY:24. Schwabacher Citylauf\, RIBE Citylauf
DESCRIPTION:Jedes Jahr am Sonntag nach dem 3. Oktober findet die größt
 e Laufveranstaltung Schwabachs statt\, der Citylauf. Zentraler Schaupl
 atz ist für Start\, Ziel und Siegerehrung der historischer Marktplatz.
 \n\nFür Läuferinnen und Läufer von Nah und Fern ist der Citylauf eine 
 gute Gelegenheit\, seinen Leistungsstand unter Wettkampfbedingungen zu
  messen. Regelmäßig werden über 500 Teilnehmer begrüßt\, von den Bambi
 ni über die Halbmarathonläufer bis hin zu Nordic Walkern. Gerade Inter
 essierte aus der Region können dabei bis fast zur letzten Minute abwar
 ten\, was das Wetter macht\, und sich noch am Lauftag zum Start melden
 .\n\nAlle Informationen rund um den nächsten Citylauf finden sich auf 
 der Homepage des Veranstalters: Angebotene Läufe\, Laufstrecken\, Zeit
 plan\, Teilnehmerinformationen. Langfristig vor dem Start des nächsten
  Laufs wird auch die Möglichkeit freigeschaltet\, sich direkt online a
 nzumelden. Viel Spaß beim Stöbern auf den Seiten\, in den Ergebnislist
 en und Bilderserien der vergangenen Läufe\, und  herzlich willkommen b
 eim Schwabacher Citylauf!\n\nLäufe\, Startzeiten\, Startgeld:\n\n\n\n\
 nUhrzeit\nLauf\nStartgebühr\nNachmeld.\n\n\n10:15 Uhr\nStart Memmert -
  Bambiniläufe 400 m\n3 EUR\n2 EUR\n\n\n10:30 Uhr\nStart Sparkassen - H
 albmarathon 21\,1 km\n18 EUR\n2 EUR\n\n\n10:35 Uhr\nStart Niehoff - Ki
 nderläufe 1200 m\n3 EUR\n2 EUR\n\n\n11:00 Uhr\nStart Stadtwerke-Schwab
 ach - Schülerläufe 1.800 m\n3 EUR\n2 EUR\n\n\nca. 11:30 Uhr\nSiegerehr
 ung Bambiniläufe\n\n\n\n\nca. 12:00 Uhr\nSiegerehrung Kinder- und Schü
 lerläufe\n\n\n\n\n13:00 Uhr\nStart huma - Hobbylauf 5\,3 km\n8 EUR\n2 
 EUR\n\n\n13:05 Uhr\nStart RIBE - Hauptlauf 10 km\n8 EUR\n2 EUR\n\n\n13
 :10 Uhr\nStart AOK - Nordic Walking 5\,3 km\n5 EUR\n2 EUR\n\n\nca. 13:
 15 Uhr\nSiegerehrung Halbmarathon\n\n\n\n\nab ca. 14:15 Uhr\nSiegerehr
 ungen Hobbylauf\, Hauptlauf\, Nordic Walking\n\n\n\n\n\nLeistungen:\n\
 n\n\n» Markierte Laufstrecken\n» Medizinische Versorgung\n\n\n» Streck
 enabsicherung\n» Chip-Zeitnahme\n\n\n» HM: Jeder km ausgeschildert\n» 
 Obst und Getränke am Ziel\n\n\n» 3 Stationen mit Wasser und Isogetränk
 \,\n» Entmüdungsmassagen\n\n\n» Powerriegel auf der HM-Strecke\n» Pers
 önliche Urkunde\n\n\n\nsowie viele weitere Geld- und Sachpreise auf al
 le Strecken und:  Zum 20. Jubiläum wird ein sensationell günstiges Ori
 ginal-Citylauf-Jubiläumsshirt angeboten!\n\nCitylauf Funktionsshirt:\n
 \nBei Bestellung im Rahmen der Anmeldung bis zum 31. August bekommt ma
 n das qualitativ hochwertige Shirt für nur 8\,- Euro! Streng limitiert
 \, nur solange der Vorrat reicht!\n\nFlyer\, Ausschreibung:\n\n[wpfile
 base tag=file path='lauf/schwabacher-citylauf/20151011/20151011_RIBE-C
 itylauf_flyer.pdf' /]\n\nWeitere Info's und Online Anmeldung beim Vera
 nstalter: TV 1848 Schwabach e.V.
X-ALT-DESC;FMTTYPE=text/html:<p>Jedes Jahr am Sonntag nach dem 3. Okto
 ber findet die größte Laufveranstaltung Schwabachs statt\, der Citylau
 f. Zentraler Schauplatz ist für Start\, Ziel und Siegerehrung der hist
 orischer Marktplatz.</p>\n<p>Für Läuferinnen und Läufer von Nah und Fe
 rn ist der Citylauf eine gute Gelegenheit\, seinen Leistungsstand unte
 r Wettkampfbedingungen zu messen. Regelmäßig werden über 500 Teilnehme
 r begrüßt\, von den Bambini über die Halbmarathonläufer bis hin zu Nor
 dic Walkern. Gerade Interessierte aus der Region können dabei bis fast
  zur letzten Minute abwarten\, was das Wetter macht\, und sich noch am
  Lauftag zum Start melden.</p>\n<p>Alle Informationen rund um den näch
 sten Citylauf finden sich auf der Homepage des Veranstalters: Angebote
 ne Läufe\, Laufstrecken\, Zeitplan\, Teilnehmerinformationen. Langfris
 tig vor dem Start des nächsten Laufs wird auch die Möglichkeit freiges
 chaltet\, sich direkt online anzumelden. Viel Spaß beim Stöbern auf de
 n Seiten\, in den Ergebnislisten und Bilderserien der vergangenen Läuf
 e\, und  herzlich willkommen beim Schwabacher Citylauf!</p>\n<p><span 
 style=text-decoration: underline\;>Läufe\, Startzeiten\, Startgeld:<br
 >\n</span></p>\n<table class=moduletable_default border=0>\n<tbody>\n<
 tr><td><strong>Uhrzeit</strong></td>\n<td><strong>Lauf</strong></td>\n
 <td style=text-align: center\;><strong>Startgebühr</strong></td>\n<td 
 style=text-align: center\;><strong>Nachmeld.</strong></td></tr>\n<tr><
 td>10:15 Uhr</td>\n<td>Start <a href=http://www.tv1848schwabach.de/cit
 ylaufprogramm/bambinilauf>Memmert &#8211\; Bambiniläufe 400 m</a></td>
 \n<td style=text-align: center\;>3 EUR</td>\n<td style=text-align: cen
 ter\;>2 EUR</td></tr>\n<tr><td>10:30 Uhr</td>\n<td>Start <a href=http:
 //www.tv1848schwabach.de/citylaufprogramm/halbmarathon-21-1-km>Sparkas
 sen &#8211\; Halbmarathon 21\,1 km</a></td>\n<td style=text-align: cen
 ter\;>18 EUR</td>\n<td style=text-align: center\;>2 EUR</td></tr>\n<tr
 ><td>10:35 Uhr</td>\n<td>Start <a href=http://www.tv1848schwabach.de/c
 itylaufprogramm/kinderlauf target=_self>Niehoff &#8211\; Kinderläufe 1
 200 m</a></td>\n<td style=text-align: center\;>3 EUR</td>\n<td style=t
 ext-align: center\;>2 EUR</td></tr>\n<tr><td>11:00 Uhr</td>\n<td>Start
  <a href=http://www.tv1848schwabach.de/citylaufprogramm/schuelerlauf-1
 -800-m>Stadtwerke-Schwabach &#8211\; Schülerläufe 1.800 m</a></td>\n<t
 d style=text-align: center\;>3 EUR</td>\n<td style=text-align: center\
 ;>2 EUR</td></tr>\n<tr><td>ca. 11:30 Uhr</td>\n<td>Siegerehrung Bambin
 iläufe</td>\n<td style=text-align: center\;></td>\n<td style=text-alig
 n: center\;></td></tr>\n<tr><td>ca. 12:00 Uhr</td>\n<td>Siegerehrung K
 inder- und Schülerläufe</td>\n<td style=text-align: center\;></td>\n<t
 d style=text-align: center\;></td></tr>\n<tr><td>13:00 Uhr</td>\n<td>S
 tart <a href=http://www.tv1848schwabach.de/citylaufprogramm/hobbylauf-
 5-3-km>huma &#8211\; Hobbylauf 5\,3 km</a></td>\n<td style=text-align:
  center\;>8 EUR</td>\n<td style=text-align: center\;>2 EUR</td></tr>\n
 <tr><td>13:05 Uhr</td>\n<td>Start <a href=http://www.tv1848schwabach.d
 e/citylaufprogramm/hauptlauf-10-km>RIBE &#8211\; Hauptlauf 10 km</a></
 td>\n<td style=text-align: center\;>8 EUR</td>\n<td style=text-align: 
 center\;>2 EUR</td></tr>\n<tr><td>13:10 Uhr</td>\n<td>Start <a href=ht
 tp://www.tv1848schwabach.de/citylaufprogramm/nordic-walking-5-3-km>AOK
  &#8211\; Nordic Walking 5\,3 km</a></td>\n<td style=text-align: cente
 r\;>5 EUR</td>\n<td style=text-align: center\;>2 EUR</td></tr>\n<tr><t
 d>ca. 13:15 Uhr</td>\n<td>Siegerehrung Halbmarathon</td>\n<td style=te
 xt-align: center\;></td>\n<td style=text-align: center\;></td></tr>\n<
 tr><td>ab ca. 14:15 Uhr</td>\n<td>Siegerehrungen Hobbylauf\, Hauptlauf
 \, Nordic Walking</td>\n<td style=text-align: center\;></td>\n<td styl
 e=text-align: center\;></td></tr>\n</tbody>\n</table>\n<p><span style=
 text-decoration: underline\;>Leistungen:</span></p>\n<table border=0>\
 n<tbody>\n<tr><td>» Markierte Laufstrecken</td>\n<td>» Medizinische Ve
 rsorgung</td></tr>\n<tr><td>» Streckenabsicherung</td>\n<td>» Chip-Zei
 tnahme</td></tr>\n<tr><td>» HM: Jeder km ausgeschildert</td>\n<td>» Ob
 st und Getränke am Ziel</td></tr>\n<tr><td>» 3 Stationen mit Wasser un
 d Isogetränk\,</td>\n<td>» Entmüdungsmassagen</td></tr>\n<tr><td>» Pow
 erriegel auf der HM-Strecke</td>\n<td>» Persönliche Urkunde</td></tr>\
 n</tbody>\n</table>\n<p>sowie viele weitere Geld- und Sachpreise auf a
 lle Strecken und:  Zum 20. Jubiläum wird ein sensationell günstiges Or
 iginal-Citylauf-Jubiläumsshirt angeboten!</p>\n<p><span style=text-dec
 oration: underline\;>Citylauf Funktionsshirt:</span><br>\n<br>\nBei Be
 stellung im Rahmen der Anmeldung <strong>bis zum 31. August </strong>b
 ekommt man das <a href=http://www.tv1848schwabach.de/fotogalerie/cityl
 auf/beitraege/funktionsshirt2-5675 target=_blank>qualitativ hochwertig
 e Shirt </a>für nur 8\,- Euro! Streng limitiert\, <strong>nur solange 
 der Vorrat reicht</strong>!</p>\n<p><span style=text-decoration: under
 line\;>Flyer\, Ausschreibung:</span><br>\n<br>\n[wpfilebase tag=file p
 ath=&#8217\;lauf/schwabacher-citylauf/20151011/20151011_RIBE-Citylauf_
 flyer.pdf&#8216\; /]</p>\n<p>Weitere Info&#8217\;s und Online Anmeldun
 g beim Veranstalter: <a href=http://www.tv1848schwabach.de/citylauf-ak
 tuelles target=_blank>TV 1848 Schwabach e.V.</a></p>\n
URL:https://www.runningsocks.de/wordpress/terminkalender/eventsinglepa
 ge/?event_id=362&lang=de
ATTACH:https://www.runningsocks.de/wordpress/terminkalender/eventsingl
 epage/?event_id=362&lang=de
LOCATION:Marktplatz Schwabach\, Martkplatz\, Schwabach
END:VEVENT
END:VCALENDAR
