BEGIN:VCALENDAR
VERSION:2.0
METHOD:PUBLISH
PRODID:-//hacksw/handcal//NONSGML v1.0//EN
BEGIN:VEVENT
DTSTAMP:20260419T165905Z
DTSTART:20160702T060000Z
DTEND:20160702T180000Z
UID:20160702T060000Z-20160702T180000Z-363@www.runningsocks.de
SUMMARY:8. 12h MTB Rennen - Schnaittach
DESCRIPTION:12 Stunden auf dem Mountainbike!\nAls Einzelfahrer oder im
  Team! Egal ob Profi oder ambitionierte Breitensportler - Der Spaßfakt
 or steht im Vordergrund. Auf einem abgesteckten Rundkurs fahren die Mo
 untainbikerinnen und Mountainbiker innerhalb von 12 Stunden möglichst 
 viele Runden. Wer am meisten Runden schafft ist Sieger.\n\nDie jährlic
 h steigenden Teilnehmerzahlen beweisen es - diese Art von Mountainbike
  Rennen wird immer beliebter. Daher wurde auch die Idee geboren\, ein 
 eigenes 12h Rennen zu veranstalten. Inzwischen geht das 12h Rennen in 
 die 8. Auflage.\n\nDer RC Schnaittach lädt daher alle Hobby- und Profi
 biker\, sowie alle Sportbegeisterte zu diesem Event ein.\n\nNachdem di
 e Anmeldung am 01.02.2016 um 20:00 startete und wir uns gegen 20:25 an
 melden wollten\, erwartete michdie Überraschung: Es waren zu diesem Ze
 otpunkt schon alle Startplätze für 4er Teams ausgebucht. Ich trug uns 
 auf die Warteliste ein. Nachdem ich bis jetzt nichts vom Veranstalter 
 gehört habe wird es mit dem Start beim diesjährigen 12h Renne nichts w
 erden. Inzwischen habenw ir auch schon anderes geplant.\nKurzinfo:\nTe
 ams:\n\n 	Einzelstarter (Damen\, Herren)\n 	Einzelstarter (Seniorinnen
 \, Senioren\n 	Zweier-Team (Damen\, Herren\, Mixed)\n 	Vierer–Team (Da
 men\, Herren\, Mixed)\n\nStartkontingente: \n\n 	Einzelfahrer: 30 Star
 tplätze\n 	2er-Teams: 40 Startplätze\n 	4er-Teams: 50 Startplätze\n\nS
 trecke:\n\nAusschließlich Wiese\, Wald- und Schotterwege. Rundkurs mit
  ca. 7 km Länge und ca. 100 HM. Streckenlänge und Runden können vom Ve
 ranstalter geändert werden.\n\nStartgeld:\n\n 	Einzelstarter          
  40\,00 € * / 50\,00 €\n 	2er-Mannschaft      80\,00 € * / 100\,00 €\n
  	4er-Mannschaft     160\,00 € * /200\,00 €\n\n* bei Anmeldung bis zum
  31.05.\n\nAnmeldung: 01.02.\n\nAuf Grund der immensen Nachfrage ist e
 ine Anmeldung zwingend am 01.02 otwendig\, um einen der begehrten Star
 tplätze zu ergattern :-)\n\nAnmeldeschluß: 05.06.\n\nDas Startgeld bei
 nhaltet die Verpflegung der Teilnehmer während des Rennens.\n\nWeitere
  Infos und Online Anmeldung beim Veranstalter: Radclub Schnaittachtal 
 e.V.
X-ALT-DESC;FMTTYPE=text/html:<h3 style=text-align: center\;><span styl
 e=text-decoration: underline\;>12 Stunden auf dem Mountainbike!</span>
 </h3>\n<p>Als Einzelfahrer oder im Team! Egal ob &#8222\;Profi&#8220\;
  oder ambitionierte Breitensportler &#8211\; Der Spaßfaktor steht im V
 ordergrund. Auf einem abgesteckten Rundkurs fahren die Mountainbikerin
 nen und Mountainbiker innerhalb von 12 Stunden möglichst viele Runden.
  Wer am meisten Runden schafft ist Sieger.</p>\n<p>Die jährlich steige
 nden Teilnehmerzahlen beweisen es &#8211\; diese Art von Mountainbike 
 Rennen wird immer beliebter. Daher wurde auch die Idee geboren\, ein e
 igenes 12h Rennen zu veranstalten. Inzwischen geht das 12h Rennen in d
 ie 8. Auflage.</p>\n<p>Der RC Schnaittach lädt daher alle Hobby- und P
 rofibiker\, sowie alle Sportbegeisterte zu diesem Event ein.</p>\n<p><
 span style=color: #ff9900\;>Nachdem die Anmeldung am 01.02.2016 um 20:
 00 startete und wir uns gegen 20:25 anmelden wollten\, erwartete michd
 ie Überraschung: Es waren zu diesem Zeotpunkt schon alle Startplätze f
 ür 4er Teams ausgebucht. Ich trug uns auf die Warteliste ein. Nachdem 
 ich bis jetzt nichts vom Veranstalter gehört habe wird es mit dem Star
 t beim diesjährigen 12h Renne nichts werden. Inzwischen habenw ir auch
  schon anderes geplant.</span></p>\n<p style=text-align: justify\;><sp
 an style=text-decoration: underline\;>Kurzinfo:</span></p>\n<p><strong
 >Teams:</strong></p>\n<ul>\n<li>Einzelstarter (Damen\, Herren)</li>\n<
 li>Einzelstarter (Seniorinnen\, Senioren</li>\n<li>Zweier-Team (Damen\
 , Herren\, Mixed)</li>\n<li>Vierer–Team (Damen\, Herren\, Mixed)</li>\
 n</ul>\n<p><strong>Startkontingente: </strong></p>\n<ul>\n<li>Einzelfa
 hrer: 30 Startplätze</li>\n<li>2er-Teams: 40 Startplätze</li>\n<li>4er
 -Teams: 50 Startplätze</li>\n</ul>\n<p><strong>Strecke:</strong><br>\n
 <br>\nAusschließlich Wiese\, Wald- und Schotterwege. Rundkurs mit ca. 
 7 km Länge und ca. 100 HM. Streckenlänge und Runden können vom Veranst
 alter geändert werden.</p>\n<p><strong>Startgeld:</strong></p>\n<ul>\n
 <li>Einzelstarter           40\,00 € * / 50\,00 €</li>\n<li>2er-Mannsc
 haft      80\,00 € * / 100\,00 €</li>\n<li>4er-Mannschaft     160\,00 
 € * /200\,00 €</li>\n</ul>\n<p>* bei Anmeldung bis zum 31.05.</p>\n<p>
 Anmeldung: <strong>01.02.</strong><br>\n<br>\nAuf Grund der immensen N
 achfrage ist eine Anmeldung zwingend am 01.02 otwendig\, um einen der 
 begehrten Startplätze zu ergattern :-)</p>\n<p>Anmeldeschluß: 05.06.</
 p>\n<p>Das Startgeld beinhaltet die Verpflegung der Teilnehmer während
  des Rennens.</p>\n<p>Weitere Infos und Online Anmeldung beim Veransta
 lter: <a href=http://www.12h-rc-schnaittachtal.de/cms/website.php targ
 et=_blank>Radclub Schnaittachtal e.V.</a></p>\n
URL:https://www.runningsocks.de/wordpress/terminkalender/eventsinglepa
 ge/?event_id=363&lang=de
ATTACH:https://www.runningsocks.de/wordpress/terminkalender/eventsingl
 epage/?event_id=363&lang=de
LOCATION:An der Alle / Badstraße\, Badstraße 4\, Schnaittach
END:VEVENT
END:VCALENDAR
