BEGIN:VCALENDAR
VERSION:2.0
METHOD:PUBLISH
PRODID:-//hacksw/handcal//NONSGML v1.0//EN
BEGIN:VEVENT
DTSTAMP:20260419T165514Z
DTSTART:20151231T120000Z
DTEND:20151231T140000Z
UID:20151231T120000Z-20151231T140000Z-364@www.runningsocks.de
SUMMARY:13. Nürnberger Silvesterlauf
DESCRIPTION:Liebe Läuferinnen und Läufer des letztjährigen Silvesterla
 ufs\, es ist wieder soweit. Ab 1. Oktober ist die Online-Anmeldung zum
  Nürnberger Silvesterlauf geöffnet.\nBis 22.11. gibt es Frühbucher Rab
 atte\, also schnell zuschlagen und nicht vergessen.  Erfahrungsgemäß i
 st der Lauf schon vor Ende der Anmeldefrist ausgebucht (Teilnehmerlimi
 t: 1315). Von der Startgebühr wird ein Teil gespendet:\n0\,50 € der St
 artgebühr gehen als Spende an die Wärmestube der Caritas und der Stadt
 mission Nürnberg.\nStart und Ziel:\n\nBeim Café Seehaus auf dem Johann
 -Soergel-Weg direkt vor dem neuen Steg am Wöhrder See\n\nAnmelde\,- St
 artgebühren:\n\nFrühbucherrabatt bis 22.11.\n10 km Hauptlauf: 14€\n5 k
 m Hobbylauf: 10 €\nBambini und Schülerlauf: 4 €\n\nNormalpreis ab 23.1
 1.\n10 km Hauptlauf: 18 €\n5 km Hobbylauf: 12 €\nBambini und Schülerla
 uf: 4 €\n\nNachmeldungen ab 15.12.\n(sofern noch Plätze vorhanden)\n10
  km Hauptlauf: 22 €\n5 km Hobbylauf: 14 €\nBambini und Schülerlauf: 4 
 €\n\nEin Funktionsshirt kann für 13 EUR zusätzlich bei der Anmeldung b
 estellt werden (solange Vorrat reicht)\n\nGutmann Team Cup:\n\nAuch di
 eses Jahr gibt es wieder den Gutmann Team Cup.  Beim 10-km-Hauptlauf w
 erden alle Teams gewertet\, die mit gleichem Vereins- oder Gruppenname
 n (bitte bei der Online-Anmeldung unbedingt auf gleiche Bezeichnung ac
 hten!) eingetragen sind. Gewertet werden alle Teams mit den Zeiten der
  fünf bestplatzierten Finisher. Die Wertung erfolgt immer als Mixed-We
 rtung\, d.h. es erfolgt keine getrennte Frauen- und Männerwertung.\n\n
 Ausschreibung\, Veranstalter\, Anmeldung:\n\nAusschreibung: direkt bei
 m Veranstalter oder hier:\n\n[wpfilebase tag=file path='lauf/silvester
 lauf-nuernberg/20151231/20151231_SilvesterlaufNuernberg_Ausschreibung.
 pdf' /]\n\nOnline Anmeldung: direkt beim Veranstalter\n\nWeitere\, akt
 uelle Info's und Anmeldung beim Veranstalter:\n\nTeam Klinikum Nürnber
 g e. V.
X-ALT-DESC;FMTTYPE=text/html:<p style=text-align: center\;>Liebe Läufe
 rinnen und Läufer des letztjährigen Silvesterlaufs\, es ist wieder sow
 eit. Ab 1. Oktober ist die Online-Anmeldung zum Nürnberger Silvesterla
 uf geöffnet.</p>\n<p>Bis 22.11. gibt es Frühbucher Rabatte\, also schn
 ell zuschlagen und nicht vergessen.  Erfahrungsgemäß ist der Lauf scho
 n vor Ende der Anmeldefrist ausgebucht (Teilnehmerlimit: 1315). Von de
 r Startgebühr wird ein Teil gespendet:</p>\n<p style=text-align: cente
 r\;>0\,50 € der Startgebühr gehen als Spende an die Wärmestube der Car
 itas und der Stadtmission Nürnberg.</p>\n<p><span style=text-decoratio
 n: underline\;><strong>Start und Ziel:</strong></span><br>\n<br>\nBeim
  Café Seehaus auf dem Johann-Soergel-Weg direkt vor dem neuen Steg am 
 Wöhrder See</p>\n<p><span style=text-decoration: underline\;><strong>A
 nmelde\,- Startgebühren:</strong></span></p>\n<p><strong>Frühbucherrab
 att bis 22.11.</strong><br>\n10 km Hauptlauf: 14€<br>\n5 km Hobbylauf:
  10 €<br>\nBambini und Schülerlauf: 4 €</p>\n<p><strong>Normalpreis ab
  23.11.<br>\n</strong>10 km Hauptlauf: 18 €<br>\n5 km Hobbylauf: 12 €<
 br>\nBambini und Schülerlauf: 4 €</p>\n<p><strong>Nachmeldungen ab 15.
 12.<br>\n(sofern noch Plätze vorhanden)<br>\n</strong>10 km Hauptlauf:
  22 €<br>\n5 km Hobbylauf: 14 €<br>\nBambini und Schülerlauf: 4 €</p>\
 n<p>Ein Funktionsshirt kann für 13 EUR zusätzlich bei der Anmeldung be
 stellt werden (solange Vorrat reicht)</p>\n<p><span style=text-decorat
 ion: underline\;><strong>Gutmann Team Cup:</strong></span><br>\n<br>\n
 Auch dieses Jahr gibt es wieder den Gutmann Team Cup.  Beim 10-km-Haup
 tlauf werden alle Teams gewertet\, die mit gleichem Vereins- oder Grup
 pennamen (bitte bei der Online-Anmeldung unbedingt auf gleiche Bezeich
 nung achten!) eingetragen sind. Gewertet werden alle Teams mit den Zei
 ten der fünf bestplatzierten Finisher. Die Wertung erfolgt immer als M
 ixed-Wertung\, d.h. es erfolgt keine getrennte Frauen- und Männerwertu
 ng.</p>\n<p><strong><span style=text-decoration: underline\;>Ausschrei
 bung\, Veranstalter\, Anmeldung:</span></strong><br>\n<br>\nAusschreib
 ung: <a href=http://www.team-klinikum-nuernberg.de/silvesterlauf_start
 seite/silvesterlauf_ausschreibung target=_blank>direkt beim Veranstalt
 er</a> oder hier:</p>\n<p>[wpfilebase tag=file path=&#8217\;lauf/silve
 sterlauf-nuernberg/20151231/20151231_SilvesterlaufNuernberg_Ausschreib
 ung.pdf&#8216\; /]</p>\n<p>Online Anmeldung: <a href=https://www.silve
 sterlauf-nuernberg.de/anmeldung.html target=_blank>direkt beim Veranst
 alter</a></p>\n<p>Weitere\, aktuelle Info&#8217\;s und Anmeldung beim 
 Veranstalter:</p>\n<p><a href=http://www.silvesterlauf-nuernberg.de/ t
 arget=_blank>Team Klinikum Nürnberg e. V.</a></p>\n
URL:https://www.runningsocks.de/wordpress/terminkalender/eventsinglepa
 ge/?event_id=364&lang=de
ATTACH:https://www.runningsocks.de/wordpress/terminkalender/eventsingl
 epage/?event_id=364&lang=de
LOCATION:Wöhrder Wiese\, Wöhrder Wiese\, Nürnberg
END:VEVENT
END:VCALENDAR
