BEGIN:VCALENDAR
VERSION:2.0
METHOD:PUBLISH
PRODID:-//hacksw/handcal//NONSGML v1.0//EN
BEGIN:VEVENT
DTSTAMP:20260419T165617Z
DTSTART:20151114T090000Z
DTEND:20151114T150000Z
UID:20151114T090000Z-20151114T150000Z-365@www.runningsocks.de
SUMMARY:12. Zeiler Waldmarathon
DESCRIPTION:Die Herausforderung im Naturpark Haßberge \n\nTermin: 14. 
 November\n\n\nOrt: Zeil am Main\n\nStart und Ziel: Setzbachbrunnen im 
 Laufpark Zeil\n\nStreckenbeschreibung: Anspruchsvoller Kurs durch den 
 Naturpark Haßberge im Laufpark Zeil auf fast durchgehend befestigten W
 aldwegen. Über den Schlossberg und die Bischofsheimer Höhe führt die S
 trecke Richtung Jägerhäuschen zum Geisgrabenbrunnen. Nach dem Passiere
 n der „Sieben Seen“ und des Bischofsheimer Sees verläuft die Strecke ü
 ber den Fitnesspfad zurück zum Ziel am Setzbachbrunnen. Es gibt zwei S
 traßenüberquerungen auf der Halbmarathonstrecke. Es gilt die Straßenve
 rkehrsordnung. Den Anweisungen der Streckenposten ist Folge zu leisten
 .\n\nVerpflegungsstellen: Alle 5 km mit Mineralwasser\, Tee\, Isogeträ
 nk\, Göller-Max-Energydrink\, Cola\, Malzbier\, Bananen\, Müsliriegeln
 \, Cräcker\, Kuchen.\n\nHöhenmeter (HM): FLESSABANK-Marathon 840 HM\, 
 FRÄNKISCHE-Halbmarathon 420 HM\n\nStartgebühren: \n\nFLESSABANK-Marath
 on: 24 € (Nachmeldung: +11 €) \n\nHalbmarathon: 15 € (Nachmeldung: +10
  €) \n\nWalking/Nordic Walking 21\,1 km: 11 € (Nachmeldung: +9 €) \n\n
 Walking/Nordic Walking 7\,5 km: 9 € (Nachmeldung: +6 €) \n\nStartnumme
 rnausgabe: Rudolf-Winkler-Haus\, Freitag\, von 20.00 bis 22.00 Uhr und
  am Wettkampftag ab 7:30 Uhr bis ca. 1 Std. vor Start des jeweiligen L
 aufes. Sicherheitsnadeln muss jeder bitte selbst mitbringen.\n\nMeldes
 chluss: 08.11.\, 24:00.\n\n\nStartzeiten:\n\n\n\n10:00\nFLESSABANK-Mar
 athon\n42\,195 km \n\n\n10:15\nWalking/Nordic Walking\n21\,1 km\n\n\n\
 n10:30\nWalking/Nordic Walking\n7\,5 km \n\n\n11:00\n\nFRÄNKISCHE-Halb
 marathon\n21\,1 km\n\n\n\n \n\nPreise und Auszeichnungen:\n- FLESSABAN
 K-Marathon:\nJeder Teilnehmer erhält im Ziel eine Medaille\, bei Abgab
 e der Startnummer im Rudolf-Winkler-Haus eine Flasche Marathonwein und
  hat freien Eintritt ins Zeiler Hallenbad. Die drei schnellsten Männer
  und Frauen erhalten Sachpreise und Gutscheine\, ebenso alle Alterskla
 ssensieger (5-Jahreswertung).\n\n-FRÄNKISCHE-Halbmarathon:\nJeder Teil
 nehmer erhält im Ziel eine Medaille\, bei Abgabe der Startnummer im Ru
 dolf-Winkler-Haus eine Flasche Marathonwein und hat freien Eintritt in
 s Zeiler Hallenbad. Die drei schnellsten Männer und Frauen erhalten Sa
 chpreise und Gutscheine\, ebenso alle Altersklassensieger (5-Jahreswer
 tung).\n\n- Walking/Nordic Walking:\nJeder Teilnehmer erhält im Ziel e
 ine Medaille\, bei Abgabe der Startnummer im Rudolf-Winkler-Haus eine 
 Flasche Marathonwein und hat freien Eintritt ins Zeiler Hallenbad.\n\n
 Teamwertung FLESSABANK-Marathon und Halbmarathon: Die fünf teilnehmers
 tärksten Gruppen oder Vereine (Männer und Frauen)\, erhalten:\n1. 30 L
 iter Bier und einen Schinken\n2. 25 Liter Bier und einen Schinken\n3. 
 20 Liter Bier und einen Schinken\n4. 15 Liter Bier und fränkische Haus
 macherwurst\n5. 10 Liter Bier und fränkische Hausmacherwurst\n\n\nWeit
 ere Details\, Info's und Online Anmeldung beim Veranstalter: Zeiler Wa
 ldmarathon\n\nObige Daten © TV 1884 Zeil\, Lauf- und Leichtathletikabt
 eilung „Rote Teufel“
X-ALT-DESC;FMTTYPE=text/html:<p style=text-align: center\;><span style
 =font-size: large\;>Die Herausforderung im Naturpark Haßberge </span><
 /p>\n<p><span style=font-size: x-small\;><br>\n<span style=font-size: 
 small\;><strong>Termin:</strong> 14. November<br>\n</span></span></p>\
 n<p><span style=font-size: small\;><strong>Ort:</strong> Zeil am Main<
 /span></p>\n<p><span style=font-size: small\;><strong>Start und Ziel:<
 /strong> Setzbachbrunnen im Laufpark Zeil</span></p>\n<p><span style=f
 ont-size: small\;><strong>Streckenbeschreibung:</strong> Anspruchsvoll
 er Kurs durch den Naturpark Haßberge im Laufpark Zeil auf fast durchge
 hend befestigten Waldwegen. Über den Schlossberg und die Bischofsheime
 r Höhe führt die Strecke Richtung Jägerhäuschen zum Geisgrabenbrunnen.
  Nach dem Passieren der „Sieben Seen“ und des Bischofsheimer Sees verl
 äuft die Strecke über den Fitnesspfad zurück zum Ziel am Setzbachbrunn
 en. Es gibt zwei Straßenüberquerungen auf der Halbmarathonstrecke. Es 
 gilt die Straßenverkehrsordnung. Den Anweisungen der Streckenposten is
 t Folge zu leisten.</span></p>\n<p><span style=font-size: small\;><str
 ong>Verpflegungsstellen:</strong> Alle 5 km mit Mineralwasser\, Tee\, 
 Isogetränk\, Göller-Max-Energydrink\, Cola\, Malzbier\, Bananen\, Müsl
 iriegeln\, Cräcker\, Kuchen.</span></p>\n<p><span style=font-size: sma
 ll\;><strong>Höhenmeter (HM):</strong> FLESSABANK-Marathon 840 HM\, FR
 ÄNKISCHE-Halbmarathon 420 HM</span></p>\n<p><span style=font-size: sma
 ll\;><strong>Startgebühren:</strong> </span></p>\n<p><span style=font-
 size: small\;>FLESSABANK-Marathon: <strong>24 € </strong>(Nachmeldung:
  +11 €) </span></p>\n<p><span style=font-size: small\;>Halbmarathon: <
 strong>15 € </strong>(Nachmeldung: +10 €) </span></p>\n<p><span style=
 font-size: small\;>Walking/Nordic Walking 21\,1 km: <strong>11 € </str
 ong>(Nachmeldung: +9 €) </span></p>\n<p><span style=font-size: small\;
 >Walking/Nordic Walking 7\,5 km: <strong>9 € </strong>(Nachmeldung: +6
  €) </span></p>\n<p><span style=font-size: small\;><strong>Startnummer
 nausgabe:</strong> Rudolf-Winkler-Haus\, Freitag\, von 20.00 bis 22.00
  Uhr und am Wettkampftag ab 7:30 Uhr bis ca. 1 Std. vor Start des jewe
 iligen Laufes. Sicherheitsnadeln muss jeder bitte selbst mitbringen.</
 span></p>\n<p><strong>Meldeschluss:</strong> 08.11.\, 24:00.<span styl
 e=font-family: Verdana\,Arial\,Helvetica\,sans-serif\;><span style=fon
 t-size: x-small\;><br>\n</span></span></p>\n<p><span style=font-size: 
 small\;><strong>Startzeiten:</strong></span></p>\n<table style=width: 
 404px\; height: 108px\; border=0>\n<tbody>\n<tr><td width=21%><span st
 yle=font-size: small\;>10:00</span></td>\n<td width=49%><span style=fo
 nt-size: small\;>FLESSABANK-Marathon</span></td>\n<td width=30%><span 
 style=font-size: small\;>42\,195 km </span></td></tr>\n<tr><td><span s
 tyle=font-size: small\;>10:15</span></td>\n<td><span style=font-size: 
 small\;>Walking/Nordic Walking</span></td>\n<td><span style=font-size:
  small\;>21\,1 km<br>\n</span></td></tr>\n<tr><td><span style=font-siz
 e: small\;>10:30</span></td>\n<td><span style=font-size: small\;>Walki
 ng/Nordic Walking</span></td>\n<td><span style=font-size: small\;>7\,5
  km </span></td></tr>\n<tr><td><span style=font-size: small\;>11:00<br
 >\n</span></td>\n<td><span style=font-size: small\;>FRÄNKISCHE-Halbmar
 athon</span></td>\n<td><span style=font-size: small\;>21\,1 km</span><
 /td></tr>\n</tbody>\n</table>\n<p>&nbsp\;</p>\n<p><span style=font-siz
 e: small\;><strong>Preise und Auszeichnungen:<br>\n</strong>&#8211\; F
 LESSABANK-Marathon:<br>\nJeder Teilnehmer erhält im Ziel eine Medaille
 \, bei Abgabe der Startnummer im Rudolf-Winkler-Haus eine Flasche Mara
 thonwein und hat freien Eintritt ins Zeiler Hallenbad. Die drei schnel
 lsten Männer und Frauen erhalten Sachpreise und Gutscheine\, ebenso al
 le Altersklassensieger (5-Jahreswertung).</span></p>\n<p><span style=f
 ont-size: small\;>-FRÄNKISCHE-Halbmarathon:<br>\nJeder Teilnehmer erhä
 lt im Ziel eine Medaille\, bei Abgabe der Startnummer im Rudolf-Winkle
 r-Haus eine Flasche Marathonwein und hat freien Eintritt ins Zeiler Ha
 llenbad. Die drei schnellsten Männer und Frauen erhalten Sachpreise un
 d Gutscheine\, ebenso alle Altersklassensieger (5-Jahreswertung).</spa
 n></p>\n<p><span style=font-size: small\;>&#8211\; Walking/Nordic Walk
 ing:<br>\nJeder Teilnehmer erhält im Ziel eine Medaille\, bei Abgabe d
 er Startnummer im Rudolf-Winkler-Haus eine Flasche Marathonwein und ha
 t freien Eintritt ins Zeiler Hallenbad.</span></p>\n<p><span style=fon
 t-size: small\;><strong>Teamwertung </strong><strong>FLESSABANK-</stro
 ng><strong>Marathon und Halbmarathon: </strong>Die fünf teilnehmerstär
 ksten Gruppen oder Vereine (Männer und Frauen)\, erhalten:<br>\n1. 30 
 Liter Bier und einen Schinken<br>\n2. 25 Liter Bier und einen Schinken
 <br>\n3. 20 Liter Bier und einen Schinken<br>\n4. 15 Liter Bier und fr
 änkische Hausmacherwurst<br>\n5. 10 Liter Bier und fränkische Hausmach
 erwurst<br>\n</span></p>\n<p><span style=font-size: small\;>Weitere De
 tails\, Info&#8217\;s und Online Anmeldung beim Veranstalter: <a href=
 http://www.zeiler-waldmarathon.de/ target=_blank>Zeiler Waldmarathon</
 a></span></p>\n<p><span style=font-size: small\;>Obige Daten © TV 1884
  Zeil\, Lauf- und Leichtathletikabteilung „Rote Teufel“<br>\n</span></
 p>\n
URL:https://www.runningsocks.de/wordpress/terminkalender/eventsinglepa
 ge/?event_id=365&lang=de
ATTACH:https://www.runningsocks.de/wordpress/terminkalender/eventsingl
 epage/?event_id=365&lang=de
LOCATION:Setzbachbrunnen im Laufpark Zeil\, Setzbachstraße\, Zeil am M
 ain
END:VEVENT
END:VCALENDAR
