BEGIN:VCALENDAR
VERSION:2.0
METHOD:PUBLISH
PRODID:-//hacksw/handcal//NONSGML v1.0//EN
BEGIN:VEVENT
DTSTAMP:20260419T165113Z
DTSTART:20160409T150000Z
DTEND:20160409T180000Z
UID:20160409T150000Z-20160409T180000Z-366@www.runningsocks.de
SUMMARY:6. IFB HiRo Run 21.1
DESCRIPTION:Schneller\, flacher Rundkurs um den Rothsee. Start und Zie
 l ist Hilpoltstein\nInfos :\n\n\n\nAusschreibung:\nIFB HiRo Run 21.1\n
 \n\nTermin:\nSamstag\, 09.04.2016\n\n\nVeranstalter:\nLa Carrera TriTe
 am Rothsee 09 e.V.\n\n\nStartzeit:\n17:00 Uhr\n\n\nZielschluss:\n20:00
  Uhr\n\n\nStart / Ziel:\nInnenstadt von Hilpoltstein - Marktstraße\n\n
 \nTeilnehmerlimit:\n600 Starter Hauptlauf\, 300 Starter Hobbylauf\n\n\
 nMeldeschluss:\nEntweder wenn das Teilnehmerlimit erreicht ist oder de
 r 05.04.\n\n\nMeldegebühr:\n\n\n	bis 30.11. (für 21\,1Km)\n\n\n	bis 30
 .11. (für 9\,5Km)\n\n\n\n\n	19 € (zuzügl. 2 € + 0\,5 €\, Chip +  Laufm
 aut)\n	8 € (zuzügl. 2 € + 0\,5 €\, Chip +  Laufmaut)\n\n\n\n\n\n\n\n	0
 1.12. - 31.01. (für 21\,1Km)\n\n\n	01.12. - 31.01. (für 9\,5Km)\n\n\n\
 n\n	22 € (zuzügl. 2 € + 0\,5 €\, Chip +  Laufmaut)\n	10 € (zuzügl. 2 €
  + 0\,5 €\, Chip +  Laufmaut)\n\n\n\n\n\n\n\n	01.02. - 02.04. (für 21\
 ,1Km)\n\n\n	01.02. - 02.04. (für 9\,5Km)\n\n\n\n\n	25 € (zuzügl. 2 € +
  0\,5 €\, Chip +  Laufmaut)\n	12 € (zuzügl. 2 € + 0\,5 €\, Chip +  Lau
 fmaut)\n\n\n\n\n Nachmeldungen am Veranstaltunsgtag von 12:00 - 16:00\
 n\n\n	für 21\,1Km\n\n\n	für 9\,5Km\n\n\n\n\n	30 € (zuzügl. 2 € + 0\,5 
 €\, Chip +  Laufmaut)\n	15 € (zuzügl. 2 € + 0\,5 €\, Chip +  Laufmaut)
 \n\n\n\n\nFunktionsshirt\nJeder Teilnehmer erhält für den Aufpreis von
  nur 10 Euro (Angabe bei Anmeldung) beim Start ein HiRo Run Funktionss
 hirt. Bestellung eines Funktionsshirt bei einer Meldung bis zum 31.01.
  möglich\n\n\n\n\n\n\nZugläufer\nfür 1:30h\, 1:45h\, 2:00h\, 2:15h Zie
 lzeit\n\n\nZeitmessung\nEasychip von Davengo\n\n\nInternet mit Ausschr
 eibung\, Meldung und Ergebnissen:\nhttp://www.hiro-run.de\n\n\n\n(Quel
 le: http://www.hiro-run.de/)\n\nAlle weiteren\, aktuellen Infos sowie 
 Online Anmeldung auf der Seite des Veranstalters:  IFB HiRo Run 21.1
X-ALT-DESC;FMTTYPE=text/html:<p style=text-align: center\;>Schneller\,
  flacher Rundkurs um den Rothsee. Start und Ziel ist Hilpoltstein</p>\
 n<p><span style=text-decoration: underline\;><strong>Infos :</strong><
 /span></p>\n<table id=table4 style=width: 700px\; border=1>\n<tbody>\n
 <tr><td align=left valign=top width=150><strong>Ausschreibung:</strong
 ></td>\n<td colspan=2 align=left valign=top width=650><strong>IFB HiRo
  Run 21.1</strong></td></tr>\n<tr><td align=left valign=top width=150>
 <strong>Termin:</strong></td>\n<td colspan=2 align=left valign=top wid
 th=650><strong>Samstag\, 09.04.2016</strong></td></tr>\n<tr><td align=
 left valign=top width=150>Veranstalter:</td>\n<td colspan=2 align=left
  valign=top width=650><a href=http://www.lacarrera-triteam.de/ target=
 _blank>La Carrera TriTeam Rothsee 09 e.V.</a></td></tr>\n<tr><td align
 =left valign=top width=150>Startzeit:</td>\n<td colspan=2 align=left v
 align=top width=650>17:00 Uhr</td></tr>\n<tr><td align=left valign=top
  width=150>Zielschluss:</td>\n<td colspan=2 align=left valign=top widt
 h=650>20:00 Uhr</td></tr>\n<tr><td align=left valign=top width=150>Sta
 rt / Ziel:</td>\n<td colspan=2 align=left valign=top width=650>Innenst
 adt von Hilpoltstein &#8211\; Marktstraße</td></tr>\n<tr><td align=lef
 t valign=top width=150>Teilnehmerlimit:</td>\n<td colspan=2 align=left
  valign=top width=650>600 Starter Hauptlauf\, 300 Starter Hobbylauf</t
 d></tr>\n<tr><td align=left valign=top width=150>Meldeschluss:</td>\n<
 td colspan=2 align=left valign=top width=650>Entweder wenn das Teilneh
 merlimit erreicht ist oder der 05.04.</td></tr>\n<tr><td align=left va
 lign=top width=150>Meldegebühr:</td>\n<td align=left valign=top width=
 325><ul>\n<li>bis 30.11. (für 21\,1Km)</li>\n</ul>\n<ul>\n<li>bis 30.1
 1. (für 9\,5Km)</li>\n</ul></td>\n<td align=left valign=top width=325>
 <ul>\n<li>19 € (zuzügl. 2 € + 0\,5 €\, Chip +  Laufmaut)</li>\n<li>8 €
  (zuzügl. 2 € + 0\,5 €\, Chip +  Laufmaut)</li>\n</ul></td></tr>\n<tr>
 <td align=left valign=top width=150></td>\n<td align=left valign=top w
 idth=325><ul>\n<li>01.12. &#8211\; 31.01. (für 21\,1Km)</li>\n</ul>\n<
 ul>\n<li>01.12. &#8211\; 31.01. (für 9\,5Km)</li>\n</ul></td>\n<td ali
 gn=left valign=top width=325><ul>\n<li>22 € (zuzügl. 2 € + 0\,5 €\, Ch
 ip +  Laufmaut)</li>\n<li>10 € (zuzügl. 2 € + 0\,5 €\, Chip +  Laufmau
 t)</li>\n</ul></td></tr>\n<tr><td align=left valign=top width=150></td
 >\n<td align=left valign=top width=325><ul>\n<li>01.02. &#8211\; 02.04
 . (für 21\,1Km)</li>\n</ul>\n<ul>\n<li>01.02. &#8211\; 02.04. (für 9\,
 5Km)</li>\n</ul></td>\n<td align=left valign=top width=325><ul>\n<li>2
 5 € (zuzügl. 2 € + 0\,5 €\, Chip +  Laufmaut)</li>\n<li>12 € (zuzügl. 
 2 € + 0\,5 €\, Chip +  Laufmaut)</li>\n</ul></td></tr>\n<tr><td align=
 left valign=top width=150> Nachmeldungen am Veranstaltunsgtag von 12:0
 0 &#8211\; 16:00</td>\n<td align=left valign=top width=325><ul>\n<li>f
 ür 21\,1Km</li>\n</ul>\n<ul>\n<li>für 9\,5Km</li>\n</ul></td>\n<td ali
 gn=left valign=top width=325><ul>\n<li>30 € (zuzügl. 2 € + 0\,5 €\, Ch
 ip +  Laufmaut)</li>\n<li>15 € (zuzügl. 2 € + 0\,5 €\, Chip +  Laufmau
 t)</li>\n</ul></td></tr>\n<tr><td align=left valign=top width=150>Funk
 tionsshirt</td>\n<td colspan=2 align=left valign=top width=650>Jeder T
 eilnehmer erhält für den Aufpreis von nur 10 Euro (Angabe bei Anmeldun
 g) beim Start ein <strong>HiRo Run Funktionsshirt.</strong> Bestellung
  eines Funktionsshirt bei einer Meldung bis zum 31.01. möglich</td></t
 r>\n<tr><td align=left valign=top width=150></td>\n<td colspan=2 align
 =left valign=top width=650></td></tr>\n<tr><td align=left valign=top w
 idth=150>Zugläufer</td>\n<td colspan=2 align=left valign=top width=650
 >für 1:30h\, 1:45h\, 2:00h\, 2:15h Zielzeit</td></tr>\n<tr><td align=l
 eft valign=top width=150>Zeitmessung</td>\n<td colspan=2 align=left va
 lign=top width=650>Easychip von Davengo</td></tr>\n<tr><td align=left 
 valign=top width=150>Internet mit Ausschreibung\, Meldung und Ergebnis
 sen:</td>\n<td colspan=2 align=left valign=top width=650><a href=http:
 //www.hiro-run.de/>http://www.hiro-run.de</a></td></tr>\n</tbody>\n</t
 able>\n<p><strong>(Quelle: http://www.hiro-run.de/)</strong></p>\n<p><
 strong>Alle weiteren\, aktuellen Infos sowie Online Anmeldung auf der 
 Seite des Veranstalters:  <a href=http://www.hiro-run.de/>IFB HiRo Run
  21.1</a></strong></p>\n
URL:https://www.runningsocks.de/wordpress/terminkalender/eventsinglepa
 ge/?event_id=366&lang=de
ATTACH:https://www.runningsocks.de/wordpress/terminkalender/eventsingl
 epage/?event_id=366&lang=de
LOCATION:Marktstrasse Hilpoltstein\, Marktstrasse 16\, Hilpoltstein
END:VEVENT
END:VCALENDAR
