BEGIN:VCALENDAR
VERSION:2.0
METHOD:PUBLISH
PRODID:-//hacksw/handcal//NONSGML v1.0//EN
BEGIN:VEVENT
DTSTAMP:20260419T165515Z
DTSTART:20160306T093000Z
DTEND:20160306T113000Z
UID:20160306T093000Z-20160306T113000Z-368@www.runningsocks.de
SUMMARY:23. Finish Line Rothseelauf
DESCRIPTION:Die erste Probe im Frühjahr und seit Jahren ein Klassiker 
 !\nStrecken:\n\n\n	5\,2 Km\, Hobbylauf\, 1 Runde um den kleinen Rothse
 e\n	10\,4Km\, Hauptlauf\, 2 Runden um den kleinen Rothsee\n\nStartgeld
 :\n\n\n	Hobbylauf: 9\,00 EUR\n	Hauptlauf: 11\,00 EUR\n	Nachmeldungen: 
 3\,00 EUR\n\nAnmeldungen:\n\nBis zum 04.03. online möglich. Nachmeldun
 gen gelten ab 05.03. und sind nur noch bei Finish-Line Nürnberg oder b
 is 1Std. vor dem Start des jeweiligen Laufes vor Ort möglich.\n\nZeite
 n:\n\n	Abholung Unterlagen: ab 08:00 - 8:30 (Hobbylauf) bzw. 08:00 - 9
 :30 (Hauptlauf)\n	Start Hobbylauf: 09:30\n	Start Hauptlauf: 10:30\n\nW
 eitere Info's wie immer direkt beim Veranstalter: runningConcepts\nAus
 schreibung:\nrunningConcepts
X-ALT-DESC;FMTTYPE=text/html:<p style=text-align: center\;><strong>Die
  erste Probe im Frühjahr und seit Jahren ein Klassiker !</strong></p>\
 n<p style=text-align: justify\;><strong><span style=text-decoration: u
 nderline\;>Strecken:</span></strong></p>\n<ul>\n<li>5\,2 Km\, Hobbylau
 f\, 1 Runde um den kleinen Rothsee</li>\n<li>10\,4Km\, Hauptlauf\, 2 R
 unden um den kleinen Rothsee</li>\n</ul>\n<p style=text-align: justify
 \;><span style=text-decoration: underline\;><strong>Startgeld:</strong
 ></span></p>\n<ul>\n<li>Hobbylauf: 9\,00 EUR</li>\n<li>Hauptlauf: 11\,
 00 EUR</li>\n<li>Nachmeldungen: 3\,00 EUR</li>\n</ul>\n<p><span style=
 text-decoration: underline\;><strong>Anmeldungen:</strong></span><br>\
 n<br>\nBis zum 04.03. online möglich. Nachmeldungen gelten ab 05.03. u
 nd sind nur noch bei Finish-Line Nürnberg oder bis 1Std. vor dem Start
  des jeweiligen Laufes vor Ort möglich.</p>\n<p><span style=text-decor
 ation: underline\;><strong>Zeiten:</strong></span></p>\n<ul>\n<li>Abho
 lung Unterlagen: ab 08:00 &#8211\; 8:30 (Hobbylauf) bzw. 08:00 &#8211\
 ; 9:30 (Hauptlauf)</li>\n<li>Start Hobbylauf: 09:30</li>\n<li>Start Ha
 uptlauf: 10:30</li>\n</ul>\n<p style=text-align: justify\;>Weitere Inf
 o&#8217\;s wie immer direkt beim Veranstalter: <a href=http://www.runn
 ingconcepts.de/rothseelauf.html target=_blank>runningConcepts</a></p>\
 n<p style=text-align: justify\;><span style=text-decoration: underline
 \;><strong>Ausschreibung:</strong></span></p>\n<p style=text-align: ju
 stify\;><a href=http://www.runningconcepts.de/rothseelauf.html target=
 _blank>runningConcepts</a></p>\n
URL:https://www.runningsocks.de/wordpress/terminkalender/eventsinglepa
 ge/?event_id=368&lang=de
ATTACH:https://www.runningsocks.de/wordpress/terminkalender/eventsingl
 epage/?event_id=368&lang=de
LOCATION:Strandhaus Birkach\, Birkacher Uferweg 2\, Roth
END:VEVENT
END:VCALENDAR
