BEGIN:VCALENDAR
VERSION:2.0
METHOD:PUBLISH
PRODID:-//hacksw/handcal//NONSGML v1.0//EN
BEGIN:VEVENT
DTSTAMP:20260419T165720Z
DTSTART:20160402T110000Z
DTEND:20160402T140000Z
UID:20160402T110000Z-20160402T140000Z-369@www.runningsocks.de
SUMMARY:13. Stadtwaldlauf Fürth
DESCRIPTION:Anspruchvoller Halbmarathon im Fürther Stadtwald und rund 
 um die Veste\nStrecken: Halbmarathon - 10 km - Schülerläufe\n\nZeitpla
 n:\n\n	11.00 Uhr Start Schülerlauf 3\,0 km (Jahrgang 2001-2003)\n	11.3
 0 Uhr Start Schülerlauf 1\,5 km (Jahrgang 2005-2006)\n	11.45 Uhr Start
  Schülerlauf 1\,5 km (Jahrgang 2007 und jünger)\n	12.00 Uhr Start Bamb
 ini-Lauf 400 m (Jahrgang 2009 und jünger)\n	13.00 Uhr Start Halbmarath
 on\n	13.20 Uhr Start 10-km-Hauptlauf\n	ab 12.15 Uhr Siegerehrungen Sch
 ülerläufe\n	ab 15.00 Uhr Siegerehrungen Erwachsene\n	ab 15.00 Uhr Sieg
 erehrungen Erwachsene\n\nTeilnahmegebühren:\n\n\n	Bambini-Lauf: kosten
 los\n	Schülerläufe: € 5.- (bei Nachmeldung plus € 2.-)\n	10-km-Hauptla
 uf: € 15.- (bei Nachmeldung plus € 4.-)\n	Halbmarathon: € 20.- (bei Na
 chmeldung plus € 4.-)\n\nAusgabe der Startunterlagen: vor Ort ab 10 Uh
 r bis jeweils 1 Stunde vor dem Start\n\nAnmeldung: Ab Januar Online An
 meldung möglich. Nachmeldungen nach Online-Meldeschluß nur noch Vor Or
 t möglich!\nWeitere Info's und Online Anmeldung auf der Seite des Vera
 nstalters: www.lac-quelle.de\nAusschreibung:\nfolgt sobald verfügbar .
 .
X-ALT-DESC;FMTTYPE=text/html:<p style=text-align: center\;><strong>Ans
 pruchvoller Halbmarathon im Fürther Stadtwald und rund um die Veste</s
 trong></p>\n<p><strong>Strecken:</strong> Halbmarathon &#8211\; 10 km 
 &#8211\; Schülerläufe</p>\n<p><strong>Zeitplan:</strong></p>\n<ul>\n<l
 i>11.00 Uhr Start Schülerlauf 3\,0 km (Jahrgang 2001-2003)</li>\n<li>1
 1.30 Uhr Start Schülerlauf 1\,5 km (Jahrgang 2005-2006)</li>\n<li>11.4
 5 Uhr Start Schülerlauf 1\,5 km (Jahrgang 2007 und jünger)</li>\n<li>1
 2.00 Uhr Start Bambini-Lauf 400 m (Jahrgang 2009 und jünger)</li>\n<li
 >13.00 Uhr Start Halbmarathon</li>\n<li>13.20 Uhr Start 10-km-Hauptlau
 f</li>\n<li>ab 12.15 Uhr Siegerehrungen Schülerläufe</li>\n<li>ab 15.0
 0 Uhr Siegerehrungen Erwachsene</li>\n<li>ab 15.00 Uhr Siegerehrungen 
 Erwachsene</li>\n</ul>\n<p><strong>Teilnahmegebühren:<br>\n</strong></
 p>\n<ul>\n<li>Bambini-Lauf: kostenlos</li>\n<li>Schülerläufe: € 5.- (b
 ei Nachmeldung plus € 2.-)</li>\n<li>10-km-Hauptlauf: € 15.- (bei Nach
 meldung plus € 4.-)</li>\n<li>Halbmarathon: € 20.- (bei Nachmeldung pl
 us € 4.-)</li>\n</ul>\n<p><strong>Ausgabe der Startunterlagen: </stron
 g>vor Ort ab 10 Uhr bis jeweils 1 Stunde vor dem Start</p>\n<p><strong
 >Anmeldung:</strong> Ab Januar Online Anmeldung möglich. Nachmeldungen
  nach Online-Meldeschluß nur noch Vor Ort möglich!</p>\n<p style=text-
 align: left\;>Weitere Info&#8217\;s und Online Anmeldung auf der Seite
  des Veranstalters: <a href=http://www.lacquelle.de/veranstaltungen/la
 ufveranstaltungen/stadtwaldlauf target=_blank>www.lac-quelle.de</a></p
 >\n<p style=text-align: left\;><strong>Ausschreibung:</strong></p>\n<p
  style=text-align: left\;>folgt sobald verfügbar ..</p>\n
URL:https://www.runningsocks.de/wordpress/terminkalender/eventsinglepa
 ge/?event_id=369&lang=de
ATTACH:https://www.runningsocks.de/wordpress/terminkalender/eventsingl
 epage/?event_id=369&lang=de
LOCATION:TV Fürth 1860 e.V\, Coubertinstraße 2\, Fürth\,
END:VEVENT
END:VCALENDAR
