BEGIN:VCALENDAR
VERSION:2.0
METHOD:PUBLISH
PRODID:-//hacksw/handcal//NONSGML v1.0//EN
BEGIN:VEVENT
DTSTAMP:20260419T165210Z
DTSTART:20100418T080000Z
DTEND:20100418T100000Z
UID:20100418T080000Z-20100418T100000Z-37@www.runningsocks.de
SUMMARY:1. Run & Bike Nürnberg
DESCRIPTION:Zwei Läufer teilen sich ein Fahrrad. Dabei darf der Abstan
 d zwischen dem  Läufer und dem Radfahrer niemals mehr als 10 Meter bet
 ragen. Das “Paar”  kann sich beliebig jederzeit abwechseln.\n\nGestart
 et wird als gemeinsam um 10Uhr am Tiergarten Nürnberg. Jedes Team  bes
 teht aus zwei Teilnehmern. Anfangs absolviert jeder Teilnehmer eine  4
 00 Meter lange Laufstrecke und schlägt anschließend seinen  Teamkamera
 den ab der dann dieselbe Strecke läuft. Sobald der zweite  (eine Bitte
  an alle Frauen\, fühlt euch nicht vernachlässigt wenn wir  jetzt mal 
 nur die männliche Anrede benutzen) wieder da ist\, wartet sein  Partne
 r schon auf dem Mountain- oder Crossbike auf ihn. Gemeinsam legen  bei
 de dann los und begeben sich auf die Rennstrecke. Dabei geht es zu  zw
 eit auf Wanderwegen und kleineren Pfaden durch den Wald. \n\nJedes  Te
 am darf nur ein Rad benutzen\, d.h. dass jeweils einer läuft während  
 der andere sich auf dem Rad erholt und nebenher fährt. Beide dürfen nu
 r  maximal 10 Meter entfernt voneinander sein. Die Sache hat natürlich
  noch  einen Haken! Am schnellsten absolviert man den Parkours nämlich
  indem  sich beide mit dem Laufen abwechseln.\n\nDie Teams absolvieren
  dabei  zwei Runden (17km) auf der normalen Distanz und auf der  Schnu
 pperdistanz für Anfänger nur eine Runde (8\,5km). Gleichzeitig gibt  e
 s auch noch mixed Staffeln und reine Frauen-Staffeln\, wenn ihr also  
 zusammen mit eurer Freundin oder Freund an den Start gehen wollt\, kei
 n  Problem.\n\nBei allen Wettkampf steht natürlich zuallererst der Spa
 ß  im Vordergrund und die schöne Zeit die wir spätestens nach Zieleinl
 auf  alle haben werden \;) Der Wettkampf an sich stellt den Teamgedank
 en in  den Vordergrund\, der leider viel zu oft bei anderen Triathlon-
  und  Ausdauerevents zu kurz kommt!\n\nAm Ende gibt es noch ein Verlei
 hung  mit (wir arbeiten daran) Preisen für jeden Teilnehmer\, außerdem
   natürlich ein leckeres Kuchenbuffet!\n\nWeitere Infos und Anmeldung 
 beim Veranstalter: www.fun-race.org
X-ALT-DESC;FMTTYPE=text/html:<p>Zwei Läufer teilen sich ein Fahrrad. D
 abei darf der Abstand zwischen dem  Läufer und dem Radfahrer niemals m
 ehr als 10 Meter betragen. Das “Paar”  kann sich beliebig jederzeit ab
 wechseln.</p>\n<p>Gestartet wird als gemeinsam um 10Uhr am Tiergarten 
 Nürnberg. Jedes Team  besteht aus zwei Teilnehmern. Anfangs absolviert
  jeder Teilnehmer eine  400 Meter lange Laufstrecke und schlägt anschl
 ießend seinen  Teamkameraden ab der dann dieselbe Strecke läuft. Sobal
 d der zweite  (eine Bitte an alle Frauen\, fühlt euch nicht vernachläs
 sigt wenn wir  jetzt mal nur die männliche Anrede benutzen) wieder da 
 ist\, wartet sein  Partner schon auf dem Mountain- oder Crossbike auf 
 ihn. Gemeinsam legen  beide dann los und begeben sich auf die Rennstre
 cke. Dabei geht es zu  zweit auf Wanderwegen und kleineren Pfaden durc
 h den Wald. </p>\n<p>Jedes  Team darf nur ein Rad benutzen\, d.h. dass
  jeweils einer läuft während  der andere sich auf dem Rad erholt und n
 ebenher fährt. Beide dürfen nur  maximal 10 Meter entfernt voneinander
  sein. Die Sache hat natürlich noch  einen Haken! Am schnellsten absol
 viert man den Parkours nämlich indem  sich beide mit dem Laufen abwech
 seln.</p>\n<p>Die Teams absolvieren dabei  zwei Runden (17km) auf der 
 normalen Distanz und auf der  Schnupperdistanz für Anfänger nur eine R
 unde (8\,5km). Gleichzeitig gibt  es auch noch mixed Staffeln und rein
 e Frauen-Staffeln\, wenn ihr also  zusammen mit eurer Freundin oder Fr
 eund an den Start gehen wollt\, kein  Problem.</p>\n<p>Bei allen Wettk
 ampf steht natürlich zuallererst der Spaß  im Vordergrund und die schö
 ne Zeit die wir spätestens nach Zieleinlauf  alle haben werden \;) Der
  Wettkampf an sich stellt den Teamgedanken in  den Vordergrund\, der l
 eider viel zu oft bei anderen Triathlon- und  Ausdauerevents zu kurz k
 ommt!</p>\n<p>Am Ende gibt es noch ein Verleihung  mit (wir arbeiten d
 aran) Preisen für jeden Teilnehmer\, außerdem  natürlich ein leckeres 
 Kuchenbuffet!</p>\n<p>Weitere Infos und Anmeldung beim Veranstalter: <
 a href=http://www.fun-race.org/termine-ausschreibungen/run-bike-nuernb
 erg-2010/ target=_blank>www.fun-race.org</a></p>\n
URL:https://www.runningsocks.de/wordpress/terminkalender/eventsinglepa
 ge/?event_id=37&lang=de
ATTACH:https://www.runningsocks.de/wordpress/terminkalender/eventsingl
 epage/?event_id=37&lang=de
LOCATION:Tiergarten\, am Tiergarten 30\, Nürnberg
END:VEVENT
END:VCALENDAR
