BEGIN:VCALENDAR
VERSION:2.0
METHOD:PUBLISH
PRODID:-//hacksw/handcal//NONSGML v1.0//EN
BEGIN:VEVENT
DTSTAMP:20260419T165514Z
DTSTART;VALUE=DATE:20160612
DTEND;VALUE=DATE:20160613
UID:20160611T220000Z-20160612T215959Z-370@www.runningsocks.de
SUMMARY:18. Jura Radmarathon\, Lupburg
DESCRIPTION:Jura-Radmarathon - Die etwas andere Veranstaltung in famil
 iärer Atmosphäre\nAktueller Flyer und Streckenpläne zum 18. Jura Radma
 rathon rund um Lupburg:\n\nOnline\, soabld verfügbar .....\n\nOnlinean
 meldung: ab 01.03.\nWeitere Info's und Onlineanmeldung beim Veranstalt
 er: Sportverein 1959 Lupburg e.V
X-ALT-DESC;FMTTYPE=text/html:<p style=text-align: center\;><span style
 =font-size: 18px\;><em>&#8222\;Jura-Radmarathon &#8211\; Die etwas and
 ere Veranstaltung in familiärer Atmosphäre&#8220\;</em></span></p>\n<p
 >Aktueller Flyer und Streckenpläne zum 18. Jura Radmarathon rund um Lu
 pburg:</p>\n<p>Online\, soabld verfügbar &#8230\;..</p>\n<p>Onlineanme
 ldung: ab 01.03.</p>\n<p style=text-align: justify\;>Weitere Info&#821
 7\;s und Onlineanmeldung beim Veranstalter: <a href=http://www.jura-ra
 dmarathon.de target=_blank>Sportverein 1959 Lupburg e.V</a></p>\n
URL:https://www.runningsocks.de/wordpress/terminkalender/eventsinglepa
 ge/?event_id=370&lang=de
ATTACH:https://www.runningsocks.de/wordpress/terminkalender/eventsingl
 epage/?event_id=370&lang=de
LOCATION:Schul- und Sportgelände\, Reiselbergweg 3\, Lupburg
END:VEVENT
END:VCALENDAR
