BEGIN:VCALENDAR
VERSION:2.0
METHOD:PUBLISH
PRODID:-//hacksw/handcal//NONSGML v1.0//EN
BEGIN:VEVENT
DTSTAMP:20260419T165233Z
DTSTART:20151220T090000Z
DTEND:20151220T110000Z
UID:20151220T090000Z-20151220T110000Z-372@www.runningsocks.de
SUMMARY:13. Run & Bike Ungerthal
DESCRIPTION:Inzwischen zum 13. male wird der Run & Bike im schönen Ung
 erthal\, nahe Schawabach\, durchgeführt. Eine kleine Gruppe eingefleis
 chter und verrückter Sportler wird sich bei jeder Witterung den Anford
 erungen der welligen Strecke stellen\, in der Hoffung\, noch einige Ku
 chenstücke und Glühwein nach dem Zieleinlauf zu ergattern :-)\n\nEin R
 un & Bike ist ein besonderer Lauf\, der wie folgt durchgeführt wird:\n
 \nZwei Läufer teilen sich ein Fahrrad. Dabei darf der Abstand zwischen
  dem Läufer und dem Radfahrer niemals mehr als 10 Meter betragen. Das 
 “Paar” kann sich beliebig jederzeit abwechseln.\n\n\n\nStart:\n10.00 U
 hr\, Waldparkplatz im Ungerthal\n\n\nStrecke:\nWellige\, vom öffentlic
 hen Verkehr\ngeschlossene Waldwege\, ca. 17 km\n\n\nKlasseneinteilung:
 \nMänner\, Frauen und gemischte Paare\n\n\nOrganisationsbeitrag:\n15\,
 00€ pro Paar\n\n\nAnmeldung (bis 17.12.):\nHier klicken\n\n\nNachmeldu
 ng:\nVor Ort\, ab 09:00 Uhr\, 20\,00€ pro Paar\n\n\nSonstiges:\nKuchen
 buffet\, Grillen\, Getränke im\nZielraum\, sowie ein Lagerfeuer.\n(kei
 ne Duschmöglichkeiten)\n\n\nSiegerehrung:\nCa. 1/2 Std. nach dem letzt
 en\nZieleinlauf\n\n\nOrganisation\, Ausschreibung:\nHier klicken\n\n\n
 \nQuelle: www.fun-race.org
X-ALT-DESC;FMTTYPE=text/html:<p>Inzwischen zum 13. male wird der Run &
 amp\; Bike im schönen Ungerthal\, nahe Schawabach\, durchgeführt. Eine
  kleine Gruppe eingefleischter und verrückter Sportler wird sich bei j
 eder Witterung den Anforderungen der welligen Strecke stellen\, in der
  Hoffung\, noch einige Kuchenstücke und Glühwein nach dem Zieleinlauf 
 zu ergattern :-)</p>\n<p>Ein Run &amp\; Bike ist ein besonderer Lauf\,
  der wie folgt durchgeführt wird:</p>\n<p>Zwei Läufer teilen sich ein 
 Fahrrad. Dabei darf der Abstand zwischen dem Läufer und dem Radfahrer 
 niemals mehr als 10 Meter betragen. Das “Paar” kann sich beliebig jede
 rzeit abwechseln.</p>\n<table style=border: 1px solid #b0c4de\; width:
  644px\; height: 382px\; border=1 frame=void rules=all align=center>\n
 <tbody>\n<tr><td><span style=font-size: small\;>Start:</span></td>\n<t
 d><span style=font-size: small\;>10.00 Uhr\, Waldparkplatz im Ungertha
 l</span></td></tr>\n<tr><td><span style=font-size: small\;>Strecke:</s
 pan></td>\n<td><span style=font-size: small\;>Wellige\, vom öffentlich
 en Verkehr<br>\ngeschlossene Waldwege\, ca. 17 km</span></td></tr>\n<t
 r><td><span style=font-size: small\;>Klasseneinteilung:</span></td>\n<
 td><span style=font-size: small\;>Männer\, Frauen und gemischte Paare<
 /span></td></tr>\n<tr><td><span style=font-size: small\;>Organisations
 beitrag:</span></td>\n<td><span style=font-size: small\;>15\,00€ pro P
 aar</span></td></tr>\n<tr><td><span style=font-size: small\;>Anmeldung
  (bis 17.12.):</span></td>\n<td><span style=font-size: small\;><a href
 =http://www.fun-race.org/termine target=_blank>Hier klicken</a></span>
 </td></tr>\n<tr><td><span style=font-size: small\;>Nachmeldung:</span>
 </td>\n<td><span style=font-size: small\;>Vor Ort\, ab 09:00 Uhr\, 20\
 ,00€ pro Paar</span></td></tr>\n<tr><td><span style=font-size: small\;
 >Sonstiges:</span></td>\n<td><span style=font-size: small\;>Kuchenbuff
 et\, Grillen\, Getränke im<br>\nZielraum\, sowie ein Lagerfeuer.<br>\n
 (keine Duschmöglichkeiten)</span></td></tr>\n<tr><td><span style=font-
 size: small\;>Siegerehrung:</span></td>\n<td><span style=font-size: sm
 all\;>Ca. 1/2 Std. nach dem letzten<br>\nZieleinlauf</span></td></tr>\
 n<tr><td><span style=font-size: small\;>Organisation\, Ausschreibung:<
 /span></td>\n<td><a href=http://www.fun-race.org/termine target=_blank
 ><span style=font-size: small\;>Hier klicken</span></a></td></tr>\n</t
 body>\n</table>\n<p>Quelle: <a href=http://www.fun-race.org/ target=_b
 lank>www.fun-race.org</a></p>\n
URL:https://www.runningsocks.de/wordpress/terminkalender/eventsinglepa
 ge/?event_id=372&lang=de
ATTACH:https://www.runningsocks.de/wordpress/terminkalender/eventsingl
 epage/?event_id=372&lang=de
LOCATION:Waldparkplatz im Ungerthal\, Ungerthaler Straße\, Büchenbach
END:VEVENT
END:VCALENDAR
