BEGIN:VCALENDAR
VERSION:2.0
METHOD:PUBLISH
PRODID:-//hacksw/handcal//NONSGML v1.0//EN
BEGIN:VEVENT
DTSTAMP:20260419T165532Z
DTSTART:20160806T110000Z
DTEND:20160806T150000Z
UID:20160806T110000Z-20160806T150000Z-373@www.runningsocks.de
SUMMARY:8. Main-Post Mainfrankentriathlon
DESCRIPTION:Der Triathlon im Kitzinger und Würzburger Land\nJedes Jahr
  im August trifft sich eine große Triathlongemeinschaft in Kitzingen e
 in. Mehr als 600 Triathletinnen und Triathleten stellen sich der Herau
 sforderung Triathlon. Der Triathlon mit den kurzen Wegen und einer Wec
 hselzone macht das Organisatorische für den Athleten sehr einfach. Ein
  Highlight ist das schwimmen im Main. Flussabwärts geht es zum Wechsel
  auf die Radstrecke direkt am Mainufer. Nach einer selektiven und land
 schaftlich sehr schönen Radstrecke kommt man wieder zurück und läuft a
 m Fluss entlang über zwei Brücken dem Ziel entgegen (Quelle: http://ww
 w.mainfrankentriathlon.de/index.html)\n\nKurzbeschreibung und Info:\n\
 n\n\nWettkampfstrecken:\nOlympische Distanz 1670m – 40km – 10km\nStaff
 el Olympische Distanz: 1670 m - 40 km - 10 km\nVolkstriathlon Distanz 
 600m – 20km – 5km\nStaffel Volkstriathlon Distanz 600m – 20km – 5km\nL
 andesliga Nord Distanz 600m - 20km - 5km\n\n\nStartgebühr gestaffelt\,
  hier auszugsweise:\n\nAlle Preise siehe hier\n\n\n 	Startgebühr Olymp
 ische Einzel\, bis 31.03.  50 EUR\n 	Startgebühr Volkstriathlon Einzel
 \, bis 31.03.  40 EUR\n 	Startgebühr Volkstriathlon Jugend\, bis 31.03
 .  40 EUR\n 	Startgebühr Staffel Volkstriathlon\, bis 31.03.  60 EUR\n
  	Startgebühr Staffel Olympische\, bis 31.03.  75 EUR\n\n\n\n\nOlympis
 ch Einzel + Staffel Start:\n13:00 Uhr Start Sandstrand am Main Richtun
 g Mainstockheim gegenüber blauem Haus am Ende der Häuserreihe (Bustran
 sfer)\n\n\nVolkstriathlon Einzel + Staffel Start:\n13:25 Uhr Start Boo
 tshaus zusammen mit der Landesliga Nord\nHier müssen die Teilnehmer zu
  Fuß mainaufwärts hinlaufen.\n\n\n\nDie Veranstaltung wird nach der gü
 ltigen VAO-”Veranstalter- und Ausrichterordnung” durchgeführt.\n\n\nSt
 art Radfahren\nOlympisch und Staffel Olympisch: 40 km\nVolkstriathlon 
 / Staffel: 20 km\nWiese hinter der Synagoge (Wechselzone)\n\n\nOlympis
 ch Laufen:\nStart Laufen 10 km Wiese hinter der Synagoge (Wechselzone)
 \n\n\nVolkstriathlon / Staffel Laufen:\nStart Laufen 5 km Wiese hinter
  der Synagoge (Wechselzone)\n\n\nTeilnehmerlimit:\n600 Starter\n\n\n\n
 \n\n\nNachmeldung:\nStarttag 09:00 - 11:30 (zus. 10 EUR)\n\n\nStartunt
 erlagenausgabe:\n09:00 – 11:30 Uhr\n\n\n Tageslizenz olympisch Einzel:
 \n16 EUR\n\n\nTransponder SAS\, Leihgebühr\n15 EUR\n\n\nCheckIn:\nin d
 er Wechselzone 9:00 – 11:45 Uhr (Wiese hinter der Synagoge)\n\n\nWettk
 ampfbesprechung:\nin der Wechselzone 11:45 Uhr\, Teilnahme ist Pflicht
 !\n\n\nStart Olympisch:\n13:00 Uhr\n\n\nStart Volkstriathlon / Staffel
 :\n13:25 Uhr\n\n\nTeilnehmerklassen:\nOlympisch: ab JUN (18/19 Jahre) 
 in 5-Jahresschritten gem. SpO\nVolkstriathlon / Staffel: ab JA (16/17 
 J.)\, JUN (18/19 J.)\, AK1 (20/24 J.) in 5-Jahresschritten gem. SpO\nW
 eiter gem. DTU-Sportordnung für beide Klassen.\n\n\n\nAusschreibung: M
 ain-Post Frankentriathlon\n\nAnmeldung: SAS Zeitmesssysteme\n\nAlle we
 iteren Infos und Online Anmeldung direkt beim Veranstalter: Main-Post 
 Frankentriathlon
X-ALT-DESC;FMTTYPE=text/html:<p style=text-align: center\;><span style
 =text-decoration: underline\;><span style=font-family: Arial\,Helvetic
 a\,Geneva\,Sans-serif\,sans-serif\;>Der Triathlon im Kitzinger und Wür
 zburger Land</span></span></p>\n<p style=text-align: center\;>&#8222\;
 Jedes Jahr im August trifft sich eine große Triathlongemeinschaft in K
 itzingen ein. Mehr als 600 Triathletinnen und Triathleten stellen sich
  der Herausforderung Triathlon. Der Triathlon mit den kurzen Wegen und
  einer Wechselzone macht das Organisatorische für den Athleten sehr ei
 nfach. Ein Highlight ist das schwimmen im Main. Flussabwärts geht es z
 um Wechsel auf die Radstrecke direkt am Mainufer. Nach einer selektive
 n und landschaftlich sehr schönen Radstrecke kommt man wieder zurück u
 nd läuft am Fluss entlang über zwei Brücken dem Ziel entgegen&#8220\; 
 (Quelle: http://www.mainfrankentriathlon.de/index.html)</p>\n<h3>Kurzb
 eschreibung und Info:</h3>\n<table id=Tabelle9 style=width: 100%\; bor
 der=1 cellspacing=1 cellpadding=1>\n<tbody>\n<tr><td align=LEFT valign
 =TOP>Wettkampfstrecken:</td>\n<td align=LEFT valign=TOP>Olympische Dis
 tanz 1670m – 40km – 10km<br>\nStaffel Olympische Distanz: 1670 m &#821
 1\; 40 km &#8211\; 10 km<br>\nVolkstriathlon Distanz 600m – 20km – 5km
 <br>\nStaffel Volkstriathlon Distanz 600m – 20km – 5km<br>\nLandesliga
  Nord Distanz 600m &#8211\; 20km &#8211\; 5km</td></tr>\n<tr><td align
 =LEFT valign=TOP>Startgebühr gestaffelt\, hier auszugsweise:</p>\n<p>A
 lle Preise siehe <a href=http://www.mainfrankentriathlon.de/html/aussc
 hreibung.html target=_blank>hier</a></td>\n<td align=LEFT valign=TOP><
 ul>\n<li>Startgebühr Olympische Einzel\, bis 31.03.  50 EUR</li>\n<li>
 Startgebühr Volkstriathlon Einzel\, bis 31.03.  40 EUR</li>\n<li>Start
 gebühr Volkstriathlon Jugend\, bis 31.03.  40 EUR</li>\n<li>Startgebüh
 r Staffel Volkstriathlon\, bis 31.03.  60 EUR</li>\n<li>Startgebühr St
 affel Olympische\, bis 31.03.  75 EUR</li>\n</ul></td></tr>\n<tr><td a
 lign=LEFT valign=TOP>Olympisch Einzel + Staffel Start:</td>\n<td align
 =LEFT valign=TOP>13:00 Uhr Start Sandstrand am Main Richtung Mainstock
 heim gegenüber blauem Haus am Ende der Häuserreihe (Bustransfer)</td><
 /tr>\n<tr><td align=LEFT valign=TOP>Volkstriathlon Einzel + Staffel St
 art:</td>\n<td align=LEFT valign=TOP>13:25 Uhr Start Bootshaus zusamme
 n mit der Landesliga Nord<br>\nHier müssen die Teilnehmer zu Fuß maina
 ufwärts hinlaufen.</td></tr>\n<tr><td></td>\n<td><span style=font-fami
 ly: Arial\,Helvetica\,Geneva\,Sans-serif\,sans-serif\;>Die Veranstaltu
 ng wird nach der gültigen VAO-”Veranstalter- und Ausrichterordnung” du
 rchgeführt.</span></td></tr>\n<tr><td align=LEFT valign=TOP>Start Radf
 ahren</td>\n<td align=LEFT valign=TOP>Olympisch und Staffel Olympisch:
  40 km<br>\nVolkstriathlon / Staffel: 20 km<br>\nWiese hinter der Syna
 goge (Wechselzone)</td></tr>\n<tr><td align=LEFT valign=TOP>Olympisch 
 Laufen:</td>\n<td align=LEFT valign=TOP>Start Laufen 10 km Wiese hinte
 r der Synagoge (Wechselzone)</td></tr>\n<tr><td align=LEFT valign=TOP>
 Volkstriathlon / Staffel Laufen:</td>\n<td align=LEFT valign=TOP>Start
  Laufen 5 km Wiese hinter der Synagoge (Wechselzone)</td></tr>\n<tr><t
 d align=LEFT valign=TOP><strong>Teilnehmerlimit:</strong></td>\n<td al
 ign=LEFT valign=TOP><strong>600 Starter</strong></td></tr>\n</tbody>\n
 </table>\n<table id=Tabelle9 style=width: 100%\; border=1 cellspacing=
 1 cellpadding=1>\n<tbody>\n<tr><td align=LEFT valign=TOP>Nachmeldung:<
 /td>\n<td align=LEFT valign=TOP>Starttag 09:00 &#8211\; 11:30 (zus. 10
  EUR)</td></tr>\n<tr><td align=LEFT valign=TOP>Startunterlagenausgabe:
 </td>\n<td align=LEFT valign=TOP>09:00 – 11:30 Uhr</td></tr>\n<tr><td 
 align=LEFT valign=TOP><span style=font-family: Arial\,Helvetica\,Genev
 a\,Sans-serif\,sans-serif\;> Tageslizenz olympisch Einzel:</span></td>
 \n<td align=LEFT valign=TOP>16 EUR</td></tr>\n<tr><td align=LEFT valig
 n=TOP>Transponder SAS\, Leihgebühr</td>\n<td align=LEFT valign=TOP>15 
 EUR</td></tr>\n<tr><td align=LEFT valign=TOP>CheckIn:</td>\n<td align=
 LEFT valign=TOP>in der Wechselzone 9:00 – 11:45 Uhr (Wiese hinter der 
 Synagoge)</td></tr>\n<tr><td align=LEFT valign=TOP>Wettkampfbesprechun
 g:</td>\n<td align=LEFT valign=TOP>in der Wechselzone 11:45 Uhr\, Teil
 nahme ist Pflicht!</td></tr>\n<tr><td align=LEFT valign=TOP>Start Olym
 pisch:</td>\n<td align=LEFT valign=TOP>13:00 Uhr</td></tr>\n<tr><td al
 ign=LEFT valign=TOP>Start Volkstriathlon / Staffel:</td>\n<td align=LE
 FT valign=TOP>13:25 Uhr</td></tr>\n<tr><td align=LEFT valign=TOP>Teiln
 ehmerklassen:</td>\n<td align=LEFT valign=TOP>Olympisch: ab JUN (18/19
  Jahre) in 5-Jahresschritten gem. SpO<br>\nVolkstriathlon / Staffel: a
 b JA (16/17 J.)\, JUN (18/19 J.)\, AK1 (20/24 J.) in 5-Jahresschritten
  gem. SpO<br>\nWeiter gem. DTU-Sportordnung für beide Klassen.</td></t
 r>\n</tbody>\n</table>\n<p>Ausschreibung: <a href=http://www.mainfrank
 entriathlon.de/html/ausschreibung.html target=_blank>Main-Post Franken
 triathlon</a></p>\n<p>Anmeldung: <a href=https://www.sas-online.net/ev
 entportal/index.php?eID=34 target=_blank>SAS Zeitmesssysteme</a></p>\n
 <p>Alle weiteren Infos und Online Anmeldung direkt beim Veranstalter: 
 <a href=http://www.mainfrankentriathlon.de/index.html>Main-Post Franke
 ntriathlon</a></p>\n
URL:https://www.runningsocks.de/wordpress/terminkalender/eventsinglepa
 ge/?event_id=373&lang=de
ATTACH:https://www.runningsocks.de/wordpress/terminkalender/eventsingl
 epage/?event_id=373&lang=de
LOCATION:Alte Synagoge\, Kitzingen\, Landwehrstraße 1\, Kitzingen
END:VEVENT
END:VCALENDAR
