BEGIN:VCALENDAR
VERSION:2.0
METHOD:PUBLISH
PRODID:-//hacksw/handcal//NONSGML v1.0//EN
BEGIN:VEVENT
DTSTAMP:20260419T165905Z
DTSTART:20151122T090000Z
DTEND:20151122T160000Z
UID:20151122T090000Z-20151122T160000Z-374@www.runningsocks.de
SUMMARY:1. Kulmbacher Crosstriathlon
DESCRIPTION:Zum ersten Mal trägt der ASV Kulmbach in diesem Jahr einen
  Crosstriathlon aus.\nGeschwommen wird im Hallenbad Kulmbach. Der Star
 t erfolgt in Wellen ab 10:00 (bis 12:00). Danach haben die Athleten Ze
 it\, sich auf das Radfahren (MTB) und Laufen vorzubereiten. Das Radfah
 ren und Laufen findet in / und um das Stadion Sportzentrum Weiher stat
 t.\n\nAb 14:00 startet das MTB fahren. Hier sind 4 Runden zu je 4Km zu
  bewältigen. Die Strecke führt über Asphalt\, Forstwegen und Single-Tr
 ails. Wir sind gespannt was uns erwartet! Direkt im Anschluß wird auf 
 die Laufstrecke gewechselt\, hier sind 4 Runde zu je 1\,25Km zu Laufen
 . Bei jeder Runde\, Radfahren oder Laufen\, kommt man durch das Stadio
 n\, was vor allem die Zuschauer erfreuen wird.\n\nAuf Grund des frühwi
 nterlichen Termins ist bei dieser Veranstaltung die aktuelle Wetterlag
 e sicher ausschlaggebend\, für den Zieleinlauf. Bei einer Schneelage t
 un sich selbst hartgesottene mit dem MTB auf Singletrails schwer.\n\nD
 istanzen:\n\n\n\nArt\nDistanz\nBemerkung\n\n\nSchwimmen\n0\,5Km\nHalle
 nbad\n\n\nRadfahren\n16Km\n4x 4Km MTB\, bei jeder Runde durchs Stadion
 \n\n\nLaufen\n5Km\n4x 1\,25Km\, bei jeder Runde durchs Stadion\n\n\n\n
 Zeitplan:\n\n\n\n8.00 Uhr bis 9.30 Uhr\nAbholung der Startunterlagen u
 nd Nachmeldungen im Hallenbad.\n\n\n10.00 Uhr bis 12.00 Uhr\nSchwimmst
 arts in Wellen\, alle 15 Minuten ein Start\, im Hallenbad.\n\n\n13.15 
 Uhr\nWettkampfbesprechung in der Wechselzone.\n\n\nAb 13.30 Uhr\nStart
 aufstellung zum MTB Start im Stadion Sportzentrum Weiher\n\n\n13.45 Uh
 r\nKontrolle der Ablauflängen in der Startaufstellung bei Teilnehmern 
 unter 18 Jahren.\n\n\nUm 14.00 Uhr\nMTB-Start im Stadion Sportzentrum 
 Weiher.\n\n\nCa. 17.00 Uhr\nSiegerehrung mit Tombola im Sportzentrum W
 eiher.\n\n\n\nStartgebühr:\n\n\n\nCross-Triathlon Einzel (500m – 16km 
 – 5km):\n19\,00 Euro\n\n\nCross-Triathlon Staffel (500m – 16km – 5km):
 \n24\,00 Euro\n\n\n\nAnmeldung:\n\nOnline bis 21.11.\n\nNachmeldung:\n
 \nAm 22.11. von 08:00 - 09:00 vor Ort. Nachmeldegebühr: 5 EUR\n\nAlle 
 Daten und Informationen ohne Gewähr. Aktuelle Informationen und Online
 anmeldung deriekt beim Veranstalter: ASV Kulmbach\n\nAusschreibung:\n\
 n[wpfilebase tag=file path='triathlon/kulmbacher-crosstriathlon/201511
 22/20151122_KulmbacherCrossTri_Ausschreibung.pdf' /]
X-ALT-DESC;FMTTYPE=text/html:<p style=text-align: center\;>Zum ersten 
 Mal trägt der ASV Kulmbach in diesem Jahr einen Crosstriathlon aus.</p
 >\n<p>Geschwommen wird im Hallenbad Kulmbach. Der Start erfolgt in Wel
 len ab 10:00 (bis 12:00). Danach haben die Athleten Zeit\, sich auf da
 s Radfahren (MTB) und Laufen vorzubereiten. Das Radfahren und Laufen f
 indet in / und um das Stadion Sportzentrum Weiher statt.</p>\n<p>Ab 14
 :00 startet das MTB fahren. Hier sind 4 Runden zu je 4Km zu bewältigen
 . Die Strecke führt über Asphalt\, Forstwegen und Single-Trails. Wir s
 ind gespannt was uns erwartet! Direkt im Anschluß wird auf die Laufstr
 ecke gewechselt\, hier sind 4 Runde zu je 1\,25Km zu Laufen. Bei jeder
  Runde\, Radfahren oder Laufen\, kommt man durch das Stadion\, was vor
  allem die Zuschauer erfreuen wird.</p>\n<p>Auf Grund des &#8222\;früh
 winterlichen&#8220\; Termins ist bei dieser Veranstaltung die aktuelle
  Wetterlage sicher ausschlaggebend\, für den Zieleinlauf. Bei einer Sc
 hneelage tun sich selbst hartgesottene mit dem MTB auf Singletrails sc
 hwer.</p>\n<p><strong>Distanzen</strong>:</p>\n<table class= aligncent
 er>\n<tbody>\n<tr><td style=text-align: center\;>Art</td>\n<td style=t
 ext-align: center\;>Distanz</td>\n<td style=text-align: center\;>Bemer
 kung</td></tr>\n<tr><td style=text-align: center\;>Schwimmen</td>\n<td
  style=text-align: center\;>0\,5Km</td>\n<td>Hallenbad</td></tr>\n<tr>
 <td style=text-align: center\;>Radfahren</td>\n<td style=text-align: c
 enter\;>16Km</td>\n<td>4x 4Km MTB\, bei jeder Runde durchs Stadion</td
 ></tr>\n<tr><td style=text-align: center\;>Laufen</td>\n<td style=text
 -align: center\;>5Km</td>\n<td>4x 1\,25Km\, bei jeder Runde durchs Sta
 dion</td></tr>\n</tbody>\n</table>\n<p><strong>Zeitplan</strong>:</p>\
 n<table border=0 width=700 cellspacing=2 cellpadding=0>\n<tbody>\n<tr>
 <td valign=top width=300>8.00 Uhr bis 9.30 Uhr</td>\n<td>Abholung der 
 Startunterlagen und Nachmeldungen im Hallenbad.</td></tr>\n<tr><td val
 ign=top>10.00 Uhr bis 12.00 Uhr</td>\n<td>Schwimmstarts in Wellen\, al
 le 15 Minuten ein Start\, im Hallenbad.</td></tr>\n<tr><td valign=top>
 13.15 Uhr</td>\n<td>Wettkampfbesprechung in der Wechselzone.</td></tr>
 \n<tr><td valign=top>Ab 13.30 Uhr</td>\n<td>Startaufstellung zum MTB S
 tart im Stadion Sportzentrum Weiher</td></tr>\n<tr><td valign=top>13.4
 5 Uhr</td>\n<td>Kontrolle der Ablauflängen in der Startaufstellung bei
  Teilnehmern unter 18 Jahren.</td></tr>\n<tr><td valign=top>Um 14.00 U
 hr</td>\n<td>MTB-Start im Stadion Sportzentrum Weiher.</td></tr>\n<tr>
 <td valign=top>Ca. 17.00 Uhr</td>\n<td>Siegerehrung mit Tombola im Spo
 rtzentrum Weiher.</td></tr>\n</tbody>\n</table>\n<p><strong>Startgebüh
 r</strong>:</p>\n<table border=0 width=700 cellspacing=2 cellpadding=0
 >\n<tbody>\n<tr><td valign=top width=450>Cross-Triathlon Einzel (500m 
 – 16km – 5km):</td>\n<td>19\,00 Euro</td></tr>\n<tr><td valign=top>Cro
 ss-Triathlon Staffel (500m – 16km – 5km):</td>\n<td>24\,00 Euro</td></
 tr>\n</tbody>\n</table>\n<p><strong>Anmeldung</strong>:</p>\n<p>Online
  bis 21.11.</p>\n<p><strong>Nachmeldung:</strong><br>\n<br>\nAm 22.11.
  von 08:00 &#8211\; 09:00 vor Ort. Nachmeldegebühr: 5 EUR</p>\n<p>Alle
  Daten und Informationen ohne Gewähr. Aktuelle Informationen und Onlin
 eanmeldung deriekt beim Veranstalter: <a href=http://ausdauersport-kul
 mbach.de/ target=_blank>ASV Kulmbach</a></p>\n<p>Ausschreibung:</p>\n<
 p>[wpfilebase tag=file path=&#8217\;triathlon/kulmbacher-crosstriathlo
 n/20151122/20151122_KulmbacherCrossTri_Ausschreibung.pdf&#8216\; /]</p
 >\n
URL:https://www.runningsocks.de/wordpress/terminkalender/eventsinglepa
 ge/?event_id=374&lang=de
ATTACH:https://www.runningsocks.de/wordpress/terminkalender/eventsingl
 epage/?event_id=374&lang=de
LOCATION:Hallenbad Kulmbach\, Hardenbergstraße 41\, Kulmbach
END:VEVENT
END:VCALENDAR
