BEGIN:VCALENDAR
VERSION:2.0
METHOD:PUBLISH
PRODID:-//hacksw/handcal//NONSGML v1.0//EN
BEGIN:VEVENT
DTSTAMP:20260419T165718Z
DTSTART;VALUE=DATE:20160820
DTEND;VALUE=DATE:20160821
UID:20160819T220000Z-20160820T215959Z-375@www.runningsocks.de
SUMMARY:Traditionales Bierfest Chodovar
DESCRIPTION:Die 500 Jahre alte Tradition des Bierbrauens\, romantische
  Unterkunft inmitten des historischen Anwesens der Familienbierbrau­er
 ei Chodovar\, das Original-Bierspa\, böhmische kulinarische Spezialitä
 ten serviert in einem Restaurant\, dessen Ambiente sich in den aus dem
  12. Jh. stammenden Brauereikellern in einem Felsengewölbe befindet\, 
 und die naturbelassene Landschaft des Böhmischen Waldes… Dies und viel
 es mehr bietet Ihnen das Chodovar Beer Wellness Land an. (Quelle: http
 ://www.chodovar.cz)\n\nSeit einigen Jahren veranstaltet die Brauerei e
 in traditionelles Bierfest im großen Biergarten und dem Brauereigeländ
 e\, jeweils am vorletzten August Wochenende.\n\nProgramm (2015):\n\n 	
 Verkostungen im Brauereifelsen­keller\n 	Programm im Brauereibiergarte
 n ab 13.00 bis 01.00 Uhr\n 	Bierbrauerei- Besichtigungen mit Überrasch
 ung\n 	„Chodovarexpress“ – Fahrten mit den extra Zügen aus Pilsen und 
 Karlsbad\n\nProgramm (2016 in Cz): Bierfest 2016
X-ALT-DESC;FMTTYPE=text/html:<p><strong>&#8222\;Die 500 Jahre alte Tra
 dition</strong> des Bierbrauens\, <strong>romantische Unterkunft</stro
 ng> inmitten des historischen Anwesens der Familienbierbrau­erei Chodo
 var\, das <strong>Original-Bierspa</strong>\, böhmische kulinarische S
 pezialitäten serviert <strong>in einem Restaurant\, dessen Ambiente si
 ch in den aus dem 12. Jh. stammenden Brauereikellern in einem Felsenge
 wölbe</strong> befindet\, und die naturbelassene <strong>Landschaft de
 s Böhmischen Waldes</strong>… Dies und vieles mehr bietet Ihnen das <s
 trong>Chodovar Beer Wellness Land</strong> an.&#8220\; (Quelle: http:/
 /www.chodovar.cz)</p>\n<p>Seit einigen Jahren veranstaltet die Brauere
 i ein traditionelles Bierfest im großen Biergarten und dem Brauereigel
 ände\, jeweils am vorletzten August Wochenende.</p>\n<p>Programm (2015
 ):</p>\n<ul>\n<li>Verkostungen im Brauereifelsen­keller</li>\n<li>Prog
 ramm im Brauereibiergarten ab 13.00 bis 01.00 Uhr</li>\n<li>Bierbrauer
 ei- Besichtigungen mit Überraschung</li>\n<li>„Chodovarexpress“ – Fahr
 ten mit den extra Zügen aus Pilsen und Karlsbad</li>\n</ul>\n<p>Progra
 mm (2016 in Cz):<a href=http://www.chodovar.cz/id1261cz-slavnosti-piva
 -2016.htm target=_blank> Bierfest 2016</a></p>\n
URL:https://www.runningsocks.de/wordpress/terminkalender/eventsinglepa
 ge/?event_id=375&lang=de
ATTACH:https://www.runningsocks.de/wordpress/terminkalender/eventsingl
 epage/?event_id=375&lang=de
LOCATION:Brauerei Chodovar\, Pivovarská 107\, Chodová Planá
END:VEVENT
END:VCALENDAR
