BEGIN:VCALENDAR
VERSION:2.0
METHOD:PUBLISH
PRODID:-//hacksw/handcal//NONSGML v1.0//EN
BEGIN:VEVENT
DTSTAMP:20260419T165211Z
DTSTART:20160602T160000Z
DTEND:20160602T180000Z
UID:20160602T160000Z-20160602T180000Z-376@www.runningsocks.de
SUMMARY:13. FunRun Südwest
DESCRIPTION:Nicht zu lang und nicht zu kurz!\n9\,9 km Streckenlänge un
 d seit 2014: 5Km – für Wenigläufer eine gut schaffbare Herausforderung
 \, für Vielläufer ein willkommenes Training. Umso mehr bei dem reizvol
 len Streckenverlauf über Asphalt\, Schotter- und Feldwege.\nLos geht’s
  vom Südwestpark aus Richtung Gebersdorf. Im Wiesengrund führt die Str
 ecke immer der Rednitz entlang gen Fürth. Nach einer Kehrtwende heißt 
 es dann an den grünen Uferzonen neben dem Rhein-Main-Donau-Kanal: Ends
 purt zurück bis zum Südwestpark!\nFür ausreichend Verpflegungsposten e
 ntlang der Strecke ist selbstverständlich gesorgt.\nDie wichtigsten Fa
 kten:\n\n 	Start/Ziel: im Südwestpark\n 	Strecke Läufer/Nordic Walker:
 \n9\,9 km (über Gebersdorf die Rednitz entlang Richtung Fürth\, am Ufe
 r des Main-Donau-Kanals zurück zum Südwestpark)\n 	Strecke Läufer:\n5\
 ,0 km\, Begrenzung auf maximal 400 Läufer (südlich Richtung Main-Donau
 - Kanal entlang – bis zu einer Wende nach ca. 2\,5 km)\n 	Strecke Kind
 er (4 bis 6 Jahre):\neine Runde durch den Südwestpark\n 	Strecke Schül
 er (7 bis 14 Jahre):\neine Runde durch den Südwestpark\n\nAlle Startze
 iten:\n\n 	ab 15:00 Uhr: Nachmeldung und Abholung der Starterunterlage
 n im Start-/Zielbereich\n 	18.00 Uhr: Kinder\n 	18:15 Uhr: Schüler\n 	
 18:30 Uhr: 9\,9 km Läufer\n 	18:35 Uhr: 9\,9 km Walker\n 	18:45 Uhr: 5
  km Läufer\n 	ca. 19:05 Uhr: erster Zieleinlauf\n 	ca. 20:30 Uhr: Sieg
 erehrung\n\nIn der Startgebühr inbegriffen:\n\n 	Transponder-Zeitmessu
 ng\n 	Dusch- und Umkleidemöglichkeiten\n 	Verpflegungsposten auf der S
 trecke\n 	Urkunde (als Online-Ausdruck)\n 	Parkplätze in den Parkhäuse
 rn\n\nUm den wachsenden Organisationsaufwand\,  sowie weiter soziale I
 nitiativen in der Region mit Spenden fördern zu können\, wird ab 2016 
 eine Aufwandsentschädigung für das Funktions Shirt erhoben. Während Ki
 nder/Schüler das Shirt kostenlos überstreifen\, können es Erwachsene g
 egen eine Aufwandspauschale von sieben Euro bei der Registrierung in d
 er Wunschgröße mit bestellen. T-Shirt Bestellungen sind nur bis 31.03.
  möglich!\nAnmeldungen und Startgebühren:\n\n\n\n\nFrühbucherpreis \n\
 n(bis 31.03.)\nNormaler Preis\n\n(ab 01.04.)\n\n\n\n\nEinzelläufer Erw
 achsen\n12 €\n14 €\n\n\nGruppe Erwachsen\n10 €\n12 €\n\n\nFunktions-Sh
 irt (nur bis 31.03.)\n7 €\n-\n\n\nEinzelläufer/Gruppe Kind/Schüler\nko
 stenlos\n4 €\n\n\n\n\n\nONLINE-Anmeldeschluss\nist der 29.05.\n\nAnmel
 dung vor Ort\nam 02.06. ab 15 Uhr\n\n\nWeitere Info's beim Veranstalte
 r: SÜD-WEST-PARK Management GmbH sowie Online Anmeldungen\n\nAlle Info
 's ©FunRun Südwest\n\nAusschreibung:\n\n[wpfilebase tag=file path='lau
 f/funrunsuedwest/20160602/20160602_FunRun-Suedwest_Ausschreibung.pdf' 
 /]
X-ALT-DESC;FMTTYPE=text/html:<h2>Nicht zu lang und nicht zu kurz!</h2>
 \n<p style=text-align: justify\;>9\,9 km Streckenlänge und seit 2014: 
 5Km – für Wenigläufer eine gut schaffbare Herausforderung\, für Viellä
 ufer ein willkommenes Training. Umso mehr bei dem reizvollen Streckenv
 erlauf über Asphalt\, Schotter- und Feldwege.<br>\nLos geht’s vom Südw
 estpark aus Richtung Gebersdorf. Im Wiesengrund führt die Strecke imme
 r der Rednitz entlang gen Fürth. Nach einer Kehrtwende heißt es dann a
 n den grünen Uferzonen neben dem Rhein-Main-Donau-Kanal: Endspurt zurü
 ck bis zum Südwestpark!</p>\n<p>Für ausreichend Verpflegungsposten ent
 lang der Strecke ist selbstverständlich gesorgt.</p>\n<h3><strong>Die 
 wichtigsten Fakten:</strong></h3>\n<ul>\n<li><strong>Start/Ziel:</stro
 ng> im Südwestpark</li>\n<li><strong>Strecke Läufer/Nordic Walker:</st
 rong><br>\n9\,9 km (über Gebersdorf die Rednitz entlang Richtung Fürth
 \, am Ufer des Main-Donau-Kanals zurück zum Südwestpark)</li>\n<li><b>
 Strecke Läufer</b>:<br>\n5\,0 km\, Begrenzung auf maximal 400 Läufer (
 südlich Richtung Main-Donau- Kanal entlang – bis zu einer Wende nach c
 a. 2\,5 km)</li>\n<li><strong>Strecke Kinder (4 bis 6 Jahre):</strong>
 <br>\neine Runde durch den Südwestpark</li>\n<li><strong>Strecke Schül
 er (7 bis 14 Jahre):</strong><br>\neine Runde durch den Südwestpark</l
 i>\n</ul>\n<h3>Alle Startzeiten:</h3>\n<ul>\n<li>ab 15:00 Uhr: Nachmel
 dung und Abholung der Starterunterlagen im Start-/Zielbereich</li>\n<l
 i>18.00 Uhr: Kinder</li>\n<li>18:15 Uhr: Schüler</li>\n<li>18:30 Uhr: 
 9\,9 km Läufer</li>\n<li>18:35 Uhr: 9\,9 km Walker</li>\n<li>18:45 Uhr
 : 5 km Läufer</li>\n<li>ca. 19:05 Uhr: erster Zieleinlauf</li>\n<li>ca
 . 20:30 Uhr: Siegerehrung</li>\n</ul>\n<h3 id=c47><strong>In der Start
 gebühr inbegriffen:</strong></h3>\n<ul>\n<li>Transponder-Zeitmessung</
 li>\n<li>Dusch- und Umkleidemöglichkeiten</li>\n<li>Verpflegungsposten
  auf der Strecke</li>\n<li>Urkunde (als Online-Ausdruck)</li>\n<li>Par
 kplätze in den Parkhäusern</li>\n</ul>\n<p>Um den wachsenden Organisat
 ionsaufwand\,  sowie weiter soziale Initiativen in der Region mit Spen
 den fördern zu können\, wird ab 2016 eine Aufwandsentschädigung für da
 s Funktions Shirt erhoben. Während <strong>Kinder/Schüler das Shirt ko
 stenlos</strong> überstreifen\, können es Erwachsene gegen eine Aufwan
 dspauschale von sieben Euro bei der Registrierung in der Wunschgröße m
 it bestellen. <strong>T-Shirt Bestellungen sind nur bis 31.03. möglich
 !</strong></p>\n<h3>Anmeldungen und Startgebühren:</h3>\n<table>\n<the
 ad>\n<tr><th colspan=1 rowspan=1 scope=col></th>\n<th colspan=1 rowspa
 n=1 scope=col><strong>Frühbucherpreis </strong></p>\n<p><strong>(bis 3
 1.03.)</strong></th>\n<th colspan=1 rowspan=1 scope=col><strong>Normal
 er Preis</strong><br>\n<br>\n(ab 01.04.)</th></tr>\n</thead>\n<tbody>\
 n<tr><td><strong>Einzelläufer Erwachsen</strong></td>\n<td>12 €</td>\n
 <td>14 €</td></tr>\n<tr><td><strong>Gruppe Erwachsen</strong></td>\n<t
 d>10 €</td>\n<td>12 €</td></tr>\n<tr><td><strong>Funktions-Shirt (nur 
 bis 31.03.)</strong></td>\n<td>7 €</td>\n<td>&#8211\;</td></tr>\n<tr><
 td><strong>Einzelläufer/Gruppe Kind/Schüler</strong></td>\n<td>kostenl
 os</td>\n<td>4 €</td></tr>\n</tbody>\n</table>\n<div id=c110>\n<p><str
 ong>ONLINE-Anmeldeschluss</strong><br>\nist der 29.05.</p>\n<p><strong
 >Anmeldung vor Ort</strong><br>\nam 02.06. ab 15 Uhr</p>\n</div>\n<p>W
 eitere Info&#8217\;s beim Veranstalter: <a href=http://www.funrunsuedw
 est.de/ target=_blank>SÜD-WEST-PARK Management GmbH</a> sowie Online <
 a href=http://www.funrunsuedwest.de/anmeldung.html target=_blank>Anmel
 dungen</a></p>\n<p>Alle Info&#8217\;s <a href=http://www.funrunsuedwes
 t.de/ target=_blank>©FunRun Südwest</a></p>\n<p>Ausschreibung:</p>\n<p
 >[wpfilebase tag=file path=&#8217\;lauf/funrunsuedwest/20160602/201606
 02_FunRun-Suedwest_Ausschreibung.pdf&#8216\; /]</p>\n
URL:https://www.runningsocks.de/wordpress/terminkalender/eventsinglepa
 ge/?event_id=376&lang=de
ATTACH:https://www.runningsocks.de/wordpress/terminkalender/eventsingl
 epage/?event_id=376&lang=de
LOCATION:Südwestpark\, Südwestpark 41\, Nürnberg
END:VEVENT
END:VCALENDAR
