BEGIN:VCALENDAR
VERSION:2.0
METHOD:PUBLISH
PRODID:-//hacksw/handcal//NONSGML v1.0//EN
BEGIN:VEVENT
DTSTAMP:20260419T165505Z
DTSTART:20160514T140000Z
DTEND:20160514T153000Z
UID:20160514T140000Z-20160514T153000Z-377@www.runningsocks.de
SUMMARY:14. Leinburger Kirwa Lauf
DESCRIPTION:Der 14. Leinburger Kirwalauf startet 2016 mit mehreren\, k
 omplett neuen Strecken. Die Strecken sollen teilweise einen crossigen 
 Charakter aufweisen\, und durch die schöne\, Leinburger Gegend (genaue
 s wird noch nicht verraten) führen. Da die Streckengenehmigung noch ni
 cht ganz abgeschlossen ist\, kann ich hier vorerst keine Details veröf
 fentlichen.\n\nIn jedem Fall findet der Kirwalauf 2016 statt\, und ich
  (wir) hoffen auf zahlreiche Teilnahmen. Die Anmeldung wird geöffnet\,
  sobald die Strecken und Startzeiten feststehen.\n\nAusschreibung:\n\n
 Auf der Seite des Veranstalters: TV Leinburg\n\nStart / Ziel\n\n\nBrau
 ereihof Bub / Leinburg\n\nLäufe und Startzeiten:\n\n	Kinderlauf 500 m\
 , Start: 15:00h\n	Schülerlauf 1\,5 km\, Start: 15:30h\n	Kirwalauf 4\,5
  km\, Start: 16:10h\n	Nordic Walking 4\,5 km\, Start: 16:10h\n	Kirwala
 uf 8\,5 km\, Start: 16:00h\n\nStartgeld:\n\n	Kinder-/ Schülerlauf     
  2\,00 EUR (€ 2 Nachmeldegebühr nach 13.05.)\n	Kirwalauf / Nordic-Walk
 ing  8\,00 EUR (€ 2 Nachmeldegebühr nach 13.05)\n\nStartnummernausgabe
 :\n\n	14:00h  – 15:00h  im BrauereihofBub\n	Nachmeldungen nur bis: 14:
 00 h\n\nSiegerehrung:\n\n	ca. 18:00h im Brauereihof Bub\n\nWas gibts f
 ür das Startgeld?\n\n	Die 3 Schnellsten jedes Rennens (Kirwalauf)\, we
 iblich & männlich\, erhalten Sachpreise. \n	Zudem erfolgt eine Sachpre
 isverlosung unter allen Teilnehmern.\n\n\nAnmeldung  bis  13. 05. - 19
 :00h bei:\n\nAngela Gruber\nBütenstrasse 7\, 91227 Leinburg\nTelefon: 
 09120 / 18 12 99\nE-Mail: angela.gruber@t-online.de.de\n\nUnd danach n
 och ein Bierchen im Brauereihof
X-ALT-DESC;FMTTYPE=text/html:<p>Der 14. Leinburger Kirwalauf startet 2
 016 mit mehreren\, komplett neuen Strecken. Die Strecken sollen teilwe
 ise einen crossigen Charakter aufweisen\, und durch die schöne\, Leinb
 urger Gegend (genaues wird noch nicht verraten) führen. Da die Strecke
 ngenehmigung noch nicht ganz abgeschlossen ist\, kann ich hier vorerst
  keine Details veröffentlichen.</p>\n<p>In jedem Fall findet der Kirwa
 lauf 2016 statt\, und ich (wir) hoffen auf zahlreiche Teilnahmen. Die 
 Anmeldung wird geöffnet\, sobald die Strecken und Startzeiten feststeh
 en.</p>\n<p><strong>Ausschreibung:</strong><br>\n<br>\nAuf der Seite d
 es Veranstalters: <a href=http://www.tvleinburg.de/skiabteilung/verans
 taltungen.html target=_blank>TV Leinburg</a></p>\n<p><strong>Start / Z
 iel<br>\n</strong><br>\n<br>\nBrauereihof Bub / Leinburg</p>\n<p><stro
 ng>Läufe und Startzeiten:</strong></p>\n<ul>\n<li>Kinderlauf 500 m\, S
 tart: 15:00h</li>\n<li>Schülerlauf 1\,5 km\, Start: 15:30h</li>\n<li>K
 irwalauf 4\,5 km\, Start: 16:10h</li>\n<li>Nordic Walking 4\,5 km\, St
 art: 16:10h</li>\n<li>Kirwalauf 8\,5 km\, Start: 16:00h</li>\n</ul>\n<
 p><strong>Startgeld:</strong></p>\n<ul>\n<li>Kinder-/ Schülerlauf     
  2\,00 EUR (€ 2 Nachmeldegebühr nach 13.05.)</li>\n<li>Kirwalauf / Nor
 dic-Walking  8\,00 EUR (€ 2 Nachmeldegebühr nach 13.05)</li>\n</ul>\n<
 p><strong>Startnummernausgabe:</strong></p>\n<ul>\n<li>14:00h  – 15:00
 h  im BrauereihofBub</li>\n<li>Nachmeldungen nur bis: 14:00 h</li>\n</
 ul>\n<p><strong>Siegerehrung:</strong></p>\n<ul>\n<li>ca. 18:00h im Br
 auereihof Bub</li>\n</ul>\n<p><strong>Was gibts für das Startgeld?</st
 rong></p>\n<ul>\n<li><span style=font-family: Arial\,Helvetica\,sans-s
 erif\; font-size: small\;>Die 3 Schnellsten jedes Rennens (Kirwalauf)\
 , weiblich &amp\; männlich\, erhalten Sachpreise. </span></li>\n<li><s
 pan style=font-family: Arial\,Helvetica\,sans-serif\; font-size: small
 \;>Zudem erfolgt eine Sachpreisverlosung unter allen Teilnehmern.<br>\
 n</span></li>\n</ul>\n<p><strong>Anmeldung  bis  13. 05. &#8211\; 19:0
 0h bei:</strong></p>\n<p><b>Angela Gruber</b><br>\nBütenstrasse 7\, 91
 227 Leinburg<br>\n<b>Telefon:</b> 09120 / 18 12 99<br>\n<b>E-Mail:</b>
  <a id=linkgruen href=mailto:angela.gruber@t-online.de target=_blank>a
 ngela.gruber@t-online.de.de</a></p>\n<p>Und danach noch ein Bierchen i
 m <a href=http://www.leinburger-bier.de/ target=_blank>Brauereihof</a>
 </p>\n
URL:https://www.runningsocks.de/wordpress/terminkalender/eventsinglepa
 ge/?event_id=377&lang=de
ATTACH:https://www.runningsocks.de/wordpress/terminkalender/eventsingl
 epage/?event_id=377&lang=de
LOCATION:Brauereihof Bub\, Marktplatz 14\, Leinburg
END:VEVENT
END:VCALENDAR
