BEGIN:VCALENDAR
VERSION:2.0
METHOD:PUBLISH
PRODID:-//hacksw/handcal//NONSGML v1.0//EN
BEGIN:VEVENT
DTSTAMP:20260419T165720Z
DTSTART:20160619T050000Z
DTEND:20160619T130000Z
UID:20160619T050000Z-20160619T130000Z-378@www.runningsocks.de
SUMMARY:5. Stadttriathlon Forchheim
DESCRIPTION:Im Jahr 2010 ging mit dem 18. Altstadtfest-Triathlon des V
 FB in Forchheim eine Ära zu Ende. Die Weiterführung des beliebten Tria
 thlon stand auf der Kippe. Jedoch führte der SSV Forchheim ab 2012 die
  Tradition des Forchheimer Stadt-Triathlon fort. Und somit findet dies
 es Jahr der nun 5. Stadttriathlon in Forchheim statt. Die Strecken sin
 d für Schüler und Jedermänner ausgerichtet\, und bieten somit für Anfä
 nger\, Fortgeschrittene oder auch Profis einen Anreiz.\n\nStrecken:\n\
 n\n\n\nSchwimmen\nRadfahren\nLaufen\n\n\nLandesliga Nord\n0\,75 Km\n19
  Km\n5 Km\n\n\nJedermann\n0\,5 Km\n19 Km\n5 Km\n\n\nFitnessdistanz\n0\
 ,3 Km\n10 Km\n2\,5 Km\n\n\nSchülerdistanz\n0\,3 Km\n10 Km\n2\,5 Km\n\n
 \n\nZeitplan:\n\n\n\nSamstag\, 18. Juni 2016\n\n\n16:00 - 18:00\nRegis
 trierung und Ausgabe der Startnummern im Königsbad\n\n\nSonntag\, 19. 
 Juni 2016\n\n\n7:00 - 8:30\nRegistrierung und Ausgabe der Startnummern
  im Königsbad für alle Starter\n\n\n7:00 - 8:30\nCheck-In in die Wechs
 elzone am Königsbad\nZum Check in sind mitzubringen Fahrrad und Radhel
 m mit jeweils angebrachter Klebenummer\, Check in mit aufgesetztem und
  geschlossenem Helm sowie alle Laufsachen.\n\n\n8:40\nWettkampfbesprec
 hung für alle Teilnehmer am Außenbecken\, Freibad Käsröthe\nTeilnahme 
 an der Wettkampfbesprechung ist Pflicht!\n\n\nStart ab 9:00\n\n \n\n \
 n\n \n\n \n\n \nDer Start erfolgt in Wellen mit ca. 8 Personen pro 50 
 m-Schwimmbahn\, danach Schwimmstart in Abständen von ca. 15 min. Die S
 tartnummer und Start-Uhrzeit des jeweiligen Athleten wird auf der Home
 page im Vorfeld sowie im Freibad auf der Infotafel angegeben. Die Teil
 nehmer sind selbst dafür verantwortlich\, rechtzeitig im Vorstartberei
 ch einzutreffen.\n\nab ca.  9:00 Jedermann Distanz (500 m) Gruppe 1\n\
 n.....\nbis ca. 10:35 Jedermann Distanz (500 m) Gruppe 7\n\nca. 11:25 
 Schüler & Fitness Distanz (300 m) Gruppe 10\n\nca. 12:00 Landesliga (7
 50 m)\n\n\n10:00 - 15:00\nTriathlon Messe\n\n\n14:00 - 16:00\nCheck-Ou
 t\, Fahrradaushändigung inkl. Wechselbeutel nur an die Teilnehmer gege
 n Vorlage der Startnummer und Rückgabe des Transponders.\n\n\nca. 13:3
 0\nSiegerehrung (alle Distanzen u. Wertungen) im Zielbereich\ndavor To
 mbola (Verlosung vieler schöner Sachpreise)\n\n\n\nStartgelder:\n\n\n\
 nStartgeld\nSchüler         \nFitness \nJedermann   \nStaffel Jederman
 n   \nLandesliga\n\n\nMeldung bis 30. April\n19 €\n24 €\n35 €\n65 €\n3
 5 €\n\n\nMeldung ab 1. Mai\n24 €\n29 €\n39 €\n74 €\n39 €\n\n\n\nOnline
  Anmeldung bis: 10.06.\n\nNachmeldung: 18.06.\, 16:00 bis 18:00\, sofe
 rn noch Startplätze zur VErfügung stehen\n\nNachmeldegebühr: 5 €\n\nAl
 le weiteren\, aktuellen Infos\, sowie Online Anmeldung direkt beim Ver
 anstalter: SSV Forchheim\n\nAusschreibung:\n\n[wpfilebase tag=file pat
 h='triathlon/stadttriathlon-forchheim/20160619/20160619_Ausschreibung_
 Stadttriathlon-Forchheim.pdf' /]
X-ALT-DESC;FMTTYPE=text/html:<p>Im Jahr 2010 ging mit dem 18. Altstadt
 fest-Triathlon des VFB in Forchheim eine Ära zu Ende. Die Weiterführun
 g des beliebten Triathlon stand auf der Kippe. Jedoch führte der SSV F
 orchheim ab 2012 die Tradition des Forchheimer Stadt-Triathlon fort. U
 nd somit findet dieses Jahr der nun 5. Stadttriathlon in Forchheim sta
 tt. Die Strecken sind für Schüler und Jedermänner ausgerichtet\, und b
 ieten somit für Anfänger\, Fortgeschrittene oder auch Profis einen Anr
 eiz.</p>\n<p>Strecken:</p>\n<table class= aligncenter>\n<tbody>\n<tr><
 td></td>\n<td style=text-align: center\;><strong>Schwimmen</strong></t
 d>\n<td style=text-align: center\;><strong>Radfahren</strong></td>\n<t
 d style=text-align: center\;><strong>Laufen</strong></td></tr>\n<tr><t
 d>Landesliga Nord</td>\n<td style=text-align: center\;>0\,75 Km</td>\n
 <td style=text-align: center\;>19 Km</td>\n<td style=text-align: cente
 r\;>5 Km</td></tr>\n<tr><td>Jedermann</td>\n<td style=text-align: cent
 er\;>0\,5 Km</td>\n<td style=text-align: center\;>19 Km</td>\n<td styl
 e=text-align: center\;>5 Km</td></tr>\n<tr><td>Fitnessdistanz</td>\n<t
 d style=text-align: center\;>0\,3 Km</td>\n<td style=text-align: cente
 r\;>10 Km</td>\n<td style=text-align: center\;>2\,5 Km</td></tr>\n<tr>
 <td>Schülerdistanz</td>\n<td style=text-align: center\;>0\,3 Km</td>\n
 <td style=text-align: center\;>10 Km</td>\n<td style=text-align: cente
 r\;>2\,5 Km</td></tr>\n</tbody>\n</table>\n<p>Zeitplan:</p>\n<table bo
 rder=0>\n<tbody>\n<tr><td colspan=2><strong>Samstag\, 18. Juni 2016</s
 trong></td></tr>\n<tr><td>16:00 &#8211\; 18:00</td>\n<td>Registrierung
  und Ausgabe der Startnummern im Königsbad</td></tr>\n<tr><td colspan=
 2><strong>Sonntag\, 19. Juni 2016</strong></td></tr>\n<tr><td>7:00 &#8
 211\; 8:30</td>\n<td>Registrierung und Ausgabe der Startnummern im Kön
 igsbad für alle Starter</td></tr>\n<tr><td align=left valign=top>7:00 
 &#8211\; 8:30</td>\n<td><strong>Check-In in die Wechselzone</strong> a
 m Königsbad<br>\nZum Check in sind mitzubringen Fahrrad und Radhelm mi
 t jeweils angebrachter Klebenummer\, Check in mit aufgesetztem und ges
 chlossenem Helm sowie alle Laufsachen.</td></tr>\n<tr><td>8:40</td>\n<
 td><strong>Wettkampfbesprechung für alle Teilnehmer</strong> am Außenb
 ecken\, Freibad Käsröthe<br>\nTeilnahme an der Wettkampfbesprechung is
 t Pflicht!</td></tr>\n<tr><td valign=top>Start ab 9:00</p>\n<p>&nbsp\;
 </p>\n<p>&nbsp\;</p>\n<p>&nbsp\;</p>\n<p>&nbsp\;</p>\n<p>&nbsp\;</td>\
 n<td>Der Start erfolgt in Wellen mit ca. 8 Personen pro 50 m-Schwimmba
 hn\, danach Schwimmstart in Abständen von ca. 15 min. Die Startnummer 
 und Start-Uhrzeit des jeweiligen Athleten wird auf der Homepage im Vor
 feld sowie im Freibad auf der Infotafel angegeben. Die Teilnehmer sind
  selbst dafür verantwortlich\, rechtzeitig im Vorstartbereich einzutre
 ffen.</p>\n<p>ab ca.  9:00 Jedermann Distanz (500 m) Gruppe 1</p>\n<p>
 &#8230\;..<br>\nbis ca. 10:35 Jedermann Distanz (500 m) Gruppe 7</p>\n
 <p>ca. 11:25 Schüler &amp\; Fitness Distanz (300 m) Gruppe 10</p>\n<p>
 ca. 12:00 Landesliga (750 m)</td></tr>\n<tr><td align=left valign=top>
 10:00 &#8211\; 15:00</td>\n<td><strong>Triathlon Messe</strong></td></
 tr>\n<tr><td>14:00 &#8211\; 16:00</td>\n<td><strong>Check-Ou</strong>t
 \, Fahrradaushändigung inkl. Wechselbeutel nur an die Teilnehmer gegen
  Vorlage der Startnummer und Rückgabe des Transponders.</td></tr>\n<tr
 ><td>ca. 13:30</td>\n<td><strong>Siegerehrung</strong> (alle Distanzen
  u. Wertungen) im Zielbereich<br>\ndavor Tombola (Verlosung vieler sch
 öner Sachpreise)</td></tr>\n</tbody>\n</table>\n<p>Startgelder:</p>\n<
 table border=0>\n<tbody>\n<tr><td>Startgeld</td>\n<td style=text-align
 : center\;><strong>Schüler         </strong></td>\n<td style=text-alig
 n: center\;><strong>Fitness </strong></td>\n<td style=text-align: cent
 er\;><strong>Jedermann   </strong></td>\n<td style=text-align: center\
 ;><strong>Staffel Jedermann   </strong></td>\n<td style=text-align: ce
 nter\;><strong>Landesliga</strong></td></tr>\n<tr><td>Meldung bis 30. 
 April</td>\n<td style=text-align: center\;>19 €</td>\n<td style=text-a
 lign: center\;>24 €</td>\n<td style=text-align: center\;>35 €</td>\n<t
 d style=text-align: center\;>65 €</td>\n<td style=text-align: center\;
 >35 €</td></tr>\n<tr><td>Meldung ab 1. Mai</td>\n<td style=text-align:
  center\;>24 €</td>\n<td style=text-align: center\;>29 €</td>\n<td sty
 le=text-align: center\;>39 €</td>\n<td style=text-align: center\;>74 €
 </td>\n<td style=text-align: center\;>39 €</td></tr>\n</tbody>\n</tabl
 e>\n<p>Online Anmeldung bis: 10.06.</p>\n<p>Nachmeldung: 18.06.\, 16:0
 0 bis 18:00\, sofern noch Startplätze zur VErfügung stehen</p>\n<p>Nac
 hmeldegebühr: 5 €</p>\n<p>Alle weiteren\, aktuellen Infos\, sowie<a hr
 ef=http://www.stadttriathlon-forchheim.de/index.php/anmeldung target=_
 blank> Online Anmeldung</a> direkt beim Veranstalter: <a href=http://w
 ww.stadttriathlon-forchheim.de/ target=_blank>SSV Forchheim</a></p>\n<
 p>Ausschreibung:</p>\n<p>[wpfilebase tag=file path=&#8217\;triathlon/s
 tadttriathlon-forchheim/20160619/20160619_Ausschreibung_Stadttriathlon
 -Forchheim.pdf&#8216\; /]</p>\n
URL:https://www.runningsocks.de/wordpress/terminkalender/eventsinglepa
 ge/?event_id=378&lang=de
ATTACH:https://www.runningsocks.de/wordpress/terminkalender/eventsingl
 epage/?event_id=378&lang=de
LOCATION:Königsbad Forchheim\, Käsröthe 4\, Forchheim
END:VEVENT
END:VCALENDAR
